BEGIN:VCALENDAR
VERSION:2.0
PRODID:-//https://techplay.jp//JP
CALSCALE:GREGORIAN
METHOD:PUBLISH
X-WR-CALDESC:【3/6（金）開催】無料SEOセミナー｜検索上位
 を獲得するための記事構成の作り方
X-WR-CALNAME:【3/6（金）開催】無料SEOセミナー｜検索上位
 を獲得するための記事構成の作り方
X-WR-TIMEZONE:Asia/Tokyo
BEGIN:VTIMEZONE
TZID:Asia/Tokyo
BEGIN:STANDARD
DTSTART:19700101T000000
TZOFFSETFROM:+0900
TZOFFSETTO:+0900
TZNAME:JST
END:STANDARD
END:VTIMEZONE
BEGIN:VEVENT
UID:771635@techplay.jp
SUMMARY:【3/6（金）開催】無料SEOセミナー｜検索上位を獲
 得するための記事構成の作り方
DTSTART;TZID=Asia/Tokyo:20200306T150000
DTEND;TZID=Asia/Tokyo:20200306T170000
DTSTAMP:20260419T120856Z
CREATED:20200213T080519Z
DESCRIPTION:イベント詳細はこちら\nhttps://techplay.jp/event/77163
 5?utm_medium=referral&utm_source=ics&utm_campaign=ics\n\nGoogleの考え
 るユーザーニーズって？\n上位表示する記事構成と調
 査方法とは\n概要\n昨年12月、BERTアップデートを展開す
 るなど、\nGoogleのコンテンツに対する検索意図（イン
 テント）の理解が進んでいます。\n\n2020年には、日本
 でも"音声検索へのシフト"が始まるとも言われており
 、\nコンテンツマーケティングを含めたWeb施策全般に
 おいては、\n「検索ユーザーのニーズ」を無視できな
 い時代が確実にやってきます。\n\nGoogleが考える"ユー
 ザーニーズ"を的確に捉え、\n定量的なアプローチでコ
 ンテンツを制作するために、\n弊社COOの中原が"調査～
 構成"までの実践方法を解説します。\n本セミナーでお
 伝えすること\n\nコンテンツ制作に必要な考え方\n検索
 ユーザーニーズの調査方法\n調査結果から記事の構成
 を作成する方法\n\nこんな悩みをお持ちの方におすすめ
 \n\nコンテンツマーケティングを推進するために何をす
 ればよいかわからない\nWebサイトの順位を上げるため
 に過去色々な方法を試したが効果が出ない\n検索ユー
 ザーのことを考えてコンテンツを作りたいが何をすれ
 ばいいかわからない\nSEOを理解しているつもりだが、
 具体的な調査方法や構成の作り方はわからない\n\nコン
 テンツマーケティングの取り組み初期に陥りやすい、\
 nご担当者様に立ちふさがる壁を"ぶちこわす"内容をお
 届けします。\nセミナー概要\n\n日時 ：2020年3月6日(金) 
 15:00～17:00（受付開始時間14:30～）\n開催場所：〒151-0053
  東京都渋谷区代々木4-33-10 トーシンビル6階 CROCO株式会
 社 セミナールーム\n定員 ：10名\n対象者：コンテンツ
 マーケティングの導入をご検討中の事業者様\n参加費
 ：無料（事前予約制）\n\nお申し込み\nCROCO株式会社 セ
 ミナーページからでもお申し込みが可能です。\n持ち
 物\n\nお名刺1枚\n筆記用具\n\n※当日、会場受付時にお
 名刺をお一人様1枚ご提出願います\n※定員10名のため
 、先着順での申し込み受付となります\n※定員超過の
 場合のお申し込みにつきましては、別途ご連絡差し上
 げます\n登壇者\n\n中原 卓馬\nCROCO株式会社取締役 COO\n
 主にコンテンツマーケティングのコンサルティングを
 担当。 クライアントは上場企業が運営する大手メディ
 アから、アフェリエイトサイトまで幅広い。自らのメ
 ディア運営の経験を基に、コンサルティング内容は、S
 EO対策、既存メディアのPV・CVの改善、メディア担当者
 の教育、サイト改修、新規立ち上げ等、幅広く対応。
 また、専門学校での講師として若者の教育にも力を注
 ぐ。\n \n参加対象\n・コンテンツマーケティングの導入
 をご検討中の事業者様\n※ リクルーティング、勧誘な
 ど、採用目的でのイベント参加はお断りしております
 。 ※ 飲食のみを目的としたご応募・ご来場はご遠慮
 ください。 ※ 補欠者の方は、ご来場いただいてもご
 入場いただくことが出来ませんのでご了承ください。\
 n参加費\n無料\n注意事項\n※ 参加を辞退する場合は、
 詳細ページより申込のキャンセルをお願い致します。
 ※ 無断キャンセル・欠席が続く場合、次回以降の参加
 をお断りさせていただく場合がございますのでご了承
 ください。\n\nご参加を心よりお待ちしております。 
LOCATION:CROCO株式会社 東京都渋谷区代々木4-33-10 トーシン
 ビル6階
URL:https://techplay.jp/event/771635?utm_medium=referral&utm_source=ics&utm
 _campaign=ics
END:VEVENT
END:VCALENDAR
