BEGIN:VCALENDAR
VERSION:2.0
PRODID:-//https://techplay.jp//JP
CALSCALE:GREGORIAN
METHOD:PUBLISH
X-WR-CALDESC:【限定セミナー】先進企業から学ぶ AI人材育
 成の取組み
X-WR-CALNAME:【限定セミナー】先進企業から学ぶ AI人材育
 成の取組み
X-WR-TIMEZONE:Asia/Tokyo
BEGIN:VTIMEZONE
TZID:Asia/Tokyo
BEGIN:STANDARD
DTSTART:19700101T000000
TZOFFSETFROM:+0900
TZOFFSETTO:+0900
TZNAME:JST
END:STANDARD
END:VTIMEZONE
BEGIN:VEVENT
UID:771757@techplay.jp
SUMMARY:【限定セミナー】先進企業から学ぶ AI人材育成の
 取組み
DTSTART;TZID=Asia/Tokyo:20200228T150000
DTEND;TZID=Asia/Tokyo:20200228T180000
DTSTAMP:20260424T220653Z
CREATED:20200214T050846Z
DESCRIPTION:イベント詳細はこちら\nhttps://techplay.jp/event/77175
 7?utm_medium=referral&utm_source=ics&utm_campaign=ics\n\n内容概要\n20
 20年2月28日（金）に、スキルアップAIが人材育成プログ
 ラムを支援するサントリーシステムテクノロジー株式
 会社と、東京海上ホールディングス株式会社と共同で
 、AI人材育成に関する完全招待制のイベント「先進企
 業から学ぶ AI人材育成の取組み」を開催いたします。\
 n経済産業省の調査では、2020年に日本の産業界で4.4万
 人ものAI人材が不足すると予想されています。実際、AI
 エンジニア、プランナーを新規採用だけで確保するの
 が難しい状況が続いており、社内でのAI人材の育成は
 避けては通れない実情です。\nこのような背景の中、
 社内のAI人材育成に挑戦されているサントリーシステ
 ムテクノロジー社、東京海上ホールディングス社の担
 当者様に登壇していただき、AI開発体制や人材育成の
 具体的な取り組みについてご紹介する機会を設けまし
 た。\n業種を超えて活用できるAI人材育成のエッセンス
 を学べる貴重な機会ですので、ぜひご参加ください。\
 nプログラム概要\nセッション１：サントリーシステム
 テクノロジー株式会社 / 野島様\n「AIを業務適用するた
 めにやるべきこと　～人材育成・プロセス整備～」\n
 セッション２：東京海上ホールディングス株式会社/ 
 川村様\n「東京海上グループのデータサイエンス人材
 育成」\nパネルディスカッション\n懇親会\nスピーカー\
 n\nサントリーシステムテクノロジー株式会社 先端技術
 部 / 野島達也様\n\n主にデータベースのパフォーマンス
 チューニングやキャパシティプランニングに従事した
 後、1999年にサントリーシステムテクノロジー株式会社
 （当時は株式会社サンモアテック）に入社。Web、人事
 、経理、生産のシステム開発・運用を経て、2018年から
 サントリーグループにAIを導入・推進する業務に従事
 。その中でシステム部門以外がAIの知識を正しく認識
 する必要性を痛感し、全社向けのAI研修に取り組んで
 いる。\n\n東京海上ホールディングス株式会社 事業戦
 略部・デジタル戦略室 / 川村 雅之様\n\n2010年 東京大学
 大学院 理学系研究科 天文学専攻 修士課程修了。同年 
 大手自動車メーカーに入社。ハイブリッドカーや電気
 自動車に搭載されるリチウムイオン電池の制御開発や
 ビッグデータを用いた劣化推定研究、新規ビジネス検
 証におけるデータ分析業務に従事。2018年 東京海上ホ
 ールディングス株式会社に入社。データサイエンティ
 ストとして様々な分析案件の推進、社内データサイエ
 ンス人材の育成プログラムを手掛ける。2017年 データ
 サイエンスアワード受賞。\n\nスキルアップAI株式会社 
 代表取締役 / 田原 眞一\n\n東京大学大学院新領域創成
 科学研究科修了。新卒でベンチャー企業に入社後、エ
 ンジニアとプロジェクトマネジャーを経験。その後、
 株式会社リクルートコミュニケーションズにて複数のA
 I案件に携わる。現在は、医療業界と金融業界を中心に
 、様々なAI案件をリードする。\n日時\n2月28日(金)　15:00
 -18:00　(開場14:50〜)\n当日のお持ち物\n名刺を2枚お持ち
 ください。\n対象者\nAI人材育成を具体的に検討されて
 いる企業の担当者\n受付・入場時間\n開場は開始時刻の
 10分前です。\n10分以上前にお越しになられますと、会
 場の準備のために外でお待ちいただく場合がございま
 す。ご注意ください。\n会場へのアクセス方法\nベルサ
 ール九段下 room3\n（｢九段下駅｣　5番・7番出口徒歩3
 分）\nhttps://www.bellesalle.co.jp/shisetsu/iidabashi/bs_kudan/access/\
 n〒102-0073 東京都千代田区九段北1-8-10住友不動産九段ビ
 ル3・4F\n\n直接会場にお越しください。\n遅刻される場
 合も直接会場にお越しください。\n\n備考\n広報活動の
 一環として写真/動画の撮影が入ります。写真等はSNSな
 どで掲載される場合があります。予め御了承ください
 。\n運営団体\nスキルアップAI\nhttps://www.skillupai.com/\n
LOCATION:ベルサール九段下 room3 東京都千代田区九段北1-8-1
 0
URL:https://techplay.jp/event/771757?utm_medium=referral&utm_source=ics&utm
 _campaign=ics
END:VEVENT
END:VCALENDAR
