BEGIN:VCALENDAR
VERSION:2.0
PRODID:-//https://techplay.jp//JP
CALSCALE:GREGORIAN
METHOD:PUBLISH
X-WR-CALDESC:｜無料｜東京・広尾｜ データサイエンスアカ
 デミー体験セミナー＜決定木分析編＞
X-WR-CALNAME:｜無料｜東京・広尾｜ データサイエンスアカ
 デミー体験セミナー＜決定木分析編＞
X-WR-TIMEZONE:Asia/Tokyo
BEGIN:VTIMEZONE
TZID:Asia/Tokyo
BEGIN:STANDARD
DTSTART:19700101T000000
TZOFFSETFROM:+0900
TZOFFSETTO:+0900
TZNAME:JST
END:STANDARD
END:VTIMEZONE
BEGIN:VEVENT
UID:772678@techplay.jp
SUMMARY:｜無料｜東京・広尾｜ データサイエンスアカデミ
 ー体験セミナー＜決定木分析編＞
DTSTART;TZID=Asia/Tokyo:20200227T190000
DTEND;TZID=Asia/Tokyo:20200227T210000
DTSTAMP:20260420T044649Z
CREATED:20200221T054646Z
DESCRIPTION:イベント詳細はこちら\nhttps://techplay.jp/event/77267
 8?utm_medium=referral&utm_source=ics&utm_campaign=ics\n\nデータサイ
 エンスアカデミー体験セミナー＜決定木分析編＞\nデ
 ータサイエンスアカデミーの学習方法やプログラム紹
 介しながら、データ分析を体験するセミナーです。\n
 決定木分析とは、ツリーのように要因を分類していく
 分析手法です。\n誰にでも理解しやすく活用範囲が広
 いため、実際のビジネスシーンでもよく利用されてい
 ます。\n今回のセミナーでは、講義の後、実際にサン
 プルプログラムを動かし、\nデータ分析をどのように
 ビジネスに生かしていくのかを体感していただきます
 。\n##開催概要\n対象\n・データ分析をこれから学んで
 みたいと考えている方\n・データサイエンスアカデミ
 ーのプログラムに関心をお持ちの方\n　※統計学・数
 学の知識や、プログラミングの経験は必要ありません
 。\n参加費\n無料\n持ち物\n・ノートパソコン　Windows、M
 acともに可\n　※事前にGoogleChromeのインストールをお願
 いいたします。\n　※GmailアドレスまたはGoogleアカウン
 トをご用意ください。\n日時\n2020年2月27日（木）19:00-21
 :00\n会場\nデータサイエンスアカデミー東京校\n東京都
 港区南麻布5丁目2番32号興和広尾ビル5F\nhttps://d4c-academy.
 org/access/\nタイムテーブル\n\n\n\n時間\n内容\n\n\n\n\n19:00-1
 9:20\nデータサイエンスとデータサイエンティストの仕
 事\n\n\n19:20-19:40\n[講義] 決定木分析の考え方とプログラ
 ムについて解説します。\n\n\n19:40-20:00\n[演習] 実際にプ
 ログラムを動かし、その結果から何らかの示唆を導き
 出していただきます。\n\n\n20:00-20:10\n[発表] 分析の結果
 を参加者同士で共有します。\n\n\n20:10-20:20\n[解説] 今回
 の分析からわかること、決定木分析の応用の仕方等を
 解説します。\n\n\n20:20-20:40\nデータサイエンスアカデミ
 ーカリキュラムについて\n\n\n20:40-21:00\n質疑応答\n\n\n\n
 主催\nデータサイエンスアカデミー\nhttps://d4c-academy.org/
 \n
LOCATION:データサイエンスアカデミー東京校 東京都港区
 南麻布5丁目2番32号 興和広尾ビル5Fセミナールーム
URL:https://techplay.jp/event/772678?utm_medium=referral&utm_source=ics&utm
 _campaign=ics
END:VEVENT
END:VCALENDAR
