BEGIN:VCALENDAR
VERSION:2.0
PRODID:-//https://techplay.jp//JP
CALSCALE:GREGORIAN
METHOD:PUBLISH
X-WR-CALDESC:Super Lumion Seminar #07
X-WR-CALNAME:Super Lumion Seminar #07
X-WR-TIMEZONE:Asia/Tokyo
BEGIN:VTIMEZONE
TZID:Asia/Tokyo
BEGIN:STANDARD
DTSTART:19700101T000000
TZOFFSETFROM:+0900
TZOFFSETTO:+0900
TZNAME:JST
END:STANDARD
END:VTIMEZONE
BEGIN:VEVENT
UID:772999@techplay.jp
SUMMARY:Super Lumion Seminar #07
DTSTART;TZID=Asia/Tokyo:20200323T180000
DTEND;TZID=Asia/Tokyo:20200323T203000
DTSTAMP:20260420T110102Z
CREATED:20200224T104902Z
DESCRIPTION:イベント詳細はこちら\nhttps://techplay.jp/event/77299
 9?utm_medium=referral&utm_source=ics&utm_campaign=ics\n\n\n\n\n-----開
 催に関する重要なお知らせ-----\n新型コロナウィルスの
 拡散防止の為、オンライン配信限定で実施されること
 になりました。当日、会場へのご来場はご遠慮くださ
 い。https://owner.techplay.jp/event/773715（新しく申し込みペ
 ージを設置しました。事前に質問ができます）\n会場
 からYoutube Liveでの配信を予定しております。※チャッ
 ト機能を使って講師とのコミュニケ―ションも実施し
 ます。\n\nSuper Lumion Seminar #07 大阪\n　　　　　　　\n    
                \n概要\n新しいLUMIONの活用法や知識、裏技的
 な使い方などを特別な講師をお迎えしてレクチャーし
 ていただくSuper Lumion Seminarシリーズの第7弾！株式会社
 日建スペースデザイン石井雄太氏お迎えし、特別講義
 をしていただきます。\n【無料イベントとの違い】 LUMI
 ON中上級者向けへの特別講義\n【参加者のメリット】 
 直接質疑応答が出来る\n\nテーマ\n撮影ノウハウを活か
 したインテリア空間のビジュアライゼーション\n\n      
              \nタイムスケジュール\n\n\n\n\n時間\n内容\n\n\n\
 n\n17:30〜\n受付開始\n\n\n18:00〜19:15\n\n特別講義株式会社
 日建スペースデザイン　石井  雄太氏１．Introduction２. 
 Material tips  　インテリアで使うマテリアルの表現３. Li
 ghting tips  　ライティングの考え方４. Camera tips    イン
 テリア空間でのレンズの使い分けとカメラワーク５. Se
 cret tips   　 秘密のムービーテクニック\n\n\n\n19:15～19:45
 \nLUMION　最新情報\n\n\n19:45〜20:00\n名刺交換会\n\n\n20:00〜
 20:30\n懇親会（軽食付き）\n\n\n\n※ 当日予告なく時間配
 分・内容が変更になる可能性がございます。\n\n登壇者
 \n\n\n\n\n\n\n石井 雄太氏\n株式会社日建スペースデザイ
 ンデジタルデザインチーム\n\n納谷建築設計事務所、UDS
 株式会社、株式会社日建設計を経て2016年株式会社日建
 スペースデザイン入社。デジタルデザインチーム所属
 。一級建築士、インテリアプランナー。主な業務は3D
 ビジュアライゼーションで、最近では自社のウェブサ
 イトのポートレート撮影、リクルート動画の企画、撮
 影、編集など幅広い業務に携わる。\n\n\n\n\n参加対象\n\
 n設計士・建築関連業\n映像クリイター\nデザイナー\n\n
 ※ リクルーティング、勧誘など、採用目的でのイベン
 ト参加はお断りしております。 ※ 飲食のみを目的と
 したご応募・ご来場はご遠慮ください。 ※ 補欠者の
 方は、ご来場いただいてもご入場いただくことが出来
 ませんのでご了承ください。 ※ 欠席される場合は、
 お手数ですが速やかにキャンセル処理をお願い致しま
 す。\n持ち物\n名刺1枚\n※ 受付時にお渡し下さい。\nお
 問い合わせ\nlum@livingcg.jp\n事前支払いができない場合等
 、ご連絡ください\n参加費\n一般 3\,000円Lumionサブス会
 員 無料\n学生　無料\nハッシュタグ\n#techplayjp\n\n
LOCATION:新大阪丸ビル別館 〒533-0033 大阪府大阪市東淀川
 区東中島１丁目１８−２２
URL:https://techplay.jp/event/772999?utm_medium=referral&utm_source=ics&utm
 _campaign=ics
END:VEVENT
END:VCALENDAR
