BEGIN:VCALENDAR
VERSION:2.0
PRODID:-//https://techplay.jp//JP
CALSCALE:GREGORIAN
METHOD:PUBLISH
X-WR-CALDESC:Webマーケティングセミナー＠名古屋 企業SNS活
 用編　Vol.7
X-WR-CALNAME:Webマーケティングセミナー＠名古屋 企業SNS活
 用編　Vol.7
X-WR-TIMEZONE:Asia/Tokyo
BEGIN:VTIMEZONE
TZID:Asia/Tokyo
BEGIN:STANDARD
DTSTART:19700101T000000
TZOFFSETFROM:+0900
TZOFFSETTO:+0900
TZNAME:JST
END:STANDARD
END:VTIMEZONE
BEGIN:VEVENT
UID:773174@techplay.jp
SUMMARY:Webマーケティングセミナー＠名古屋 企業SNS活用編
 　Vol.7
DTSTART;TZID=Asia/Tokyo:20200324T140000
DTEND;TZID=Asia/Tokyo:20200324T160000
DTSTAMP:20260420T105822Z
CREATED:20200226T112637Z
DESCRIPTION:イベント詳細はこちら\nhttps://techplay.jp/event/77317
 4?utm_medium=referral&utm_source=ics&utm_campaign=ics\n\nWebマーケテ
 ィングセミナー＠名古屋\n企業SNS活用編 Vol.7\nSNSマーケ
 ティングで企業ブランディングと売上UPへ繋げるコツ
 　#WMSN200324\n\n \n概要\n今特に注目されている SNSマーケ
 ティング。マーケティングや広報を担当しているもの
 の、「SNSについて詳しくないからなかなか取り組めな
 い」「広告出してみたいけどやり方がわからない」「
 リスティング広告やディスプレイ広告では頭打ち感が
 ある」といった課題を抱えている企業のご担当者様は
 いらっしゃいませんか？本セミナーでは、マーケティ
 ング担当者が明日からできるような実践的な内容を、S
 NSを利用したWeb広告と広報の2つの視点から、実例を元
 に伝えていきます。\n\nタイムスケジュール\n\n\n\n時間\
 n内容\n\n\n\n\n13:30〜\n受付開始\n\n\n14:00〜14:55\n\n明日か
 ら実践できる！SNSの企業アカウントを活性化させる基
 礎と運用のコツ\ninglow.inc荒川\n\n\n\n14:55〜15:50\n\n明日か
 ら実践できる！1ヶ月でフォロワー数が3.48倍になったSN
 S広告運用方法inglow.inc田中\n\n\n\n15:50〜16:00\nインフォメ
 ーション\n\n\n\n\n※ 当日予告なく時間配分・内容が変
 更になる可能性がございます。\n登壇者\n\n田中 磨生\n
 株式会社inglow　マーケティングチーム\n株式会社inglow
 でWEBマーケ・営業を担当。\nWEB広告の運用、MAツールの
 運用、オウンドメディアのライティングなどを行って
 いる。\nWEBマーケと営業を通して、マーケティングの
 コアなスキルを身に付け、サービスの運営やプロダク
 トの開発の核を担えるようになるのが目標。\n\n\n\n荒
 川 恵美\n株式会社inglow 広報部\n株式会社inglowでコーポ
 レート・広報を担当。\n広告代理店の営業経験を生か
 したコーポレートPRを主とし、クライアントマネジメ
 ントも担当。毎日会社ブログ、SNSにて、inglowの様子を
 発信。\n\n\n\n参加対象\n\n企業のマーケティング担当者\
 n企業の広報担当者\n\n※ Web会社様や同業者様のご参加
 はご遠慮願います。\n※ リクルーティング、勧誘など
 、採用目的でのイベント参加はお断りしております。 
 ※ 飲食のみを目的としたご応募・ご来場はご遠慮くだ
 さい。 ※ 補欠者の方は、ご来場いただいてもご入場
 いただくことが出来ませんのでご了承ください。\n持
 ち物\n名刺1枚※ 受付時にお渡し下さい。\n参加費\n無
 料\nハッシュタグ\nWebマーケティング MA SNS \n\n注意事項
 \n※ 参加を辞退する場合は、詳細ページより申込のキ
 ャンセルをお願い致します。※ 無断キャンセル・欠席
 が続く場合、次回以降の参加をお断りさせていただく
 場合がございますのでご了承ください。\n 
LOCATION:カラーブロック オフィス&カフェ7F ワーキングカ
 フェ 名古屋市中区丸の内2丁目16-23　GS丸の内二丁目bldg
 .7F
URL:https://techplay.jp/event/773174?utm_medium=referral&utm_source=ics&utm
 _campaign=ics
END:VEVENT
END:VCALENDAR
