BEGIN:VCALENDAR
VERSION:2.0
PRODID:-//https://techplay.jp//JP
CALSCALE:GREGORIAN
METHOD:PUBLISH
X-WR-CALDESC:ScalaMatsuri 2020
X-WR-CALNAME:ScalaMatsuri 2020
X-WR-TIMEZONE:Asia/Tokyo
BEGIN:VTIMEZONE
TZID:Asia/Tokyo
BEGIN:STANDARD
DTSTART:19700101T000000
TZOFFSETFROM:+0900
TZOFFSETTO:+0900
TZNAME:JST
END:STANDARD
END:VTIMEZONE
BEGIN:VEVENT
UID:773471@techplay.jp
SUMMARY:ScalaMatsuri 2020
DTSTART;TZID=Asia/Tokyo:20201017T103000
DTEND;TZID=Asia/Tokyo:20201018T200000
DTSTAMP:20260425T003759Z
CREATED:20200229T210220Z
DESCRIPTION:イベント詳細はこちら\nhttps://techplay.jp/event/77347
 1?utm_medium=referral&utm_source=ics&utm_campaign=ics\n\nアジア最大
 級の Scala カンファレンス「ScalaMatsuri 2020」\n\nこちらは
 、ScalaMatsuri 2020のチケット購入ページです。\n\n詳しい
 情報は公式サイト（scalamatsuri.org）や ScalaMatsuri運営ブ
 ログを御覧ください。\n最新情報はTwitterで発信してお
 ります。@scala_jp\n\nScalaMatsuri 2020は、オンライン開催と
 なりました。(参考)\n\nプログラム\n\nチケット種別\n\n\n
 \n種別\n10/17\n10/18\n金額\n備考\n\n\n\n一般  (招待枠もこち
 ら)\n○\n○\n3000円\n基本プラン\n\n\n忍者スポンサー\n○\
 n○\n15\,000円\n記念グッズ付\n\n\n2日目のみ\n×\n○\n無料\
 n\n\n\n学生\n○\n○\n無料\n\n\n\n\n\nノベルティグッズは、
 忍者スポンサーのみ付きます。\nイベント記念Tシャツ
 をScalaMatsuri公式オンラインショップにて販売中です。\
 n詳しくはこちらのブログ記事をご覧ください。\n将軍
 ・大老・大名・侍スポンサーの各招待枠行使者は、か
 ならず「一般  (招待枠もこちら)」を選択してください
 。\n学生チケットをお求めの方は、当日、学生証を確
 認いたします。\n\n\nまた、必要に応じて事前確認を行
 う場合があります。\n\n\n\n諸注意\n\n\nカンファレンス
 発表者は、チケットをご購入頂く必要はありません。\
 n行動規範をご確認の上、ご同意いただける場合のみご
 購入ください。\n広報用として、写真を撮影し、公開
 される可能性があります。あらかじめご了承ください
 。\nStripeでの支払いがうまくいかない場合は、運営ま
 でお問い合わせください。\n領収書が必要な場合は、
 催事後に発行いたしますので、運営までお問い合わせ
 ください。催事前はご対応いたしかねます。(10/19追記:
  電子での発行となります）\n
LOCATION:オンライン
URL:https://techplay.jp/event/773471?utm_medium=referral&utm_source=ics&utm
 _campaign=ics
END:VEVENT
END:VCALENDAR
