BEGIN:VCALENDAR
VERSION:2.0
PRODID:-//https://techplay.jp//JP
CALSCALE:GREGORIAN
METHOD:PUBLISH
X-WR-CALDESC:【合格率94%】E資格対応 日本ディープラーニン
 グ協会認定講座無料説明会
X-WR-CALNAME:【合格率94%】E資格対応 日本ディープラーニン
 グ協会認定講座無料説明会
X-WR-TIMEZONE:Asia/Tokyo
BEGIN:VTIMEZONE
TZID:Asia/Tokyo
BEGIN:STANDARD
DTSTART:19700101T000000
TZOFFSETFROM:+0900
TZOFFSETTO:+0900
TZNAME:JST
END:STANDARD
END:VTIMEZONE
BEGIN:VEVENT
UID:773697@techplay.jp
SUMMARY:【合格率94%】E資格対応 日本ディープラーニング
 協会認定講座無料説明会
DTSTART;TZID=Asia/Tokyo:20200321T193000
DTEND;TZID=Asia/Tokyo:20200321T203000
DTSTAMP:20260425T231557Z
CREATED:20200303T033438Z
DESCRIPTION:イベント詳細はこちら\nhttps://techplay.jp/event/77369
 7?utm_medium=referral&utm_source=ics&utm_campaign=ics\n\n概要\n本イ
 ベントは、日本ディープラーニング協会認定プログラ
 ムの「E資格対応 全人類がわかるディープラーニング
 体系講座」の説明会です。\nE資格試験の受験を考えて
 いる方やディープラーニングを深いレベルで理解して
 実務に活かしていきたいという方は、是非本説明会に
 ご参加ください！講座受講の流れや、E資格合格に向け
 たサポートについてお話しさせていただきます。\nオ
 ンラインでの説明会視聴はこちら\nまた、直接E資格対
 応の講座へのお申し込みをご希望の方はこちらのペー
 ジ からよろしくお願いいたします。\n日本最大級の講
 座フローチャートはこちら↓\n\nカリキュラム\n\nはじ
 めに\nAVILENと全人類がわかる統計学の紹介\n日本ディー
 プラーニング協会(JDLA)認定プログラムの紹介\n講座概
 要\n講座の目的\nE資格取得までの流れ\n基礎力確認テス
 トについて\n講座カリキュラム\n卒業課題について\n修
 了テストについて\n合格に向けたサポート\n基礎復習講
 座について\n教材や講師紹介\n受講期間の学習サポート
 \nオンラインの受講サポート\n修了テストの再受験\n申
 し込み手順\n個別の質問対応\n\n※当日予告なく内容が
 変更になる可能性がございます。\nこんな人にオスス
 メ\n・日本ディープラーニング協会(JDLA)のE資格試験の
 受験を検討している方\n・深いレベルでディープラー
 ニングを理解したいと考えている方\n事前準備・持ち
 物\n特になし\nインストラクター\n渡部加奈子\n大手メ
 ーカーにて機械学習エンジニアとして画像認識の転移
 学習、Domain Adaptationに携わった経歴を持つ。現在AVILEN
 ではPyTorchの講座を担当している。\n\n（都合により講
 師が変更となる可能性もございます）\n受付・入場時
 間\n開始の10分前から\n※途中参加も可能です。\nお問
 い合わせ\n・メールでのお問い合わせは、contact@avilen.co
 .jp　までご連絡ください。\n・こちらで⇨LINE＠からも
 お問い合わせいただけます。（推奨）\n注意事項\n・リ
 クルーティング、勧誘、採用活動など、目的に沿わな
 い行為につきまして、主催者が相応しくないと判断し
 た場合は即刻退出処分とします。全員が気持ちよく過
 ごすことが出来るよう、ご協力をお願い致します。\n
 ・講座内で扱うコンテンツは全て「全人類がわかる統
 計学」に帰属しています。複製はご遠慮ください。\n
 ・個人ブログへの講義コンテンツの掲載はご遠慮くだ
 さい。\n・最小遂行人数は「3名」です。開催日の前日
 までにこの人数に達しない場合は中止となります。た
 だし、複数の媒体で募集を行っているので、本サイト
 の申込者数が最小遂行人数に達しない場合でも開催に
 なる場合がございます。もし、中止が決定した場合は
 その時点で「全額返金」し、登録しているメールアド
 レスにご連絡させていただきます。\n全人類がわかる
 統計学とは\n株式会社AVILENが運営するサービスです。
 統計学をはじめ、AI関連の講座に関して、日本最大級
 の講座数を開講しています。統計学・機械学習の学習
 用サイト全人類がわかる統計学を運営、管理するほか
 、社会人向けのAI人材やデータサイエンティスト育成
 のための教育事業を行なっております。\n統計学や機
 械学習を、出来るだけわかりやすく多くの人々に届け
 るということを目指して活動しています。\n
LOCATION:東銀座駅徒歩4分/銀座一丁目駅徒歩5分/宝町駅徒
 歩6分/銀座駅徒歩7分/有楽町駅徒歩11分 中央区銀座2-14-4
  銀座スクエア3階
URL:https://techplay.jp/event/773697?utm_medium=referral&utm_source=ics&utm
 _campaign=ics
END:VEVENT
END:VCALENDAR
