BEGIN:VCALENDAR
VERSION:2.0
PRODID:-//https://techplay.jp//JP
CALSCALE:GREGORIAN
METHOD:PUBLISH
X-WR-CALDESC:最大70%OFFでAIエンジニアに！ E資格対応ディー
 プラーニング講座無料説明会
X-WR-CALNAME:最大70%OFFでAIエンジニアに！ E資格対応ディー
 プラーニング講座無料説明会
X-WR-TIMEZONE:Asia/Tokyo
BEGIN:VTIMEZONE
TZID:Asia/Tokyo
BEGIN:STANDARD
DTSTART:19700101T000000
TZOFFSETFROM:+0900
TZOFFSETTO:+0900
TZNAME:JST
END:STANDARD
END:VTIMEZONE
BEGIN:VEVENT
UID:774417@techplay.jp
SUMMARY:最大70%OFFでAIエンジニアに！ E資格対応ディープラ
 ーニング講座無料説明会
DTSTART;TZID=Asia/Tokyo:20200424T190000
DTEND;TZID=Asia/Tokyo:20200424T200000
DTSTAMP:20260423T123811Z
CREATED:20200310T153145Z
DESCRIPTION:イベント詳細はこちら\nhttps://techplay.jp/event/77441
 7?utm_medium=referral&utm_source=ics&utm_campaign=ics\n\n内容概要\n
 スキルアップAIでは、前提知識0からAI人材として独り
 立ち可能な基礎力を身につけることができる講座を展
 開しております。\nこの度、弊社の講座が「専門実践
 教育訓練給付制度認定」の指定講座に認定されました
 ！\n＞詳細はこちら\n説明会では、認定講座の特長・講
 座内容・スケジュールについてご説明します。\n受講
 日程については、受講者様に合わせたカリキュラムを
 ご提案させていただきますので、お気軽にご参加くだ
 さい。\nまた、ライブ映像・説明会動画を配信します
 ので、説明会のご都合が悪い方もお気軽にお問い合わ
 せください。\n対象となる講座を受講することで、ど
 のようなスキルが身につき、さらにどのような将来像
 を描くことができるのかをお話しさせていただきます
 。\nまた、受講に伴い目指すことのできるJDLA認定資格
 についてもご説明させていただきます。\nお願い\n「専
 門実践教育訓練支援給付金」を希望される方は、受給
 対象の条件はご自身で最寄りのハローワークにてご確
 認ください。\nまた、こちらからもご確認いただけま
 す。　受給資格チェッカーZ（ http://www.kyufu.net/check-requi
 rements/ ）\n　\n※給付金制度についての詳細な情報・ご
 質問等はお近くのハローワークにてご確認ください。\
 n・専門実践教育訓練の給付金について（厚生労働省）
 詳細はこちら\n・専門実践教育訓練給付金についてのQ&
 A （厚生労働省）詳細はこちら\n・こちらのサイトに、
 受給までの流れが分かりやすく紹介されています\n日
 程\n\n4/24(金)　19:00~20:00　動画説明会（ライブ配信また
 は録画動画）\n\n対象者\n\n専門実践教育訓練の給付金
 を利用されて受講をお考えの方\nE資格受験、認定プロ
 グラム受講をお考えの方\n\n会場へのアクセス\nスキル
 アップAI 水道橋オフィス（JR水道橋駅西口より徒歩2分
 ）\n東京都千代田区神田三崎町3-3-20 VORT水道橋 Ⅱ 5階\n\
 n直接会場にお越しください\n遅刻される場合も直接会
 場にお越しください\n\n受付・入場時間\n開場は開始時
 刻の10分前です\n10分以上前にお越しになられますと、
 会場の準備のために外でお待ちいただく場合がござい
 ますのでご注意ください。\n備考\n\n勉強会内容を撮影
 もしくは録音することは、ご遠慮ください\n個人ブロ
 グへの記述については、良識の範囲内でお願いいたし
 ます\n動画説明会（ライブ配信）もお申し込みいただ
 けます\n\nライブ配信についてですが、配信環境都合、
 ご視聴に不具合やエラーが生じる可能性がございます
 。\n誠に申し訳ございませんが、予めご了承の程お願
 いいたします。\n撮影動画は皆様にお配りさせていた
 だきますので、見えにくい箇所がございましたら、\n
 こちらで内容ご確認いただけますと幸いです。\n個人
 情報の取扱いについて\n申し込み時にご提供いただい
 た情報は、イベント受付管理や各種ご案内（サービス
 ・イベント等）に利用させていただきます。\n運営団
 体\nスキルアップAI　https://www.skillupai.com/\n
LOCATION:スキルアップAI 水道橋オフィス／VORT水道橋 Ⅱ 5
 階 東京都千代田区神田三崎町3-3-20
URL:https://techplay.jp/event/774417?utm_medium=referral&utm_source=ics&utm
 _campaign=ics
END:VEVENT
END:VCALENDAR
