BEGIN:VCALENDAR
VERSION:2.0
PRODID:-//https://techplay.jp//JP
CALSCALE:GREGORIAN
METHOD:PUBLISH
X-WR-CALDESC:Lumion Forum 2020 オンライン
X-WR-CALNAME:Lumion Forum 2020 オンライン
X-WR-TIMEZONE:Asia/Tokyo
BEGIN:VTIMEZONE
TZID:Asia/Tokyo
BEGIN:STANDARD
DTSTART:19700101T000000
TZOFFSETFROM:+0900
TZOFFSETTO:+0900
TZNAME:JST
END:STANDARD
END:VTIMEZONE
BEGIN:VEVENT
UID:774635@techplay.jp
SUMMARY:Lumion Forum 2020 オンライン
DTSTART;TZID=Asia/Tokyo:20200423T000000
DTEND;TZID=Asia/Tokyo:20200507T000000
DTSTAMP:20260420T104919Z
CREATED:20200313T023842Z
DESCRIPTION:イベント詳細はこちら\nhttps://techplay.jp/event/77463
 5?utm_medium=referral&utm_source=ics&utm_campaign=ics\n\nLumion Forum 202
 0 オンライン\n概要\n※スケジュールが変更になりまし
 た東京、大阪、福岡で開催予定だったLumion Forum 2020は
 オンラインでの開催となりました。全日程を２回に分
 けて生配信いたします。※お申し込みいただくと、Yout
 ube LiveのURLを受け取ることができます。\n【5/7追記】申
 し込み終了となっていますが本日登録しようとされた
 方は直接配信ページへお越しください！\n5/7 Youtube Live
 ページはこちら→\n4/23 Thur\n\n\n\n時間\n内容\n\n\n18:00〜18
 :15\n\nLUMION 最新情報\n有限会社リビングCG 清水 祥平氏\n
 \n\n\n\n18:15〜18:35\n\n\nLUMION Super Technic「Lumion×3ds Max アニ
 メーションをつけよう！【初級】」\nオートデスク株
 式会社 吉田 将宏氏\n\n\n\n18:35〜18:55\n\nユーザー事例講
 演「SketchUpとLumionで効率的で効果的なプレゼンテーシ
 ョン」\n株式会社HK STYLE 木村 華氏\n\n\n\n18:55〜19:20\n\nユ
 ーザー事例講演「“open design”のつくりかた」\n株式会
 社 大林組 佐藤康平氏、横田 成輝氏、鍋坂里美氏\n\n\n\
 n19:20〜19:40\n\nDMMオンラインサロン紹介\n\n\n\n\n5/7 Thur\n\n
 \n\n時間\n内容\n\n\n18:00〜18:15\n\nLUMION 最新情報\n有限会
 社リビングCG 清水 祥平氏\n\n\n\n\n18:15〜18:35\n\n\nLUMION Sup
 er Technic\n有限会社リビングCG 府川 映子氏\n\n\n\n\n18:35〜
 18:55\n\n特別講演「建築教育のアップデート」\n広島工
 業大学 環境学部 准教授 杉田 宗氏\n\n\n\n18:55〜19:15\n\nDM
 Mオンラインサロン紹介\n\n\n\n\n\n登壇者\n\n木村 華氏\n
 株式会社HK STYLE\nSketchUpとLumionで効率的で効果的なプレ
 ゼンテーション\n\n\n\n吉田 将宏氏\nオートデスク株式
 会社\nLumion×3ds Max アニメーションをつけよう！【初級
 】\n経歴：前職は建築系CGプロダクションに所属。パー
 ス制作、動画制作、VR制作などのデザインビジュアラ
 イゼーション業界での経験を経て、2018年オートデスク
 に入社。3ds Maxのテクニカルセールスを担当。\n \n\n\n\n
 杉田 宗氏\n\n広島工業大学 環境学部准教授\n建築教育
 のアップデート\n1979年広島県生まれ。2004年パーソンズ
 美術大学卒業。米国や中国の設計事務所に勤務した後
 、2010年ペンシルバニア大学大学院建築学科修士課程を
 修了。2010年より杉田三郎建築設計事務所。2012~2014年東
 京大学Global30国際都市建築デザインコースアシスタン
 ト。現在広島工業大学環境学部建築デザイン学科准教
 授。コンピュテーショナルデザインやデジタルファブ
 リケーションを用いた建築やインテリアの設計を専門
 とする。\nhttp://hiroshima-d-lab.com/\n \n \n佐藤 康平氏\n株式
 会社大林組\nアーキテクト。一級建築士。R&Dセンター
 やワークプレイスの設計に従事。BIMモデルやセンシン
 グデータ活用にも精通。組織設計事務所勤務を経て、2
 018年より大林組設計ソリューション部に所属。\n\n    \n
 横田 成輝氏\n株式会社大林組\nプランナー。生産施設
 等の設計を経て、新規領域のシナリオ作成などエンジ
 ニアリング全般の企画に携わる。webメディア「kumitalk
 」をローンチ予定。\n\n鍋坂 里美氏\n株式会社大林組\nB
 IMエンジニア。様々な規模、用途のBIMモデリング支援
 業務に従事。大規模スポーツ施設の日影検討や外構モ
 デリングを担当。Lumionは個人でも所有。\n“open design”
 のつくりかた\n\n参加対象\n・建築設計士・建築施工士
 ・構造設計家・映像クリエイター・デザイナー\n※ リ
 クルーティング、勧誘など、採用目的でのイベント参
 加はお断りしております。 ※ 飲食のみを目的とした
 ご応募・ご来場はご遠慮ください。 ※ 補欠者の方は
 、ご来場いただいてもご入場いただくことが出来ませ
 んのでご了承ください。\n持ち物\nなし\n参加費\n無料\n
 ハッシュタグ\n#techplayjp\n注意事項\n※ 参加を辞退する
 場合は、詳細ページより申込のキャンセルをお願い致
 します。※ 無断キャンセル・欠席が続く場合、次回以
 降の参加をお断りさせていただく場合がございますの
 でご了承ください。\n 
LOCATION:オンライン
URL:https://techplay.jp/event/774635?utm_medium=referral&utm_source=ics&utm
 _campaign=ics
END:VEVENT
END:VCALENDAR
