BEGIN:VCALENDAR
VERSION:2.0
PRODID:-//https://techplay.jp//JP
CALSCALE:GREGORIAN
METHOD:PUBLISH
X-WR-CALDESC:【現役エンジニアインターン生のリアルに迫
 る】エンジニアとして働くために必要なスキルとは？
X-WR-CALNAME:【現役エンジニアインターン生のリアルに迫
 る】エンジニアとして働くために必要なスキルとは？
X-WR-TIMEZONE:Asia/Tokyo
BEGIN:VTIMEZONE
TZID:Asia/Tokyo
BEGIN:STANDARD
DTSTART:19700101T000000
TZOFFSETFROM:+0900
TZOFFSETTO:+0900
TZNAME:JST
END:STANDARD
END:VTIMEZONE
BEGIN:VEVENT
UID:774742@techplay.jp
SUMMARY:【現役エンジニアインターン生のリアルに迫る】
 エンジニアとして働くために必要なスキルとは？
DTSTART;TZID=Asia/Tokyo:20200321T150000
DTEND;TZID=Asia/Tokyo:20200321T170000
DTSTAMP:20260421T152554Z
CREATED:20200314T084400Z
DESCRIPTION:イベント詳細はこちら\nhttps://techplay.jp/event/77474
 2?utm_medium=referral&utm_source=ics&utm_campaign=ics\n\n概要\n実際
 にスタートアップでエンジニアとして働く二人の学生
 をお招きして、学生がエンジニアとしてインターンを
 するに当たって必要なスキルセットや今どんなエンジ
 ニアが企業に求められているのか？などをパネルディ
 スカッション形式で解き明かします。\n2020年からプロ
 グラミングの義務教育化が始まり、2025年までにエンジ
 ニア人材が50万人不足するなど、これまで以上にITスキ
 ルを身に付けた人材の希少価値が高まっている現代に
 おいて学生の時間を活かしてプログラミング学習を進
 める学生も増えてきています。\n理系の学生はもちろ
 んのこと文系の学生にもプログラミングスキルが求め
 られており、周りの友達がすでにインターンを始めて
 いたり、プログラミング学習を始めていて 「自分も何
 か始めなくちゃ」 と漠然と考えている方も多いのでは
 ないでしょうか？\n今回は、そんな学生生活を抜け出
 しエンジニアとしてのキャリアを歩んでいる学生お二
 人に登壇して頂き、エンジニアインターンのリアルを
 解き明かします。\nイベントの後半では質疑応答のコ
 ーナーもあるので 現役でエンジニアインターンをする
 同世代の学生だからこそきけるような「振り返ってみ
 て、もっとこういう勉強しておけばよかったと思うも
 のはあるか？」などの質問もしていただけます。\nタ
 イムスケジュール\n14:45〜15:00 受付・入場15:00〜16:00 開
 始・登壇者によるパネルディスカッション 16:00〜16:15 
 質疑応答 16:15〜17:00 交流会\n※ 当日予告なく時間配分
 ・内容が変更になる可能性がございます。\n\nこんな方
 にオススメ\nエンジニアとしてのキャリアに興味があ
 るが、何をすればいいかわからない。文系だが社会人
 のスキルとしてプログラミングの基礎知識を身に付け
 たい エンジニアインターンに興味がある エンジニア
 として働く同世代と知り合いたい\n参加するメリット\n
 同世代がエンジニアになるために実際にどんなことを
 したのかをきけるエンジニアとして働くメリット・デ
 メリットを知れる。エンジニアに求められているスキ
 ルを知れる 同世代のエンジニアのリアルな話がきける
 \n登壇者\n① 筑波大学 理工学群 社会工学類 2021卒 鴻巣
 和司 中学時代からプログラミングを触り始める。大学
 2年次の冬からスタートアップ企業のエンジニアとして
 約半年間の長期インターンを経験。その後も数週間の
 インターンに複数参加。JavaScriptをはじめ、PHP、Pythonな
 ど複数言語の実務経験あり。\n② 筑波大学 情報学郡 
 知識情報図書館学類 2021卒 長瀬幸翼 12歳ごろからイン
 ターネットで遊ぶことを覚え、15歳のときゲームを作
 ることを目標にHSPのプログラミングを始める。高校3年
 次の冬にはじめてスタートアップ企業でプログラミン
 グのアルバイトを経験し、その後四年間で多くのWebア
 プリケーションの開発に携わる。現在は株式会社HERPで
 HERP ATSの開発を進めている。\n参加対象\n・学生\n※ リ
 クルーティング、勧誘など、採用目的でのイベント参
 加はお断りしております。 ※ 飲食のみを目的とした
 ご応募・ご来場はご遠慮ください。 ※ 補欠者の方は
 、ご来場いただいてもご入場いただくことが出来ませ
 んのでご了承ください。\n持ち物\nなし\n参加費\n無料\n
 注意事項\n※ 参加を辞退する場合は、詳細ページより
 申込のキャンセルをお願い致します。※ 無断キャンセ
 ル・欠席が続く場合、次回以降の参加をお断りさせて
 いただく場合がございますのでご了承ください。\n 
LOCATION:スペースフォーリアル（恵比寿駅 徒歩2分） 東京
 都渋谷区恵比寿南1-9-10
URL:https://techplay.jp/event/774742?utm_medium=referral&utm_source=ics&utm
 _campaign=ics
END:VEVENT
END:VCALENDAR
