BEGIN:VCALENDAR
VERSION:2.0
PRODID:-//https://techplay.jp//JP
CALSCALE:GREGORIAN
METHOD:PUBLISH
X-WR-CALDESC:【無料・毎日開催：福岡】未経験からでも3ヶ
 月でアプリ/サービス開発が可能！無料説明会※オンラ
 イン
X-WR-CALNAME:【無料・毎日開催：福岡】未経験からでも3ヶ
 月でアプリ/サービス開発が可能！無料説明会※オンラ
 イン
X-WR-TIMEZONE:Asia/Tokyo
BEGIN:VTIMEZONE
TZID:Asia/Tokyo
BEGIN:STANDARD
DTSTART:19700101T000000
TZOFFSETFROM:+0900
TZOFFSETTO:+0900
TZNAME:JST
END:STANDARD
END:VTIMEZONE
BEGIN:VEVENT
UID:774847@techplay.jp
SUMMARY:【無料・毎日開催：福岡】未経験からでも3ヶ月で
 アプリ/サービス開発が可能！無料説明会※オンライン
DTSTART;TZID=Asia/Tokyo:20200330T190000
DTEND;TZID=Asia/Tokyo:20200330T200000
DTSTAMP:20260424T145511Z
CREATED:20200316T055330Z
DESCRIPTION:イベント詳細はこちら\nhttps://techplay.jp/event/77484
 7?utm_medium=referral&utm_source=ics&utm_campaign=ics\n\n◆プログラ
 ミング説明会、開催！※オンライン\n大学生限定プロ
 グラミングコミュニティGeekSalonでは\nGeekSalonについて
 の無料説明会を開催します！\n誰しも少しは気になっ
 ているであろう「プログラミング」\n普段の生活では
 あまり関わることの少ない言葉かもしれませんが\nこ
 の機会に、プログラミングについて、ITについて、考
 えてみませんか？\n「アプリやサービスを開発して学
 生中に起業したい」\n「就活に役立つスキルを身につ
 けたい」\n「文系だけどIT業界に興味がある」\n「エン
 ジニア就職を考えている」\nなどなど、どなたでも大
 歓迎です！\n経験者の方大学や専門学校で学ばれてい
 る方、\nプログラミング初心者はもちろんPCが苦手な方
 も\n安心してご参加ください！！！\nたった1時間で、
 プログラミングの必要性とプログラミングのこれから
 について\n知ることができるGeekSalonの無料説明会。\nお
 申込み、お待ちしております！\n【 説明会 】\n▼日時
 ：3月30日 (月) 19-20時\n▼会場：GeekSaon福岡教室\n〒812-001
 1 福岡県福岡市博多区博多駅前２丁目6−15 A オクター
 ブ 博多駅前ビル6階\n▼持ち物：筆記用具\n▼服装：自
 由\n私服で参加される方がほとんどです。\nラフな服装
 で構いません。\nオンラインで実施します\n新型コロナ
 ウイルス感染症（COVID-19）の感染拡大に伴って、東京
 都が不要不急の外出の自粛を要請したことを受け、近
 日中の説明会は全てオンラインで実施することになり
 ました。\n▼GeekSalonの公式LINE@の登録をお願いします。
 \n\n
LOCATION:GeekSalon福岡教室 〒812-0011 福岡県福岡市博多区博
 多駅前２丁目6−15　A オクターブ 博多駅前ビル6階
URL:https://techplay.jp/event/774847?utm_medium=referral&utm_source=ics&utm
 _campaign=ics
END:VEVENT
END:VCALENDAR
