BEGIN:VCALENDAR
VERSION:2.0
PRODID:-//https://techplay.jp//JP
CALSCALE:GREGORIAN
METHOD:PUBLISH
X-WR-CALDESC:VR Creators LABO　4人限定 Unity初心者向け【VR/ARコ
 ンテンツ入門】
X-WR-CALNAME:VR Creators LABO　4人限定 Unity初心者向け【VR/ARコ
 ンテンツ入門】
X-WR-TIMEZONE:Asia/Tokyo
BEGIN:VTIMEZONE
TZID:Asia/Tokyo
BEGIN:STANDARD
DTSTART:19700101T000000
TZOFFSETFROM:+0900
TZOFFSETTO:+0900
TZNAME:JST
END:STANDARD
END:VTIMEZONE
BEGIN:VEVENT
UID:775148@techplay.jp
SUMMARY:VR Creators LABO　4人限定 Unity初心者向け【VR/ARコンテ
 ンツ入門】
DTSTART;TZID=Asia/Tokyo:20200326T180000
DTEND;TZID=Asia/Tokyo:20200326T210000
DTSTAMP:20260420T122726Z
CREATED:20200319T045355Z
DESCRIPTION:イベント詳細はこちら\nhttps://techplay.jp/event/77514
 8?utm_medium=referral&utm_source=ics&utm_campaign=ics\n\nVR Creators LABO
 Unity初心者向けVR/ARコンテンツ開発入門\n\n概要\n本講座
 では、VR・ARの現状や最先端VR/ARデバイス体験、実際に
 手を使ったUnityを使用したブロック崩しゲーム開発ま
 で、時間で効率よく学べる無料開発体験となっており
 ます。Oqulus Questも体験いただけます。私たちはVR/ARに
 興味がある方々に、VR・ARの面白さを実際に体験しても
 らい、是非とも私たちと共にVR・ARで新しい未来を作っ
 ていく人を増やし、日本はもちろん、世界のVR・ARマー
 ケットを盛り上げたいという思いを持っております。V
 R・ARに興味がある方々ならどなたでも参加できますの
 でぜひお気軽にご参加くださいませ。\n\nタイムスケジ
 ュール\n\n\n\n時間\n内容\n\n\n18:45〜\n受付開始\n\n\n19:00〜
 19:15\nオープニング\n\n\n\n19:35〜20:45\n\n\n\nブロック崩し
 ゲーム制作\n講師黒澤\n\n\n\n20:45~21:00\nアンケート等\n\n\
 n\n※ 当日予告なく時間配分・内容が変更になる可能性
 がございます。\n\n\nVR Creators LABO担当講師 橋本　裕【
 プロフィール】フリーランスエンジニア／テクノロジ
 ーコンサルタント。デジタルハリウッド大学院　研究
 員。研究テーマ：Beyond ScreenXR（AR/VR/MR)を、エンジニア
 リング、メディアアート、教育・研究の三つの側面で
 関わりながら、ちょっと先の未来をプロトタイピング
 している。京都大学卒業、デジタルハリウッド大学院
 修了。住友商事（海外スタートアップへの投資事業）
 、ジー・モード（上場（当時）モバイルコンテンツ企
 業　取締役）、エレクトロニック・アーツ（モバイル
 部門の事業責任者）を経て、2011年独立。VRのプロフェ
 ッショナルである橋本講師から直接学べます‼※本ｲ
 ﾍﾞﾝﾄでは、橋本　裕以外の講師が担当します。ス
 クール開講に先立ちまして、無料体験会を開催致しま
 す\n\n\n＜黒澤僚太＞\n大手プログラミングスクールで
 、VR講座の講師を務めていた黒澤をお呼びしてUnity開発
 体験会を開催いたします。 黒澤は、コミックマーケッ
 トに２度出展、出展作品のゲーム化の要望に応え、IOS
 アプリノベルゲームをリリース。\n\n\n現在、エンジニ
 アと、デザイナーを抱えるクロゲームス代表講師から
 のコメント： 「この講座に来ていただければ、PCを触
 ったことがあまりない人でも全くの無知識から、ゲー
 ムを作って遊べるようにします。ゲーム制作の楽しさ
 を体験していただければ幸いです。」\n参加対象\nこん
 な人にオススメ・VR・ARに興味がある社会人・学生の方
 　・VR・ARのビジネス最前線を知りたい方・自分でサー
 ビス・コンテンツを作っていきたい方・Unityゲームを
 触ってみたかったが出が出ていなかった方・ゲーム開
 発に興味ある方・VR Creators LABOに興味のある方\n\n持ち
 物\nノートPC\n下記リンクの手順に沿ってUnityを事前に
 インストールしておいてください。https://qiita.com/kuromam
 e0210/private/83a85a81a6759760ee1c\n参加費\n無料\nハッシュタグ
 \n\n注意事項\n※ 参加を辞退する場合は、詳細ページよ
 り申込のキャンセルをお願い致します。※ 無断キャン
 セル・欠席が続く場合、次回以降の参加をお断りさせ
 ていただく場合がございますのでご了承ください。\n 
LOCATION:芝公園プランニングルーム 東京都港区2-3-21花芝
 園ハイツ　302号室
URL:https://techplay.jp/event/775148?utm_medium=referral&utm_source=ics&utm
 _campaign=ics
END:VEVENT
END:VCALENDAR
