BEGIN:VCALENDAR
VERSION:2.0
PRODID:-//https://techplay.jp//JP
CALSCALE:GREGORIAN
METHOD:PUBLISH
X-WR-CALDESC:シンギュラリティ・ラボ Meetup 〜入会オリエン
 テーション〜【4月16日】
X-WR-CALNAME:シンギュラリティ・ラボ Meetup 〜入会オリエン
 テーション〜【4月16日】
X-WR-TIMEZONE:Asia/Tokyo
BEGIN:VTIMEZONE
TZID:Asia/Tokyo
BEGIN:STANDARD
DTSTART:19700101T000000
TZOFFSETFROM:+0900
TZOFFSETTO:+0900
TZNAME:JST
END:STANDARD
END:VTIMEZONE
BEGIN:VEVENT
UID:775607@techplay.jp
SUMMARY:シンギュラリティ・ラボ Meetup 〜入会オリエンテ
 ーション〜【4月16日】
DTSTART;TZID=Asia/Tokyo:20200416T200000
DTEND;TZID=Asia/Tokyo:20200416T213000
DTSTAMP:20260423T184454Z
CREATED:20200324T143154Z
DESCRIPTION:イベント詳細はこちら\nhttps://techplay.jp/event/77560
 7?utm_medium=referral&utm_source=ics&utm_campaign=ics\n\n未来を一緒
 に創る人求む！！\n概要\nシンギュラリティ・ラボ（シ
 ンラボ）の説明会のご案内です。\n未来技術推進協会
 が主催するプロジェクト推進型コミュニティ「シンギ
 ュラリティ・ラボ 〜テクノロジーで社会課題を解決し
 よう〜」についての説明会を行います。\n2045年にせま
 るシンギュラリティに向けた、スタートアップ、スキ
 ルアップ勉強会、SDGsワークショップ、各種イベントな
 ど、具体的な活動内容について説明します。\n2018年10
 月に立ち上がったシンギュラリティ・ラボは、多くの
 皆様からご賛同を頂き、約1年で会員数100名を超えるコ
 ミュニティに成長しました。\n様々な思いで入会され
 る方がいます。\nシンラボのビジョンに共感できる方
 は、どんな理由でも大歓迎です。\nこの技術に学んで
 みたい、こういうものを開発したい、こんな社会課題
 に取り組みたい、イベント運営に携わりたいなど、興
 味のある方はぜひご参加ください。\n一緒に活動を盛
 り上げていただける方を大募集しています。\n後半で
 は、シンギュラリティ・ラボに所属するメンバーとの
 懇親会を行います。\n実際にどんな人たちが、どんな
 活動をしているのか、生の声を聞ける場です。ぜひ積
 極的に質問してみてください\n\nオンライン参加\n当日
 対面での参加が難しい方向けにビデオチャットツール
 （zoom）を利用したオンラインでの参加枠をご用意して
 おります。\nご希望の方は、オンライン参加枠からお
 申込み下さい。\n詳細に関しましては、お申し込み後
 個別にご連絡致します。\n※オンライン参加の際は、
 顔が見える様ビデオ通話をオンの状態にして頂きます
 。\n対応できない方は不参加とさせて頂きますのでご
 注意下さい。\n\nLT出来ます！！！\nシンラボMeetupの後
 に、参加者が任意でLTできる時間を設けます。シンラ
 ボでこういうものが作りたい、こんな社会課題に取り
 組みたいなど、あなたの想いや考えを聞かせてくださ
 い！\n＜LTフォーマット＞\n\n発表者のプロフィール\n解
 決したい課題とそれをやりたい理由\n課題解決に向け
 たアイデアのイメージ\n（任意）ビジネスモデル\n（任
 意）協力者、チーム\n\n※ 5分に収まるスライドでお願
 いします。\n個別説明会\nシンラボMeetUpの日程が合わな
 い方には個別の説明会を行います。\n下記のフォーム
 からお申し込みください。\nhttps://forms.gle/sgzzgY1MpQzUrBN86
 \n未来技術推進協会とは\n未来技術推進協会は、企業や
 専門を超えた20代-30代の若手研究者・技術者を中心と
 した団体です。\n大学研究者、企業、投資家、新しい
 技術に興味を持つ社会人・学生の交流の場を設けるこ
 とにより、社会課題をテクノロジーで解決することを
 目的としています。\nWEBサイト　https://future-tech-associati
 on.org/\nシンギュラリティ・ラボとは\nシンギュラリテ
 ィ・ラボとは、未来技術推進協会が運営する、テクノ
 ロジーで社会課題を解決する技術者コミュニティの総
 称です。\n2045年にくるといわれているシンギュラリテ
 ィに向けて、エクスポネンシャルテクノロジー（人工
 知能、XRなど）に注目し、それらの技術を使って社会
 課題を解決することを目的に活動をしています。\n技
 術者、企業、大学、自治体、投資家を繋ぐハブとなっ
 て、新たなイノベーションを起こし、社会へ貢献しま
 す。\nWEBサイト　https://sinlab.future-tech-association.org/\n\n過
 去開催風景\nシンギュラリティ・ラボ Meetupは、2018年10
 月から月に２回のペースで開催しており、毎回5〜10名
 ほどの方が参加されています。\nタイムスケジュール\n
 \n\n\n時間\n内容\n\n\n\n\n19:40〜\n受付開始\n\n\n20:00〜\nシ
 ンギュラリティ・ラボ説明会（シンギュラリティ・ラ
 ボ概要、活動内容、利用規約など）\n\n\n20:40〜\n質疑応
 答（ご希望の方はその場で入会いただけます）\n\n\n20:5
 0〜\nLT（1名、5分程度）\n\n\n21:00〜\n懇親会\n\n\n21:30〜\n
 終了\n\n\n\n※ 当日予告なく時間配分・内容が変更にな
 る可能性がございます。\n参加対象\n\nIT技術者\n最先端
 技術に興味のある方\nSDGsや社会課題に興味のある方\n\n
 ※ リクルーティング、勧誘など、採用目的でのイベン
 ト参加はお断りしております。\n※ 飲食のみを目的と
 したご応募・ご来場はご遠慮ください。\n※ 補欠者の
 方は、ご来場いただいてもご入場いただくことが出来
 ませんのでご了承ください。\n※ 欠席される場合は、
 お手数ですが速やかにキャンセル処理をお願い致しま
 す。\nイベント参加費\n1000円（事前支払）\n※ 当日支
 払の場合、2000円になります。\n※ 20歳未満の方の入会
 には親の同意が必要ですので、親の了承を得てからMeet
 upへの参加申込みをお願いいたします。\n※ 当日は筆
 記用具をお持ちください。\n会員費\nシンギュラリティ
 ・ラボに入会する場合、下記の月額（税込）がかかり
 ます。\n・一般会員：3\,000円\n・学生会員：1\,500円 （
 高校、高専は無料）\nなお参加費のお支払いはクレジ
 ットカードのみとなっております。\n※入会をご希望
 の方は、下記をお持ちください。\n・クレジットカー
 ド\n・（学生の方）学生証\nキャンセルポリシー\nやむ
 を得ずキャンセルされる場合は、開催日の3日前(※)ま
 でに以下の連絡先メールアドレス宛にキャンセルのご
 連絡をいただいた方に限り、開催日から1週間以内にstr
 ipeにて会費を払い戻し致します。\n但し、払い戻し手
 続きに要するstripe手数料を差し引かせていただきます
 。\nまた、キャンセルのご連絡が開催日の2日前(※)よ
 り以降にいただいた場合、またはキャンセルのご連絡
 が無かった場合は、払い戻しに応じられませんのでご
 留意ください。\nなお、申込日から3日以内(※)に会費
 をお振り込みいただけない場合、お申込みをキャンセ
 ルとさせていただきます。\n(※) 土日祝日も含んだ日
 数です。\nお問い合わせ\n一般社団法人 未来技術推進
 協会\nシンラボ運営部　山本\nメールアドレス　k-yamamot
 o@future-tech-association.org\n
LOCATION:DMM.make AKIBA（集合：19:40に会場ビル4階のロビー） 
 東京都千代田区神田練塀町3富士ソフト秋葉原ビル
URL:https://techplay.jp/event/775607?utm_medium=referral&utm_source=ics&utm
 _campaign=ics
END:VEVENT
END:VCALENDAR
