BEGIN:VCALENDAR
VERSION:2.0
PRODID:-//https://techplay.jp//JP
CALSCALE:GREGORIAN
METHOD:PUBLISH
X-WR-CALDESC:【初心者大歓迎】無料プログラミング体験会  
 ~ 春休み限定 GeekSalon3コース合同 ~
X-WR-CALNAME:【初心者大歓迎】無料プログラミング体験会  
 ~ 春休み限定 GeekSalon3コース合同 ~
X-WR-TIMEZONE:Asia/Tokyo
BEGIN:VTIMEZONE
TZID:Asia/Tokyo
BEGIN:STANDARD
DTSTART:19700101T000000
TZOFFSETFROM:+0900
TZOFFSETTO:+0900
TZNAME:JST
END:STANDARD
END:VTIMEZONE
BEGIN:VEVENT
UID:776434@techplay.jp
SUMMARY:【初心者大歓迎】無料プログラミング体験会  ~ 春
 休み限定 GeekSalon3コース合同 ~
DTSTART;TZID=Asia/Tokyo:20200426T140000
DTEND;TZID=Asia/Tokyo:20200426T180000
DTSTAMP:20260424T114444Z
CREATED:20200405T130218Z
DESCRIPTION:イベント詳細はこちら\nhttps://techplay.jp/event/77643
 4?utm_medium=referral&utm_source=ics&utm_campaign=ics\n\nGeekSalon 3コ
 ース合同プログラミング体験会\n概要\n未経験者大歓迎
 ！\nWebコース・Gameコース・iPhoneコースの体験会を半日
 で体験！\nオリジナルのアイコン作成やゲーム作りの
 過程など、\n初心者でも簡単に楽しみながらプログラ
 ミングの基礎を学ぶ事ができる！\nタイムスケジュー
 ル\n\n\n\n時間\n内容\n\n\n13:50〜\n受付開始\n\n\n14:00〜14:30\
 nオープニング\n\n\n14:30〜17:30\n\nプログラミング体験！\
 n３コースのうち、好きなコースを選んで実際にプログ
 ラミングを体験しよう！\nオリジナルアプリ・サービ
 スを開発しよう！\n\n\n\n17:35〜18:00\n\nGeekSalon紹介・クロ
 ージング\n\n\n\n\n※ 当日予告なく時間配分・内容が変
 更になる可能性がございます。\n\n参加対象\n・大学・
 大学院生、専門大学生\n※ リクルーティング、勧誘な
 ど、採用目的でのイベント参加はお断りしております
 。 ※ 補欠者の方は、ご来場いただいてもご入場いた
 だくことが出来ませんのでご了承ください。\n持ち物\n
 パソコン（Mac/WIndows）\n参加費\n無料\nハッシュタグ\n#Ge
 ekSalon\n#techplayjp\n注意事項\n※ご質問やキャンセルのご
 連絡はGeekSalon公式LINEよりご連絡ください。▽GeekSalon公
 式LINEのご登録はこちらから▽https://line.me/R/ti/p/%40icy5089
 n※ 無断キャンセル・欠席が続く場合、次回以降の参
 加をお断りさせていただく場合がございますのでご了
 承ください。\n 
LOCATION:GeekSalon
URL:https://techplay.jp/event/776434?utm_medium=referral&utm_source=ics&utm
 _campaign=ics
END:VEVENT
END:VCALENDAR
