BEGIN:VCALENDAR
VERSION:2.0
PRODID:-//https://techplay.jp//JP
CALSCALE:GREGORIAN
METHOD:PUBLISH
X-WR-CALDESC:〜20分でわかる！大手企業が実践する社内エン
 ゲージメント強化とは～インタラクティブ動画がもた
 らすHRテックの未来～
X-WR-CALNAME:〜20分でわかる！大手企業が実践する社内エン
 ゲージメント強化とは～インタラクティブ動画がもた
 らすHRテックの未来～
X-WR-TIMEZONE:Asia/Tokyo
BEGIN:VTIMEZONE
TZID:Asia/Tokyo
BEGIN:STANDARD
DTSTART:19700101T000000
TZOFFSETFROM:+0900
TZOFFSETTO:+0900
TZNAME:JST
END:STANDARD
END:VTIMEZONE
BEGIN:VEVENT
UID:777171@techplay.jp
SUMMARY:〜20分でわかる！大手企業が実践する社内エンゲ
 ージメント強化とは～インタラクティブ動画がもたら
 すHRテックの未来～
DTSTART;TZID=Asia/Tokyo:20200507T150000
DTEND;TZID=Asia/Tokyo:20200507T153000
DTSTAMP:20260424T213104Z
CREATED:20200415T073717Z
DESCRIPTION:イベント詳細はこちら\nhttps://techplay.jp/event/77717
 1?utm_medium=referral&utm_source=ics&utm_campaign=ics\n\n【無料WEBセ
 ミナー】\n20分でわかる！大手企業が実践する社内エン
 ゲージメント強化とは\n～インタラクティブ動画がも
 たらすHRテックの未来～\n概要\n本セミナーは無料オン
 ラインセミナーです。\nオンラインで全国どこからで
 も、場所を問わずご参加いただけます。\n\n★好評につ
 き、テーマを変更し2週連続開催！\n今回は“社員教育/
 ナレッジの共有”にフォーカスしたオンラインセミナ
 ーを開催いたします。\n大手企業の事例を交えながら
 どのように社員教育やサービス講習を行っているのか
 リアルをお伝えいたしますので、ぜひご視聴ください
 。\n\n\n最近、「リード獲得」のために有効な手法が様
 々ございます。\nセミナー/広告/インサイドセールス/
 パートナービジネス等、リードを獲得する方法は多岐
 にわたっています。\nしかしこれらはあくまで「手段
 」であり、その先のフィールドセールス「人」の部分
 にフォーカスされることは比較的少ないのではないで
 しょうか。\nリード獲得や商談化まではデジタルな手
 法が広がってきているにも関わらず、商談だけを見る
 といまだ属人化されています。\n最終的には「人」が
 伝えるため、「人」を育てるための革新的な方法を解
 説させていただきます。\n\n\n本当に伝えたい情報が伝
 えたい社員に届いていますか？\nノウハウ共有が100％
 できていますか？\n\n\n■こんな課題をお持ちの方にお
 すすめです■\n・研修のリソースや成果にお困りの方\n
 ・ロープレの質を向上させたい方\n・組織の営業スキ
 ルを伸ばしたい方\n・デジタル化を推進したいが、何
 からすれば良いかわからない方\n\n≪講座内容≫\n・リ
 アルの研修を廃止した大手企業の方法\n・ロープレに
 勝る実践教育方法とは\n・受け手に合わせた最適なコ
 ンテンツの届け方\n\n ※内容は一部変更する場合がご
 ざいますので、予めご了承ください。\n\n〈日時〉\n2020
 年5月7日（木）15:00～15:30\n〈定員〉\n20名\n※お申し込
 み多数の場合は抽選となる場合がございます。\n〈参
 加費〉\n無料\n\n登壇予定\n\n代表取締役　澤田 裕樹\n\n
 参加対象\n・営業\n・CS\n・人事\n・経営企画\n・マネジ
 メント層\n持ち物\nなし\n参加費\n無料\nハッシュタグ\n#
 CS　#顧客対応　#ITツール　#クラウドサービス　#イン
 タラクティブ動画\n#リモート　#テレワーク　#マネジ
 メント　#HR　#HRテック　\n\n \n注意事項\n※ 参加を辞退
 する場合は、詳細ページより申込のキャンセルをお願
 い致します。※ 無断キャンセル・欠席が続く場合、次
 回以降の参加をお断りさせていただく場合がございま
 すのでご了承ください。\n 
LOCATION:オンラインセミナー
URL:https://techplay.jp/event/777171?utm_medium=referral&utm_source=ics&utm
 _campaign=ics
END:VEVENT
END:VCALENDAR
