BEGIN:VCALENDAR
VERSION:2.0
PRODID:-//https://techplay.jp//JP
CALSCALE:GREGORIAN
METHOD:PUBLISH
X-WR-CALDESC:【オンライン開催☆】ソーシャルプロダクツ
 賞受賞！SDGsボードゲーム体験会
X-WR-CALNAME:【オンライン開催☆】ソーシャルプロダクツ
 賞受賞！SDGsボードゲーム体験会
X-WR-TIMEZONE:Asia/Tokyo
BEGIN:VTIMEZONE
TZID:Asia/Tokyo
BEGIN:STANDARD
DTSTART:19700101T000000
TZOFFSETFROM:+0900
TZOFFSETTO:+0900
TZNAME:JST
END:STANDARD
END:VTIMEZONE
BEGIN:VEVENT
UID:777810@techplay.jp
SUMMARY:【オンライン開催☆】ソーシャルプロダクツ賞受
 賞！SDGsボードゲーム体験会
DTSTART;TZID=Asia/Tokyo:20200511T200000
DTEND;TZID=Asia/Tokyo:20200511T213000
DTSTAMP:20260421T065701Z
CREATED:20200423T032211Z
DESCRIPTION:イベント詳細はこちら\nhttps://techplay.jp/event/77781
 0?utm_medium=referral&utm_source=ics&utm_campaign=ics\n\n【オンライ
 ン開催☆】ソーシャルプロダクツ賞受賞！SDGsボードゲ
 ーム体験会\n5/11の体験会に関しまして、新型コロナウ
 イルスの影響を鑑みてオンライン開催予定です。\nZoom
 にて、ボードゲームの概要説明をし、協会側でボード
 ゲームを映して進めていく形となります。\n\n分かりづ
 らさ等ありましたら都度、ご指摘頂ければ幸いです。\
 n皆様と良い形を作れたらと考えております。\n※Zoomの
 URLは、開催30分前にはTECHPLAYメッセージにて申し込み頂
 いた方にご案内します。\n\n◆Zoom　事前ダウンロード
 お願いします。\nhttps://zoom.us/\n\n内容\n協会では現在、
 協会オリジナルポードゲーム、「Sustainable World BOARDGAME
 」の体験会を実施しています。\n毎回好評頂いてる累
 計1\,000名以上に参加頂いている「SDGsワークショップ」
 からボードゲームに特化し、学生から社会人まで誰で
 も楽しみながらゲームを通じてSDGsを学べる内容です。
 \nSDGsの事例にはTech（未来技術）の要素も満載です！\n
 ボードゲームのルールも大幅にリニューアルし、より
 現実に即した内容となっています！！\nSDGsボードゲー
 ム「Sustainable World BOARDGAME」が、2020年3月9日（月）に、
 ソーシャルプロダクツ・アワード2020「ソーシャルプロ
 ダクツ賞」を受賞しました。\nhttps://future-tech-association.
 org/2020/03/09/sustainable_world_boardgame_socialproductsaward_2020/\n本
 研修はこんな方にオススメ\n・SDGsを気軽に学びたい方\
 n・SDGsや社会課題に関連する仕事をされている方\n・SDG
 sに関する教育や研修にご関心のある方\n・未来技術推
 進協会やボードゲームに興味をお持ちいただいた方\n
 どなたでも最大限楽しめる内容になっており、「自分
 も何か行動したい！」という想いを持った方同士で、
 将来に繋がる仲間がきっと見つかります！\nSDGsとは\nSu
 stainable Development Goals（持続可能な開発目標）の略称で
 、国連が2015年に採択した、持続可能な世界を目指すた
 めの全世界共通のゴールのことです。\nこの達成には
 一人一人が意識し行動することが求められているが、
 まだまだ認知度が低く、協会も認知拡大やテクノロジ
 ーによる解決に向けた活動に力を入れています。\n\nタ
 イムスケジュール\n\n\n\n時間\n内容\n\n\n\n\n19:55〜\n接続
 確認\n\n\n20:00〜\nイベントスタート\n\n\n21:30〜\n終了\n\n\
 n\n※ 当日予告なく時間配分・内容が変更になる可能性
 がございます。\n※ 顔出しでご参加いただけますと幸
 いです\n※ 途中参加、途中退出可能です\n※ ZOOMを始め
 て利用される方は、お時間があれば\n　 早めにご参加
 いただけるとスムーズかと思います。\n会場\nオンライ
 ン開催☆\n※テレビ会議ツールZoomを利用します。\n日
 時\n2020/5/11（月）\n20:00 〜 21:30 (予定)\n定員\n上限なし\n
 参加費\n1000円\nお申し込み\n本サイトよりお申し込みく
 ださい。\n※万が一新型コロナウイルスで開催不可に
 なった際\n主催者の判断で中止となる場合があります
 。\nその際、イベント日程を延期させて頂きますので
 改めて周知致します。\nお問い合わせ\n一般社団法人\n
 未来技術推進協会\n企画担当者　北畑\nTel：090-5018-7979\n
 https://future-tech-association.org/\n事前アンケート内容\nお名
 前\nメールアドレス\n所属\n電子領収書の要否\nこのイ
 ベントに期待する事\n
LOCATION:オンライン☆Zoom開催
URL:https://techplay.jp/event/777810?utm_medium=referral&utm_source=ics&utm
 _campaign=ics
END:VEVENT
END:VCALENDAR
