BEGIN:VCALENDAR
VERSION:2.0
PRODID:-//https://techplay.jp//JP
CALSCALE:GREGORIAN
METHOD:PUBLISH
X-WR-CALDESC:【無料:オンライン】文系のための統計超入門-
 目で見てわかるビジネス統計学-【別日開催あり】
X-WR-CALNAME:【無料:オンライン】文系のための統計超入門-
 目で見てわかるビジネス統計学-【別日開催あり】
X-WR-TIMEZONE:Asia/Tokyo
BEGIN:VTIMEZONE
TZID:Asia/Tokyo
BEGIN:STANDARD
DTSTART:19700101T000000
TZOFFSETFROM:+0900
TZOFFSETTO:+0900
TZNAME:JST
END:STANDARD
END:VTIMEZONE
BEGIN:VEVENT
UID:779342@techplay.jp
SUMMARY:【無料:オンライン】文系のための統計超入門-目
 で見てわかるビジネス統計学-【別日開催あり】
DTSTART;TZID=Asia/Tokyo:20200606T130000
DTEND;TZID=Asia/Tokyo:20200606T143000
DTSTAMP:20260421T203021Z
CREATED:20200510T051040Z
DESCRIPTION:イベント詳細はこちら\nhttps://techplay.jp/event/77934
 2?utm_medium=referral&utm_source=ics&utm_campaign=ics\n\n文系のため
 の「統計超入門セミナー」-目で見てわかるビジネス統
 計学- \n概要\n文系が知りたい内容を凝縮して解りやす
 く目で見て体感し、理解するための統計的感覚が養え
 る!!データサイエンス、機械学習を学ぶための第1歩に
 最適なセミナーです!!\n私たちは日々の生活を送りなが
 ら、実はデータを分析していろいろなことを比較し判
 断しています。「東京のホテルの宿泊費ってだいたい
 何円くらい？」、「AとBのどちらを選べば良い結果が
 出るのか？」など、生活のなかには統計の考え方がた
 くさん隠されています。近年はコンピューターの普及
 により、誰でも簡単に大量のデータを集められるよう
 になりました。その大量のデータの活用法として、統
 計への注目度が大変大きくなっています。企業や研究
 機関でのデータ分析のニーズも高まっていますが、一
 方で、数学用語や数式の意味が理解できず、統計に漠
 然とした苦手意識を持っている方も少なくないのが実
 情です。本セミナーでは、統計の全体像をつかみ、ビ
 ジネスでどのように統計が使われているのかを学びま
 す。統計の代表的な手法である「記述統計／確率／推
 定／ランダムサンプル／検定／多変量解析」などにつ
 いて、企業での実用例を交えながら実務での統計の使
 い方がイメージできるよう説明します。実際の企業で
 の活用事例を通してデータ分析の手法を理解すること
 で、統計の活用方法を実感できます。\n仕事や試験で
 突然統計が必要になった方も、趣味として統計を学ん
 でみたい方も大歓迎です。あなたの統計学習のきっか
 けをお手伝いします！\n★本セミナーは別日にも開催
 しております。\nスケジュールが合わない場合はペー
 ジ下部の開催グループページ、もしくは弊社Webページ
 から他日程をご確認ください。\n和から株式会社のWeb
 ページはこちらから\nセミナー内容\n・統計学の歴史・
 分類・応用例\n・統計学を使ったデータ分析の手順（
 平均・中央値・標準偏差）\n・データを要約する方法
 と可視化\n・統計学でできること、できないこと\n・統
 計についての考え\n・統計の勉強方法\n・もっと統計を
 わかるための数学的知識は何か\n・統計、こんな場面
 で使える事例集\n・自宅での学習方法　など\n講師\n\n
 岡本 健太郎\n数理学博士（九州大学）\nドイツのチュ
 ービンゲン大学で研究員として滞在。帰国後は日本学
 術振興会の特別研究員として様々な分野の研究者との
 交流を深め、血管の数理モデルの構築など、純粋数学
 から応用数学にかけて研究を行う。また「数学」を使
 ったアート活動を通して、数学の有用性だけでなく美
 しさや魅力について積極的に発信。\n＜所属学会＞\n日
 本数学会、日本アクチュアリー会\n\n※講師は予告なく
 変更になる可能性がございます。予めご了承ください
 。\n受講対象\n文系や数学に苦手意識のある方 / 統計的
 な考え方がどんなものか知りたい / 統計を使って何か
 をしてみたいけれど、方法がわからない / 統計の何が
 仕事に活用できるのかわからない / 統計初心者にも効
 率の良い勉強方法が知りたい / 統計に興味があるけれ
 ど、内容がイメージできない / 統計を使う予定はない
 が、なんとなく気になる　など\n必要事項\nzoomを用い
 てセミナーを行いますので、ブラウザが利用できるPC
 やタブレットなどの環境をご用意ください。\nzoomの招
 待URLは開始直前に参加者の方にお送り致します。\nご
 参加にあたって（必ずご確認ください）\n■お申し込
 み後、すぐに自動返信にて申込完了メールが届きます
 。届いていない場合は会場URLもご案内できませんので
 、必ずご確認ください。\n■会場URLは開催直前にご案
 内します。\n■開催当日の電話対応はできかねます。
 お問合せはメール、もしくはお問合せフォームよりお
 願い致します。\n■iPad等タブレットの使用は一部機能
 が制限される場合がございます。パソコン端末でのご
 参加を推奨いたします。\n■≪キャンセル待ちでお申
 込みの方へ≫\nキャンセル待ち状態のまま開催前日を
 迎えますと自動キャンセルとなります。ご受講はいた
 だけせんので予めご承知置きください。\n参加費\n3\,000
 円　→　期間限定 無料\n注意事項\n\nリクルーティング
 、勧誘など、採用目的でのイベント参加はお断りして
 おります。\nキャンセル待ち、補欠者の方は、ご来場
 いただいてもご入場いただくことが出来ませんのでご
 了承ください。\n欠席される場合は、お手数ですが速
 やかにキャンセル処理をお願い致します。\n無断キャ
 ンセルや欠席が続く場合、次回以降の参加をお断りさ
 せていただく場合がございます。\n\n
LOCATION:zoom開催
URL:https://techplay.jp/event/779342?utm_medium=referral&utm_source=ics&utm
 _campaign=ics
END:VEVENT
END:VCALENDAR
