BEGIN:VCALENDAR
VERSION:2.0
PRODID:-//https://techplay.jp//JP
CALSCALE:GREGORIAN
METHOD:PUBLISH
X-WR-CALDESC:シニアプログラミングもくもく会オンライン20
 20年5月版
X-WR-CALNAME:シニアプログラミングもくもく会オンライン20
 20年5月版
X-WR-TIMEZONE:Asia/Tokyo
BEGIN:VTIMEZONE
TZID:Asia/Tokyo
BEGIN:STANDARD
DTSTART:19700101T000000
TZOFFSETFROM:+0900
TZOFFSETTO:+0900
TZNAME:JST
END:STANDARD
END:VTIMEZONE
BEGIN:VEVENT
UID:779757@techplay.jp
SUMMARY:シニアプログラミングもくもく会オンライン2020年
 5月版
DTSTART;TZID=Asia/Tokyo:20200527T183000
DTEND;TZID=Asia/Tokyo:20200527T210000
DTSTAMP:20260424T101202Z
CREATED:20200513T140646Z
DESCRIPTION:イベント詳細はこちら\nhttps://techplay.jp/event/77975
 7?utm_medium=referral&utm_source=ics&utm_campaign=ics\n\nシニアプロ
 グラミングもくもく会オンライン2020年5月版\n概要\nシ
 ニアプログラミングネットワークでは毎月各地でシニ
 アプログラミングもくもく会を実施していました。し
 かし新型コロナウイルスCOVID-19の影響で現在集まって
 のイベントは行うのが難しい状態です。そこで、シニ
 アプログラミングネットワークではオンラインイベン
 トを開催いたします。\n内容は「シニアプログラミン
 グもくもく会」のオンライン版。今まで毎月行ってい
 たシニアプログラミングもくもく会のオンライン版で
 す！\nシニアプログラミングもくもく会は基本的に自
 習の会ですが、初めての方にはガイドを行います。\n
 なので、プログラミングが初めてで何をして良いか分
 からない方でもお気軽にご参加ください。シニアプロ
 グラミングとついてますがシニアであってもなくても
 プログアミングができてもできなくても歓迎です。\n
 オンラインになるので勉強するプログラミング言語で
 部屋を分ける形をとりたいと考えています。他にも個
 別に質問する時等も工夫していきます。\nZoomを利用す
 るので事前にインストールしておいてください。\nタ
 イムスケジュール\n\n\n\n時間\n内容\n\n\n18:30〜18:45\n\nオ
 ープニング\n\n\n\n18:45〜19:00\n\n初めての方は自己紹介\n
 今日は何を勉強するかの説明\n\n\n\n19:00〜20:45\n\nもくも
 く会\n\n\n\n20:45〜21:00\n成果報告\n\n\n\n※ 当日予告なく
 時間配分・内容が変更になる可能性がございます。\n
 ハッシュタグ\n#シニアプログラミング\n参加方法\n以下
 のURLからアクセスしてください\nhttps://us02web.zoom.us/j/819
 14981426\n途中参加退出は自由です。\n注意事項\n※ 参加
 を辞退する場合は、詳細ページより申込のキャンセル
 をお願い致します。※ 無断キャンセル・欠席が続く場
 合、次回以降の参加をお断りさせていただく場合がご
 ざいますのでご了承ください。\n 
LOCATION:オンラインでのシニアプログラミングもくもく報
 告会です https://us02web.zoom.us/j/81914981426
URL:https://techplay.jp/event/779757?utm_medium=referral&utm_source=ics&utm
 _campaign=ics
END:VEVENT
END:VCALENDAR
