BEGIN:VCALENDAR
VERSION:2.0
PRODID:-//https://techplay.jp//JP
CALSCALE:GREGORIAN
METHOD:PUBLISH
X-WR-CALDESC:「データサイエンティストの最新動向 オンラ
 インセミナー」
X-WR-CALNAME:「データサイエンティストの最新動向 オンラ
 インセミナー」
X-WR-TIMEZONE:Asia/Tokyo
BEGIN:VTIMEZONE
TZID:Asia/Tokyo
BEGIN:STANDARD
DTSTART:19700101T000000
TZOFFSETFROM:+0900
TZOFFSETTO:+0900
TZNAME:JST
END:STANDARD
END:VTIMEZONE
BEGIN:VEVENT
UID:780510@techplay.jp
SUMMARY:「データサイエンティストの最新動向 オンライン
 セミナー」
DTSTART;TZID=Asia/Tokyo:20200610T190000
DTEND;TZID=Asia/Tokyo:20200610T201000
DTSTAMP:20260423T101555Z
CREATED:20200521T051533Z
DESCRIPTION:イベント詳細はこちら\nhttps://techplay.jp/event/78051
 0?utm_medium=referral&utm_source=ics&utm_campaign=ics\n\n\n『データ
 サイエンティストの最新動向オンラインセミナー』\n
 お申し込みいただいたみなさまへ、参加方法と講演に
 関する質問投稿先を記載したメールをお送りしました
 。（6/10 12:15追記） データサイエンティスト協会 調査
 ・研究委員会では、会員や企業に対して定期的にアン
 ケート調査などを実施しています。それらの調査結果
 からわかったことを「データサイエンティストの最新
 動向」として紹介いたします。本セミナーでは、デー
 タサイエンティストとして活躍している人だけではな
 く、今後、データサイエンティストとしてのキャリア
 形成を検討している人や、データサイエンティストの
 採用を考えている企業の担当者などの方を対象として
 います。\n概要説明\n膨大なデータからビジネスに知見
 を引き出す新たな職種としてデータサイエンティスト
 が生まれ、その健全な発展を目的にデータサイエンテ
 ィスト協会が2013年に設立されました。今ではデータサ
 イエンティストの知名度も大きく向上し、企業からの
 採用ニーズも大きくなっています。本セミナーでは、
 協会の設立以降、2015～2019年に渡って行ってきた一般
 （個人）会員向けアンケートにおける回答の変化や、4
 月21日に協会から発表したデータサイエンティスト国
 内企業採用動向調査の調査結果に関する考察、協会法
 人会員企業のデータサイエンティストの活躍事例につ
 いて紹介します。 \n講演1：『データサイエンティスト
 のリアル－2015年～2019年 一般（個人）会員アンケート
 より』\n2015年より実施しているデータサイエンティス
 ト協会一般（個人）会員へのアンケートを、2019年にも
 実施いたしました。その結果をもとに、現在のデータ
 サイエンティストのリアルな姿、就労意識をご紹介い
 たします。\n講演2：『企業が求めるデータサイエンテ
 ィスト人材像－データサイエンティスト国内企業採用
 動向調査(2019)より』\nデータサイエンティストを求め
 る企業側のニーズは年々高まっていますが、一方で企
 業と人材の間での需給のミスマッチ解消が課題となっ
 ています。 本講演では、2019年に、データサイエンテ
 ィスト協会が、国内企業の人事部門に対して実施した
 アンケート調査結果を元に、採用企業側の視点でみた
 データサイエンティストの在籍状況・採用実態、欲し
 い人材像などを明らかにします。\n講演3：『データサ
 イエンティスト活躍のケーススタディ』\nデータサイ
 エンティスト協会法人会員企業の中から、具体的なデ
 ータサイエンティストの活躍の事例を数社紹介します
 。業務内容や研修体制など、具体的なケーススタディ
 を担当者から紹介します。\n\n登壇者\n\n\n\n\n\n\n株式会
 社オリコム統合プランニング本部 データソリューショ
 ン開発部部長\n友田 彩子氏\n\n2002年オリコム入社。営
 業部門、産休・育休を経て、2007年よりリサーチおよび
 プランニング業務に携わる。2014年からはデジタル領域
 やデータに基づくソリューション推進にも取り組んで
 おり、現在は、DMP構築プロジェクトなどを担当。\n\n\n
 株式会社野村総合研究所NRIリテールネクスト株式会社
 出向 店舗ソリューションビジネス部上級データサイエ
 ンティスト\n田村 初氏\n\n2003年、野村総合研究所入社
 。流通小売業向けの基幹システム構築やコンサルティ
 ング等の業務を経験。2016年よりNRIリテールネクスト株
 式会社に出向し、流通小売業向けのデータアナリティ
 クスや実店舗を活用した事業企画に従事。NRI認定デー
 タサイエンティスト。\n\n\n\n\nタイムスケジュール\n\n\n
 \n\n時間\n講演内容\n\n\n19:00 - 19:25\n『データサイエンテ
 ィストのリアル－2015年～2019年 一般（個人）会員アン
 ケートより』株式会社オリコム　友田 彩子氏\n\n\n19:25 
 - 19:45\n『企業が求めるデータサイエンティスト人材像
 　- データサイエンティスト国内企業採用動向調査(2019
 )より』株式会社野村総合研究所　田村 初氏\n\n\n19:45 - 
 20:00\n『データサイエンティスト活躍のケーススタディ
 』 調査・研究委員会所属企業各社\n\n\n20:00 - 20:10\n質疑
 応答\n\n\n\n\n参加対象\n分析・データサイエンスの実務
 に携わる人材を募集している企業の採用担当／データ
 サイエンティストの育成担当／データサイエンティス
 トとしてのキャリアについて考えている個人の方 \n※ 
 データサイエンティスト協会の一般（個人）会員では
 ない方は、参加時に会員登録（無料）をお願いしてお
 ります。\n\n参加費\n無料\n参加方法\n参加申し込みして
 いただいた方へ当日13時までにURLをお送りします※YouTu
 be限定公開にて配信予定\n注意事項\n\n\n通信等の不具合
 により、やむを得ず配信方法の変更や急きょ配信を中
 止する場合があります。\n配信途中で接続が切れた際
 は、techplayよりメールにてお知らせいたしますのでご
 確認ください。（6/10追記）\nYouTubeの視聴環境はYouTube
 のサイトをご確認願います。\n質疑応答は「Live!アンケ
 ート Questant」にて行う予定です。質問投稿先はセミナ
 ー開催中 参加方法と合わせてメールにてご案内します
 。（6/10修正）\n現時点でアーカイブの公開予定はあり
 ません。\n講演１と講演２に限り、講演資料をセミナ
 ー開催翌日に本サイトにて公開予定です。\n\nお申し込
 み時にご提供いただいた情報は、一般社団法人データ
 サイエンティスト協会に提供し、イベント参加管理と
 今後のイベント開催等のご案内に利用させていただき
 ます。 上記にご同意のうえお申し込みください。\n\n 
 お願い \nデータサイエンティスト協会の一般（個人）
 会員に未登録の方は、以下より事前登録（無料）くだ
 さい。\nhttp://www.datascientist.or.jp/membership/\n\n主催\n一般
 社団法人データサイエンティスト協会 調査・研究委員
 会\n\n
LOCATION:YouTube限定公開での配信
URL:https://techplay.jp/event/780510?utm_medium=referral&utm_source=ics&utm
 _campaign=ics
END:VEVENT
END:VCALENDAR
