BEGIN:VCALENDAR
VERSION:2.0
PRODID:-//https://techplay.jp//JP
CALSCALE:GREGORIAN
METHOD:PUBLISH
X-WR-CALDESC:TableauWebinar  入門：基礎知識
X-WR-CALNAME:TableauWebinar  入門：基礎知識
X-WR-TIMEZONE:Asia/Tokyo
BEGIN:VTIMEZONE
TZID:Asia/Tokyo
BEGIN:STANDARD
DTSTART:19700101T000000
TZOFFSETFROM:+0900
TZOFFSETTO:+0900
TZNAME:JST
END:STANDARD
END:VTIMEZONE
BEGIN:VEVENT
UID:780937@techplay.jp
SUMMARY:TableauWebinar  入門：基礎知識
DTSTART;TZID=Asia/Tokyo:20200604T150000
DTEND;TZID=Asia/Tokyo:20200604T154000
DTSTAMP:20260420T053759Z
CREATED:20200526T002800Z
DESCRIPTION:イベント詳細はこちら\nhttps://techplay.jp/event/78093
 7?utm_medium=referral&utm_source=ics&utm_campaign=ics\n\nTableauWebinar  
 入門：基礎知識\n \n概要\n \n超好評中の無料セミナーが
 ウェビナーにて開催になりました。 既に200社以上の企
 業様にご参加いただいております。 まずはTableau製品
 を知ることから始めていきましょう！ 所要時間40分で
 す、ぜひお気軽にご参加下さい。\n\n \nコース内容\n \n
 ・Tableau基礎知識・TableauDesktop デモンストレーション・
 弊社Tableauサービスご案内\n\n登壇者\n \n株式会社サード
 ウェーブソリューションズ\nビジネスコンサルティン
 グ部 藤樫太郎\nITエンジニアとして航空宇宙開発を中
 心に10年キャリアを積む。 株式会社サードウェーブソ
 リューションズに入社後、各種SIプロジェクトのPM、コ
 ンサルティング担当。 (主担当製品：Tableau/Vocollect)\n \n
 参加対象\n \n・BIツールに興味のある方\n・BIツール選
 定中の方\n・Tableauについて知りたい方\n等々どなたで
 もお気軽に参加いただけます。\n本セミナーを受講す
 るにあたりTableauDesktopのインストールは必要ありませ
 ん。\n\nお申込みフォーム\n \n\nhttps://forms.office.com/Pages/R
 esponsePage.aspx?id=pqAVGrVg00uMuTAvymGvd2_nORKpv4xKoyc8sBKzg31UM0hZVTVFT
 jIzT0YxUTRES0lSVjZMRjBMOCQlQCN0PWcu\n\n\n\n\n\n\n本ウェビナーはZoo
 mにて行います。お申し込みフォームに入力していただ
 いたメールアドレスあてにウェビナー参加用のURLをお
 送り致します。前日までにURLが届かない場合やご不明
 な点ございましたら<tab-seminar@twss.co.jp>へご連絡いただ
 けますようお願い致します。\n
LOCATION:オンライン
URL:https://techplay.jp/event/780937?utm_medium=referral&utm_source=ics&utm
 _campaign=ics
END:VEVENT
END:VCALENDAR
