BEGIN:VCALENDAR
VERSION:2.0
PRODID:-//https://techplay.jp//JP
CALSCALE:GREGORIAN
METHOD:PUBLISH
X-WR-CALDESC:【国内112社を独自調査】UXリサーチ普及の4つ
 の課題と解決のヒント
X-WR-CALNAME:【国内112社を独自調査】UXリサーチ普及の4つ
 の課題と解決のヒント
X-WR-TIMEZONE:Asia/Tokyo
BEGIN:VTIMEZONE
TZID:Asia/Tokyo
BEGIN:STANDARD
DTSTART:19700101T000000
TZOFFSETFROM:+0900
TZOFFSETTO:+0900
TZNAME:JST
END:STANDARD
END:VTIMEZONE
BEGIN:VEVENT
UID:781829@techplay.jp
SUMMARY:【国内112社を独自調査】UXリサーチ普及の4つの課
 題と解決のヒント
DTSTART;TZID=Asia/Tokyo:20200611T100000
DTEND;TZID=Asia/Tokyo:20200611T110000
DTSTAMP:20260419T214950Z
CREATED:20200602T021623Z
DESCRIPTION:イベント詳細はこちら\nhttps://techplay.jp/event/78182
 9?utm_medium=referral&utm_source=ics&utm_campaign=ics\n\n■概要\n【
 オンライン参加（zoom）限定セミナー】\nUXリサーチに
 よる自社サイト・アプリのUX改善が事業成長に大きく
 寄与する、という事実はもはや世界の常識となりつつ
 あります。では、日本国内の各企業では実際どのよう
 な体制で、どのくらいの頻度で、UXリサーチを実施し
 ているのでしょうか。\n本セミナーでは、ポップイン
 サイトが２月に実施したUXリサーチ実態調査の結果を
 一挙公開。112社144人から寄せられた回答から日本にお
 けるUXリサーチの価値や実施体制のリアルをあぶりだ
 し、UXリサーチ体制の課題とその解決方法のヒントを
 探ります。\n主催 ： 株式会社ポップインサイト\n■セ
 ミナー内容\n1．UXリサーチの価値とは\n2．UXリサーチ実
 施体制の4つの課題\n3．継続的なUXリサーチ体制がある
 組織はこう実践している\n4．まとめ：事業成長につな
 がるUX改善のために\n5．質疑応答\n■本セミナーの対象
 \n・国内のUXリサーチ実施状況に関心のある方\n・自社
 のUXリサーチ体制を改善したいとお考えの方\n・これか
 らUXリサーチをやってみたいとお考えの方\n■スピーカ
 ー\n株式会社ポップインサイト\nファウンダー（前CEO）
  池田 朋弘\n\n・2008年、株式会社ビービットに入社し、
 ユーザビリティ･コンサルタントとして大手企業やWeb
 系企業のWebマーケティング改善に従事\n・2013年、日本
 初のリモートユーザテストを提供する株式会社ポップ
 インサイトを創業し、代表取締役に就任。5\,000回以上
 のユーザリサーチ調査実績あり\n・2015年、クラウドソ
 ーシングサービスを提供する株式会社MIKATAを創業し、
 代表取締役に就任。\n・2017年、株式会社ポップインサ
 イトが東証一部上場の株式会社メンバーズのグループ
 会社に。\n・2020年4月から株式会社メンバーズの執行役
 員。\n■日時\n2020年6月11日（木）10:00-11:00\n■参加の流
 れ\nYoutube LIVEにて配信予定です\n（PCやタブレットなど
 の端末と、インターネット環境が必要です）\nセミナ
 ー前日に参加URLをご案内します。\n\n●注意事項\n正確
 な情報をご入力いただけない場合、ご視聴をお断りす
 る場合がございます。ご了承ください。\n※お問合せ
 は下記までよろしくおねがいします。\n株式会社ポッ
 プインサイト\nセミナー担当\n　MAIL：cr@popinsight.jp\n
LOCATION:オンライン
URL:https://techplay.jp/event/781829?utm_medium=referral&utm_source=ics&utm
 _campaign=ics
END:VEVENT
END:VCALENDAR
