BEGIN:VCALENDAR
VERSION:2.0
PRODID:-//https://techplay.jp//JP
CALSCALE:GREGORIAN
METHOD:PUBLISH
X-WR-CALDESC:【オンライン開催】リモートワークにも対応
 可能！社員研修をオンラインへ切り替えるメリットと
 は？
X-WR-CALNAME:【オンライン開催】リモートワークにも対応
 可能！社員研修をオンラインへ切り替えるメリットと
 は？
X-WR-TIMEZONE:Asia/Tokyo
BEGIN:VTIMEZONE
TZID:Asia/Tokyo
BEGIN:STANDARD
DTSTART:19700101T000000
TZOFFSETFROM:+0900
TZOFFSETTO:+0900
TZNAME:JST
END:STANDARD
END:VTIMEZONE
BEGIN:VEVENT
UID:781979@techplay.jp
SUMMARY:【オンライン開催】リモートワークにも対応可能
 ！社員研修をオンラインへ切り替えるメリットとは？
DTSTART;TZID=Asia/Tokyo:20200605T110000
DTEND;TZID=Asia/Tokyo:20200605T120000
DTSTAMP:20260424T095147Z
CREATED:20200603T061841Z
DESCRIPTION:イベント詳細はこちら\nhttps://techplay.jp/event/78197
 9?utm_medium=referral&utm_source=ics&utm_campaign=ics\n\n概要\n例年
 この時期は新卒研修の真っ只中ではありますが、\n昨
 今のテレワークの影響などで研修の見直しをする企業
 様のお問い合わせが多くなってきました。\n・研修開
 始まで時間がなく、速やかに企画・運用をしたい\n・
 テレワークが推奨されていく中で、集合型研修からオ
 ンライン研修への切り替えを検討したい\nなど様々な
 理由で情報収集をされているご担当者様もいらっしゃ
 るのではないでしょうか。\nそこで今回は、オンライ
 ン研修とはどんなものか、教室型研修との違いについ
 て説明していきます。\nさらに後半では今注目が集ま
 っている、学習定着度の高い「アクティブラーニング
 」についても解説します。\nこのセミナーが新卒研修
 や人事制度にIT研修の導入を検討しているご担当者の
 一助になることを目指します。\nそして、本セミナー
 はオンラインで実施いたします！\nご自宅からでも聴
 いていただけますので、ぜひご参加ください。\nコン
 テンツ内容\n1.社員研修の市場動向2.IT研修に関する企
 業の課題、受講生の課題3.教室型研修とオンライン型
 研修それぞれの特徴4.TechAcademyが解決するオンライン研
 修の課題点\n※ 当日予告なく時間配分・内容が変更に
 なる可能性がございます。\n参加対象\n・新卒研修・企
 業研修のご担当者・社員育成にご興味のある方\n「TechA
 cademy」とは\n600社以上の企業導入実績を持つ、オンラ
 イン完結型のプログラミング/IT研修です。研修を受け
 る方一人ひとりに専属のメンターがつき、学習やモチ
 ベーションを徹底サポートします。サービスページ：h
 ttps://techacademy.jp/biz/training\n主催：キラメックス株式会
 社\nhttps://www.kiramex.comFacebook：https://www.facebook.com/kiramex
 ビジネス事業部：藤田\n使用ミーティングサービス\nオ
 ンライン会議室アプリケーションの『ZOOM（ズーム）』
 というツールを使用します。開始時刻になりましたら
 、申し込み後にご案内する入室URLをクリックすること
 で入室できます。スマートフォンからも参加可能です
 。（専用アプリのインストールが必要となります。）
 ※参加時はマイクをミュート、カメラをOFFに設定して
 いただくようお願いします。\n参加費\n無料\nハッシュ
 タグ\n#techplayjp   \n#TechAcademy\n注意事項\n下記の項目に当
 てはまる場合は、参加をお断り・途中退出させていた
 だく場合がございます。・記載項目を正しく記入して
 いただけていない方・同業の方のお申し込み\n・その
 他セミナーの進行を妨げる行為をされる方 
LOCATION:オンラインで開催します！
URL:https://techplay.jp/event/781979?utm_medium=referral&utm_source=ics&utm
 _campaign=ics
END:VEVENT
END:VCALENDAR
