BEGIN:VCALENDAR
VERSION:2.0
PRODID:-//https://techplay.jp//JP
CALSCALE:GREGORIAN
METHOD:PUBLISH
X-WR-CALDESC:BtoBのリード獲得の設計方法と運用におけるPDCA
 の回し方【オンラインデジタルマーケティング大学】
 （再放送）
X-WR-CALNAME:BtoBのリード獲得の設計方法と運用におけるPDCA
 の回し方【オンラインデジタルマーケティング大学】
 （再放送）
X-WR-TIMEZONE:Asia/Tokyo
BEGIN:VTIMEZONE
TZID:Asia/Tokyo
BEGIN:STANDARD
DTSTART:19700101T000000
TZOFFSETFROM:+0900
TZOFFSETTO:+0900
TZNAME:JST
END:STANDARD
END:VTIMEZONE
BEGIN:VEVENT
UID:782487@techplay.jp
SUMMARY:BtoBのリード獲得の設計方法と運用におけるPDCAの
 回し方【オンラインデジタルマーケティング大学】（
 再放送）
DTSTART;TZID=Asia/Tokyo:20200618T193000
DTEND;TZID=Asia/Tokyo:20200618T203000
DTSTAMP:20260421T052809Z
CREATED:20200608T053927Z
DESCRIPTION:イベント詳細はこちら\nhttps://techplay.jp/event/78248
 7?utm_medium=referral&utm_source=ics&utm_campaign=ics\n\nBtoBのリード
 獲得の設計方法と運用におけるPDCAの回し方【オンライ
 ンデジタルマーケティング大学】\n概要\nBtoB商材のWEB
 マーケティング責任者として活躍していた講師が、BtoB
 領域におけるマーケティング施策の基本設計と運用に
 ついて数ある選択肢から何を選び、何に注力すべきか
 、自身の経験を元に具体的に解説。・BtoBマーケティン
 グの現状・BtoBマーケの手法と費用感・これまで行って
 きた施策と効果・どの施策を選ぶべきか、その理由・K
 PI設定とPDCAの具体的な回し方・今後取り組むべき施策
 こんな課題解決のヒントとなる情報を発信します。\n
 タイムスケジュール\n6月18日（木）19:00～\n※60～90分程
 のオンラインセミナーになります。 \n登壇者\n講師： 
 峯林　晃治 氏Webディレクター、SEOコンサルタントを経
 て\n事業会社にてBtoBのWebマーケティング業務に従事。\
 nコンテンツマーケティングを活用し、7年間で60\,000件
 以上の新規リードを獲得。\n2020年にフリーランスのWeb
 コンサルタントとして独立。京都出身、特技はギター
 弾き語り。\n参加対象\n✔toB商材を取り扱い始めたばか
 りで社内にノウハウがない✔どの施策から着手すべき
 なのか分からない✔社内にtoBのリード獲得のノウハウ
 の蓄積をしておきたい✔自社で施策の運用、改善まで
 行いたいこんな悩みでお困りの方は今回セミナーでお
 伝えする内容を取り入れてみて下さい！\n開催方法\nオ
 ンラインでの開催(詳細は参加お申込み後に個別メッセ
 ージでご連絡させていただきます)\n参加費\n無料\n運営
 会社\n株式会社Faber Companyミエルカコネクト事業部サー
 ビスURL：https://mieruca-connect.com/business/会社URL：https://www.
 fabercompany.co.jp/\n 
LOCATION:オンライン
URL:https://techplay.jp/event/782487?utm_medium=referral&utm_source=ics&utm
 _campaign=ics
END:VEVENT
END:VCALENDAR
