BEGIN:VCALENDAR
VERSION:2.0
PRODID:-//https://techplay.jp//JP
CALSCALE:GREGORIAN
METHOD:PUBLISH
X-WR-CALDESC:エンジニア採用を成功に導くエージェント活
 用法
X-WR-CALNAME:エンジニア採用を成功に導くエージェント活
 用法
X-WR-TIMEZONE:Asia/Tokyo
BEGIN:VTIMEZONE
TZID:Asia/Tokyo
BEGIN:STANDARD
DTSTART:19700101T000000
TZOFFSETFROM:+0900
TZOFFSETTO:+0900
TZNAME:JST
END:STANDARD
END:VTIMEZONE
BEGIN:VEVENT
UID:782630@techplay.jp
SUMMARY:エンジニア採用を成功に導くエージェント活用法
DTSTART;TZID=Asia/Tokyo:20200616T120000
DTEND;TZID=Asia/Tokyo:20200616T130000
DTSTAMP:20260421T152133Z
CREATED:20200609T081431Z
DESCRIPTION:イベント詳細はこちら\nhttps://techplay.jp/event/78263
 0?utm_medium=referral&utm_source=ics&utm_campaign=ics\n\n\nエンジニ
 ア採用を成功に導くエージェント活用法\n概要\n優秀な
 エンジニアを採用するために、エージェントを最大限
 活用する方法について話します\nこんな話をします\n・
  エージェントの類型化と特徴\n・ エージェントの適切
 な選び方\n・ エージェントを利用するメリット/デメリ
 ット\n・ エージェントとの付き合い方で意識すべき3つ
 のポイント\nこんな方におすすめ\n・ エンジニアの採
 用に苦戦している方\n・ エージェントを上手く活用で
 きていないと悩んでいる方\n・ 正社員採用、フリーラ
 ンスの受け入れを検討している/したことがあるが、成
 功イメージが描けていない方\nタイムスケジュール\n\n\
 n\n時間\n内容\n\n\n12:00〜12:10\n開場\n\n\n12:10〜12:45\n講演\n
 \n\n12:45〜13:00\n質疑応答\n\n\n\n\n登壇者\n\n■役職\nカス
 タマーサクセス事業部部長　三井賢太\n\n■経歴\n2012年
 中途入社。入社3年目にレバテック事業部へ異動、その
 まま新規事業の責任者として立ち上げたサービスを年
 商30億円規模にまで拡大。\n2017年より2年間、レバレジ
 ーズグループ内最大規模であるITソリューション事業
 部長として従事。\n2019年10月よりカスタマーサクセス
 事業部を設立し、部長に就任。\n2019年度上期で全社ベ
 ストチーム賞を獲得\n\n\n\n■役職\nITリクルーティング
 事業部　関西事業責任者　瀬戸淳平\n\n■経歴\n2016年新
 卒入社。入社後、レバテック大阪支店で法人営業・求
 職者担当のそれぞれを担当。これまで累計約200名のエ
 ンジニアの転職を支援。\n2018年10月から現職。現在は
 、チームマネジメントを行いつつ企業担当を兼任中。\
 n2018年4月のレバレジーズ全社総会にてベストセールス
 にノミネート。\n\n特記事項\n【注意点】\n・本セミナ
 ーはZoomにてインターネット配信いたします。ご自身の
 PCもしくはスマートフォンで視聴いただきます。\nお申
 し込みいただいた方へセミナー開始１時間前までに、
 接続先の情報（ログインURL）をメールにてご案内しま
 す。\nZoomの接続テストサイト（ https://zoom.us/test ）にて
 、事前にご確認いただけると安心です。\n・競合サー
 ビスを提供されている企業様はご参加をお断りする場
 合がございます。\n・その他、主催者の判断で参加に
 相応しくない方は、参加をお断りする場合がございま
 す。なにとぞご了承ください。\n【個人情報の取り扱
 いにつきまして】\n本サイトでご提供頂きましたお客
 様の個人情報は、本セミナー開催者であるレバテック
 株式会社の営業活動、及び情報提供のために使わせて
 いただく場合がございます。\nその他\n※参加が難しく
 なった場合は、お早めにキャンセルいただけますよう
 宜しくお願い致します。\n※イベントは、止むを得ず
 中止させていただく場合がございます。\nその際は登
 録いただいた連絡先にご連絡させていただきますので
 、ご確認をお願い致します。
LOCATION:オンライン
URL:https://techplay.jp/event/782630?utm_medium=referral&utm_source=ics&utm
 _campaign=ics
END:VEVENT
END:VCALENDAR
