BEGIN:VCALENDAR
VERSION:2.0
PRODID:-//https://techplay.jp//JP
CALSCALE:GREGORIAN
METHOD:PUBLISH
X-WR-CALDESC:【無料】Revitユーザー向けLUMIONオンライン講習
 （入門～初心者向け）
X-WR-CALNAME:【無料】Revitユーザー向けLUMIONオンライン講習
 （入門～初心者向け）
X-WR-TIMEZONE:Asia/Tokyo
BEGIN:VTIMEZONE
TZID:Asia/Tokyo
BEGIN:STANDARD
DTSTART:19700101T000000
TZOFFSETFROM:+0900
TZOFFSETTO:+0900
TZNAME:JST
END:STANDARD
END:VTIMEZONE
BEGIN:VEVENT
UID:782795@techplay.jp
SUMMARY:【無料】Revitユーザー向けLUMIONオンライン講習（
 入門～初心者向け）
DTSTART;TZID=Asia/Tokyo:20200624T180000
DTEND;TZID=Asia/Tokyo:20200624T190000
DTSTAMP:20260419T221013Z
CREATED:20200611T021854Z
DESCRIPTION:イベント詳細はこちら\nhttps://techplay.jp/event/78279
 5?utm_medium=referral&utm_source=ics&utm_campaign=ics\n\n【無料】Revi
 tユーザー向けLUMIONオンライン講習（入門～初心者向け
 ）\n概要\n Revitデータのインポートの方法からLiveSyncとE
 xportの使い分け、マテリアル設定の注意点などご紹介
 します。\n※ 当日予告なく時間配分・内容が変更にな
 る可能性がございます。\n登壇者\n\nShibatama先生　\n一
 級建築士、一級インテリア設計士専門：情報処理、CG
 演習、CAD設計製図、設計製図、建築計画一級建築士資
 格を取得後は、専門学校の講師として製図やCADの指導
 及び、設計の業務に携わる。1994年に独立後は住宅の計
 画、設計、インテリアコーディネート業務に携わり、C
 Gパースを含めたプレゼンテーションも行ってきた。現
 在は修成建設専門学校の教員として、CAD・CGの指導を
 する傍ら、3DCG・VR関連の業務にも携わる。\n\n参加対象
 \n・エンジニア・建築家・建築設計者\n※ リクルーテ
 ィング、勧誘など、採用目的でのイベント参加はお断
 りしております。 ※ 飲食のみを目的としたご応募・
 ご来場はご遠慮ください。 ※ 補欠者の方は、ご来場
 いただいてもご入場いただくことが出来ませんのでご
 了承ください。\n持ち物\nなし\n参加費\n無料\nハッシュ
 タグ\n#techplayjp \n#Lumion\n#Revit\n\n注意事項\n※ 参加を辞
 退する場合は、詳細ページより申込のキャンセルをお
 願い致します。※ 無断キャンセル・欠席が続く場合、
 次回以降の参加をお断りさせていただく場合がござい
 ますのでご了承ください。\n 
LOCATION:オンライン
URL:https://techplay.jp/event/782795?utm_medium=referral&utm_source=ics&utm
 _campaign=ics
END:VEVENT
END:VCALENDAR
