BEGIN:VCALENDAR
VERSION:2.0
PRODID:-//https://techplay.jp//JP
CALSCALE:GREGORIAN
METHOD:PUBLISH
X-WR-CALDESC:「Startup with IBM.」はじめよう、IBMと。
X-WR-CALNAME:「Startup with IBM.」はじめよう、IBMと。
X-WR-TIMEZONE:Asia/Tokyo
BEGIN:VTIMEZONE
TZID:Asia/Tokyo
BEGIN:STANDARD
DTSTART:19700101T000000
TZOFFSETFROM:+0900
TZOFFSETTO:+0900
TZNAME:JST
END:STANDARD
END:VTIMEZONE
BEGIN:VEVENT
UID:782903@techplay.jp
SUMMARY:「Startup with IBM.」はじめよう、IBMと。
DTSTART;TZID=Asia/Tokyo:20200714T170000
DTEND;TZID=Asia/Tokyo:20200714T190000
DTSTAMP:20260420T110926Z
CREATED:20200612T031744Z
DESCRIPTION:イベント詳細はこちら\nhttps://techplay.jp/event/78290
 3?utm_medium=referral&utm_source=ics&utm_campaign=ics\n\n----------------
 ----------------------------------------\n「Startup with IBM.」はじ
 めよう、IBMと。\nIBM BlueHub Demo Day \nPANEL DISCUSSION　「ニ
 ューノーマルのデジタル変革とデータ活用」\n-----------
 ---------------------------------------------\n概要\n「はじめよう
 、IBMと。」デジタル・テクノロジーの爆発的な進化は
 、業界を越えた新しい競争や共創を生み出しています
 。新型コロナウイルス感染症（COVID-19）の世界的な拡
 大が、私たちの生活やビジネスに大きな影響を与えて
 います。\nニューノーマル時代において、企業が新た
 な価値を生み続けるためには、デジタル技術とデータ
 活用に着目した「信頼」と「パートナーシップ」が重
 要です。あらゆる枠を超えて、お客様のデジタルトラ
 ンスフォーメーションや広く社会全体の課題解決に取
 り組む、IBM。企業規模や業界という枠を超えた共創の
 実例をご紹介しながら、イノベーションを追求し続け
 るキーパーソンと豊かな未来を、共に考察します。\n 
 そして、テクノロジーとオープンイノベーションで日
 本発の革新的事業の創出を目指す、スタートアップと
 の共創プログラムIBM BlueHub。著名ベンチャーキャピタ
 リストとIBMによる半年間にわたるプログラムの成果を
 、スタートアップがピッチします。何かをはじめる、
 何かがはじまる、そのキッカケとなる一日に。「はじ
 めよう、IBMと。」 \n※スタートアップとの共創プログ
 ラム IBM BlueHub の第6期デモデイは、あらゆる枠を超え
 る IBM のイベント「Startup with IBM.」として、拡大して開
 催します。\n\n\n\n\n内容\n\n\n\n■IBM BlueHub Demo Day \nスタ
 ートアップとの協業を通じて、各産業や社会の課題を
 解決し、革新的なビジネスの創出を目指すIBM BlueHub。
 経験豊富なVCメンター陣とIBMエキスパートによる半年
 間にわたるプログラムの成果を発表。\n\n\n\n\n●「第6
 期スタートアップによるピッチ」\n株式会社キママニ
 ： 感情をケアするKibunLogアプリ\nGemsmith Partners株式会社
 ：業務プロセスの自動化基盤fractal\nDatumix株式会社： AI
 +デジタルツインでスマート物流を実現するOPTIMUS AI\n\n
 メンター陣：\n福井 俊平 氏      Archetype Ventures Inc. Managi
 ng Partner\n倉林 陽 氏         DNX Ventures　Managing Director\n浅
 田 賢 氏         Salesforce Ventures　Partner\, Japan Head\n五嶋 
 一人 氏      iSGS Investment Works Inc. 代表取締役/代表パー
 トナー\n\n\n\n\n●「卒業生による講演」\n福田 志郎 氏  
 株式会社チュートリアル 代表取締役\n\n\n\n\n■パネル
 ディスカッション「ニューノーマルのデジタル変革と
 データ活用」                  　　　　　　　     宮田 裕
 章 氏     藤森 慶太 氏　モデレーター西村 真里子 氏   
 \nニューノーマルにおいて、企業が新たな価値を生み
 続けるためには、デジタル技術とデータ活用に着目し
 た「信頼」と「パートナーシップ」が重要です。安全
 で豊かな未来のために、テクノロジーを軸に企業のあ
 り方や業界を超えたつながりを考察します。\n\n\n\n\n※
  当日予告なく内容が変更になる可能性がございます。
 \nパネルディスカッション登壇者\n\n宮田 裕章 氏\n慶應
 義塾大学 \n医学部医療政策・管理学教室 教授\n\n2003年
 東京大学大学院医学系研究科健康科学・看護学専攻修
 士課程修了。同分野保健学博士（論文）。\n早稲田大
 学人間科学学術院助手、東京大学大学院医学系研究科
 医療品質評価学講座助教を経て、2009年東京大学大学院
 医学系研究科医療品質評価学講座准教授。2014年同教授
 （2015年5月より非常勤）。2015年5月、慶應義塾大学医学
 部医療政策・管理学教室教授。\n \n\n藤森 慶太 氏\n日
 本アイ・ビー・エム株式会社　\nグローバル・ビジネ
 ス・サービス事業　パートナー  戦略コンサルティン
 グ＆デザイン事業統括事業部長\n\n米大学院にてファイ
 ナンスマネジメント修士号取得後パナソニック入社。2
 008年より日本IBM入社。\n2014年通信・メディア・公益サ
 ービス事業部長、同年Apple社とのグローバル戦略提携
 を受け、日本のApple Alliance Leaderに着任。2015年モバイル
 事業事業部長 兼 デジタルコンサルティング担当パー
 トナー。多くの業界・業種にてテクノロジーを起点と
 した業務変革、ワークスタイル変革プロジェクトを実
 施。2018年インタラクティブ・エクスペリエンス事業部
 長、UXアプローチによる企業システム再構築や企業のDX
 支援サービスの立ち上げを実施。2020年より戦略コンサ
 ルティング＆デザイン事業を統括。\n\n\n\nモデレータ
 ー西村 真里子 氏　\n株式会社HEART CATCH\n代表取締役\n国
 際基督教大学卒。日本アイ・ビー・エムでITエンジニ
 アとしてキャリアをスタート。その後、アドビシステ
 ムズでフィールドマーケティングマネージャー、バス
 キュールでプロデューサーを経て2014年に株式会社HEART 
 CATCH設立。ビジネス・クリエイティブ・テクノロジー
 をつなぐ“分野を越境するプロデューサー”として自
 社、スタートアップ、企業、官公庁プロジェクトを生
 み出している。\n 参加対象\n・オープンイノベーショ
 ン・新規事業に関わる事業会社、スタートアップ、VC 
 など\n\n※ リクルーティング、勧誘など、採用目的で
 のイベント参加はお断りしております。\n参加方法\nオ
 ンライン開催 (参加方法は別途ご案内させていただき
 ます)\n参加費\n無料\n注意事項\n※ 参加を辞退する場合
 は、詳細ページより申込のキャンセルをお願い致しま
 す。※ 無断キャンセル・欠席が続く場合、次回以降の
 参加をお断りさせていただく場合がございますのでご
 了承ください。\n 
LOCATION:オンライン開催 (参加方法は別途ご案内させてい
 ただきます)
URL:https://techplay.jp/event/782903?utm_medium=referral&utm_source=ics&utm
 _campaign=ics
END:VEVENT
END:VCALENDAR
