BEGIN:VCALENDAR
VERSION:2.0
PRODID:-//https://techplay.jp//JP
CALSCALE:GREGORIAN
METHOD:PUBLISH
X-WR-CALDESC:《学生限定！！》１時間ですぐ出来る。Lumion
 で作る静止画・動画（無料）
X-WR-CALNAME:《学生限定！！》１時間ですぐ出来る。Lumion
 で作る静止画・動画（無料）
X-WR-TIMEZONE:Asia/Tokyo
BEGIN:VTIMEZONE
TZID:Asia/Tokyo
BEGIN:STANDARD
DTSTART:19700101T000000
TZOFFSETFROM:+0900
TZOFFSETTO:+0900
TZNAME:JST
END:STANDARD
END:VTIMEZONE
BEGIN:VEVENT
UID:783732@techplay.jp
SUMMARY:《学生限定！！》１時間ですぐ出来る。Lumionで作
 る静止画・動画（無料）
DTSTART;TZID=Asia/Tokyo:20200627T180000
DTEND;TZID=Asia/Tokyo:20200627T190000
DTSTAMP:20260419T220958Z
CREATED:20200620T135909Z
DESCRIPTION:イベント詳細はこちら\nhttps://techplay.jp/event/78373
 2?utm_medium=referral&utm_source=ics&utm_campaign=ics\n\n【定期開催
 】《学生限定！！》１時間ですぐ出来るLumionで作る静
 止画・動画（無料）\n概要\n《対象者》建築・土木・ラ
 ンドスケープ・都市デザインを学ぶ学生／CGで静止画
 ・動画を作成してみたい学生《内容》Lumionの基本的な
 使い方　静止画・動画作成方法\nタイムスケジュール\n
 ※ 当日予告なく時間配分・内容が変更になる可能性が
 ございます。\n登壇者\n\n府川 映子　Twitter\n有限会社　
 リビングCG　\n一級建築士。Disital Artist.設計事務所勤務
 の後、広告用建築CGパースの制作会社にて勤務。Lumion
 と出会いリビングCG社へ。現在は制作者から制作支援
 者として皆様のお手伝いをしています。\n\n参加対象\n
 ・建築/土木/都市デザインなど専攻している学生　・
 建築ビジュアライゼーションに興味がある学生\n※ リ
 クルーティング、勧誘など、採用目的でのイベント参
 加はお断りしております。 ※ 飲食のみを目的とした
 ご応募・ご来場はご遠慮ください。 ※ 補欠者の方は
 、ご来場いただいてもご入場いただくことが出来ませ
 んのでご了承ください。\n持ち物\n出来ればSutudent版（
 無料）をダウンロードしてからご覧ください。https://lu
 mion3d.jp/academic/\n参加費\n無料\nハッシュタグ\n#techplayjp \
 n#Lumion\n\n\n注意事項\n※ 参加を辞退する場合は、詳細
 ページより申込のキャンセルをお願い致します。※ 無
 断キャンセル・欠席が続く場合、次回以降の参加をお
 断りさせていただく場合がございますのでご了承くだ
 さい。\n 
LOCATION:オンライン
URL:https://techplay.jp/event/783732?utm_medium=referral&utm_source=ics&utm
 _campaign=ics
END:VEVENT
END:VCALENDAR
