BEGIN:VCALENDAR
VERSION:2.0
PRODID:-//https://techplay.jp//JP
CALSCALE:GREGORIAN
METHOD:PUBLISH
X-WR-CALDESC:リーグオブ情シス 第一回 スーパーリーグ #LoI
X-WR-CALNAME:リーグオブ情シス 第一回 スーパーリーグ #LoI
X-WR-TIMEZONE:Asia/Tokyo
BEGIN:VTIMEZONE
TZID:Asia/Tokyo
BEGIN:STANDARD
DTSTART:19700101T000000
TZOFFSETFROM:+0900
TZOFFSETTO:+0900
TZNAME:JST
END:STANDARD
END:VTIMEZONE
BEGIN:VEVENT
UID:784653@techplay.jp
SUMMARY:リーグオブ情シス 第一回 スーパーリーグ #LoI
DTSTART;TZID=Asia/Tokyo:20200722T190000
DTEND;TZID=Asia/Tokyo:20200722T220000
DTSTAMP:20260425T184934Z
CREATED:20200629T061804Z
DESCRIPTION:イベント詳細はこちら\nhttps://techplay.jp/event/78465
 3?utm_medium=referral&utm_source=ics&utm_campaign=ics\n\nリーグオブ
 情シス（League of Infosys\, LoI）とは\n仮想の企業、必須シ
 ステム、一人あたり月額予算の条件のもとで、様々な
 サービスを組み合わせて「僕がかんがえたさいつよの
 情報システム」を各チーム25分（質問込）の持ち時間
 でプレゼンするイベントです\n配信場所\n\nTwitch TV: https
 ://www.twitch.tv/cloudnativeinc\nYoutube Live: https://www.youtube.com/wa
 tch?v=DlQWkTtoxV4\n\nルール\n当日発表ルール【重要】\nLoIで
 は毎回 当日発表ルール を設けます。後述する通常ル
 ールに加えて、当日具体的な企業の業種や現行のシス
 テム・ビジネスの状況などが共有され、イベント開始
 から30分間、資料や構成の修正時間が設けられます。\n
 修正時間中は各チームSlackコールなどを用いて資料修
 正を行ってください。\nまた、その間主催者（仮想企
 業の経営陣）がホストしているZoomにJoinして質問を行
 ったりすることが可能です。主催者のZoomは常時視聴者
 に対してライブ配信されており、視聴者はよりリアル
 にサービス選定の過程を観戦することが可能です。ま
 た、各チームは他チームの質問を聞くことも可能です
 。\n公平性を期す為資料は1チーム目の発表前に全ての
 チームから提出してもらい、以降の修正は出来ません
 。\n各チームは仮想企業のシステム選定プロジェクト
 のチームとなります。経営陣の移行を汲み取り、より
 良い提案を行ってください。\n※発表順は主催者の指
 定となります\nヒント\n初回は創業3〜6年くらいのITベ
 ンチャー企業となります。\n持ち時間\n各チーム25分（
 質問込）\nチーム人数\n1名～4名（代表者のみ発表者枠
 で応募してください）\n必須発表内容\n以下は必ず発表
 内容に含めてください\n\n社内システム図\n予算表\n\n必
 須システム\n以下のシステムは必須です。その他のツ
 ールについては予算内でご検討ください。\n\nメール\n
 社内コミュニケーションツール\nIdentity Provider\nMobile Dev
 ice Management\nMicrosoft Office\nSecurity (EPP\, EDR\, etc...)\nSFA or C
 RM（何らかのサービスによる内製可）\n勤怠管理\n\n予
 算（スーパーリーグ）\n\n企業規模: 100～200名\n業種: イ
 ンターネットサービス企業（具体的な業種は当日発表
 ）\n一人あたり月額予算: 10\,000円\n情シス人数：1人\n\n
 タイムスケジュール\n\n18:00〜\n発表者の画面共有テス
 トを順次実施\n\n\n18:30〜\n配信開始\n\n\n19:00〜\nイベン
 ト説明（主催者）\n\n\n19:05〜\n参加チーム紹介（主催者
 ）\n\n\n19:10〜\n当日ルール発表（主催者）\n企業説明\n\n
 \n\n\n19:15〜\n資料修正開始（発表者）\nWebサービス等に
 ついての雑談タイム（主催者&視聴者）\n\n\n19:50〜\nチ
 ーム1発表\n入れ替え時間\n\n\n20:20〜\nチーム2発表\n入れ
 替え時間\n\n\n20:50〜\nチーム3発表\n入れ替え時間\n\n\n21:
 20〜\nチーム4発表\n\n\n21:45〜\n総括\n次回告知\n\n\n22:00\n
 イベント終了\n\n\n\n質問など\nルールはまだ確定では御
 座いません。\nルールに関する質問などは情シスSlackの
  #event_200722_loi のチャンネルでお願いします。\n情シスS
 lackへの参加リンクはこちら
LOCATION:Twitch オンライン
URL:https://techplay.jp/event/784653?utm_medium=referral&utm_source=ics&utm
 _campaign=ics
END:VEVENT
END:VCALENDAR
