BEGIN:VCALENDAR
VERSION:2.0
PRODID:-//https://techplay.jp//JP
CALSCALE:GREGORIAN
METHOD:PUBLISH
X-WR-CALDESC:#BECAUSENOW vol.3　eiicon活用事業者が語る　 アフ
 ターコロナ・ウィズコロナにおけるオープンイノベー
 ションの実際のところ
X-WR-CALNAME:#BECAUSENOW vol.3　eiicon活用事業者が語る　 アフ
 ターコロナ・ウィズコロナにおけるオープンイノベー
 ションの実際のところ
X-WR-TIMEZONE:Asia/Tokyo
BEGIN:VTIMEZONE
TZID:Asia/Tokyo
BEGIN:STANDARD
DTSTART:19700101T000000
TZOFFSETFROM:+0900
TZOFFSETTO:+0900
TZNAME:JST
END:STANDARD
END:VTIMEZONE
BEGIN:VEVENT
UID:784924@techplay.jp
SUMMARY:#BECAUSENOW vol.3　eiicon活用事業者が語る　 アフター
 コロナ・ウィズコロナにおけるオープンイノベーショ
 ンの実際のところ
DTSTART;TZID=Asia/Tokyo:20200730T190000
DTEND;TZID=Asia/Tokyo:20200730T203000
DTSTAMP:20260420T111012Z
CREATED:20200701T021528Z
DESCRIPTION:イベント詳細はこちら\nhttps://techplay.jp/event/78492
 4?utm_medium=referral&utm_source=ics&utm_campaign=ics\n\nオンライン
 開催！\n#BECAUSENOW vol.3　\neiicon活用事業者が語る アフタ
 ーコロナ・ウィズコロナにおけるオープンイノベーシ
 ョンの実際のところ\n\n参加者にはもれなくeiiconで活用
 可能なメッセージチケットを付与！\n#今だからこそ、
 イノベーションを止めない。\neiicon company 主催\n概要\n\
 n新型コロナウイルス感染症による影響を受け、企業間
 コミュニケーションは日々選択を迫られ大きく変化し
 ています。\nテレワークへの切り替えをきっかけに、
 オンラインで出会える場としてオープンイノベーショ
 ンプラットフォームAUBAをご活用いただく企業が増加し
 ている中、ウィズコロナといった状況下の中でどのよ
 うにオープンイノベーションを進めていくべきなのか
 、といった疑問の声も多く聞かれます。\n不安を抱え
 る企業様も多い中、eiiconでは今だからこそオープンイ
 ノベーションに取り組む企業を積極的に後押しします
 。\n\n当日は実際にeiiconをご活用頂いている大手企業/
 スタートアップの皆様から、ウィズコロナにおけるオ
 ープンイノベーションで何が変化したと感じているか
 、また現在、今後のオープンイノベーションをどのよ
 うに推進していこうと考えているかをお伺いし、現在
 のオープンイノベーション、そしてeiicon活用のリアル
 をお届けする、今だからこそのオープンイノベーショ
 ンをお伝えします。\n\n当日参加いただいたAUBA会員の
 皆様には、AUBA上で他社へのメッセージ送信が可能とな
 るメッセージチケットをプレゼントいたします。\n\n#
 今だからこそ、イノベーションを止めない。\nタイム
 スケジュール\n\n\n\n時間\n内容\n\n\n18:30\n接続開始\n\n\n19
 :00〜19:05\n\nオープニング\n\n\n\n19:05〜19:35\n\nアフターコ
 ロナ・ウィズコロナにおけるオープンイノベーション
 の実際のところcase1：大日本印刷株式会社\n松嶋亮平氏
 \n大日本印刷株式会社 情報イノベーション事業部 ビジ
 ネスデザイン本部\nマーケティンググループリーダー\n
 \n\n\n19:35〜20:05\n\nアフターコロナ・ウィズコロナにお
 けるオープンイノベーションの実際のところcase2：株
 式会社ニューステクノロジー\n大北潤氏\n株式会社ニュ
 ーステクノロジー 取締役　兼　株式会社ベクトル 事
 業本部　\n\n\n\n\n20:05〜20:30\n質疑応答（オンラインで受
 け付けます） アンケートほか\n\n\n20:30\n\n終了予定\n\n\n
 \n\n※ 時間・内容は予告なく変更になる可能性がござ
 います。予めご了承ください。\n登壇者\n\n松嶋亮平氏\
 n大日本印刷株式会社 情報イノベーション事業部 ビジ
 ネスデザイン本部 マーケティンググループリーダー\n\
 n2004年にDNPに新卒入社し、ICカードシステムなどデバイ
 ス関係の営業企画を担当。2016年から事業企画本部に所
 属し、中期経営計画策定やM&Aに携わる。2018年10月に、
 ビジネスデザイン本部が発足したタイミングでジョイ
 ンし、主に新規事業開発を手がける。\n\n\n\n大北潤氏\n
 株式会社ニューステクノロジー 取締役　兼　株式会社
 ベクトル 事業本部　\n\n大学卒業後、人材紹介会社に
 入社。2012年に株式会社マイクロアドにて広告業務を行
 う。福岡支社、フィリピン支社、中国支社などの立ち
 上げに携わり、株式会社ベクトル とマイクロアドの合
 弁会社ニューステクノロジーを立ち上げる。現在はベ
 クトル、ニューステクノロジーにて新規事業の立ち上
 げ業務を行う。\n〜実積〜\n九州大学と産官学連携のESG
 投資の研究、ライトアップ社（上場企業）と助成金支
 援事業、Spready社（スタートアップ）との成果報酬サー
 ビスなど\nモデレーター\n\n曽田将弘\neiicon company 　Enter
 prise事業部Sales Group Leader\n\n2011年に株式会社インテリジ
 ェンス（現パーソルキャリア株式会社）入社。eiiconの
 ビジネスサイドとして、オープンイノベーションの実
 践・新規事業開発を検討している企業への企画・支援
 を実施。・スポーツ庁 アクセラレータープログラム 
 プロジェクトマネージャー\n・大手IT企業 アクセラレ
 ータープログラム プロジェクトリーダー\n・大手建設
 機械メーカー オープンイノベーションプログラム プ
 ロジェクトリーダー\n・大手エンターテイメント系企
 業 アクセラレータープログラム プロジェクトリーダ
 ー\nその他、各業界大手企業のオープンイノベーショ
 ンプログラム支援、各種プログラムのファシリテート
 等の実績多数\n参加費\n無料\n視聴方法\nオンライン配
 信となるため、視聴方法は別途ご案内させていただき
 ます。\n注意事項\n※営業、勧誘目的でのイベント参加
 はお断りいたします。 \n※ 参加を辞退する場合は、詳
 細ページより申込のキャンセルをお願いいたします。
 また無断キャンセル・欠席が続く場合は、次回以降の
 参加をお断りさせていただく場合がございます。ご了
 承ください。
LOCATION:https://youtu.be/ZojMJLtJiAY
URL:https://techplay.jp/event/784924?utm_medium=referral&utm_source=ics&utm
 _campaign=ics
END:VEVENT
END:VCALENDAR
