BEGIN:VCALENDAR
VERSION:2.0
PRODID:-//https://techplay.jp//JP
CALSCALE:GREGORIAN
METHOD:PUBLISH
X-WR-CALDESC:【7/31締切】助成金を活用したテレワーク導入
 ～採択事例から申請サポートをここだけ公開～(7/20開
 催)
X-WR-CALNAME:【7/31締切】助成金を活用したテレワーク導入
 ～採択事例から申請サポートをここだけ公開～(7/20開
 催)
X-WR-TIMEZONE:Asia/Tokyo
BEGIN:VTIMEZONE
TZID:Asia/Tokyo
BEGIN:STANDARD
DTSTART:19700101T000000
TZOFFSETFROM:+0900
TZOFFSETTO:+0900
TZNAME:JST
END:STANDARD
END:VTIMEZONE
BEGIN:VEVENT
UID:786669@techplay.jp
SUMMARY:【7/31締切】助成金を活用したテレワーク導入～採
 択事例から申請サポートをここだけ公開～(7/20開催)
DTSTART;TZID=Asia/Tokyo:20200720T170000
DTEND;TZID=Asia/Tokyo:20200720T180000
DTSTAMP:20260424T175704Z
CREATED:20200716T032828Z
DESCRIPTION:イベント詳細はこちら\nhttps://techplay.jp/event/78666
 9?utm_medium=referral&utm_source=ics&utm_campaign=ics\n\n本ウェビナ
 ーでは2020年7月31日(金)申請締切の東京都テレワーク助
 成金の採択事例を元に、申請の進め方・オススメのIT
 ツールをご紹介します。\nこんな方におすすめ\n\n東京
 都テレワーク助成金の採択事例を知りたい方\n今から
 どのように準備を進めれば申請に間に合わせられるの
 か知りたい方\nトライエッジによる申請サポートとし
 て受けられる内容を知りたい方\n都内で事業をしてい
 る中堅・中小企業で助成金を活用してテレワーク環境
 の整備を考えている方\n\n\n\n\n\n東京都テレワーク助成
 金の概要\n\n助成率：10/10（基本的には全額が助成され
 る制度）\n助成金の上限：250万円\n申請要件：常時雇用
 する労働者が2名以上999名以下で、都内に本社または事
 業所を置く中堅・中小企業等\n\n※テレワーク助成金に
 ついての東京都からの告知ページより抜粋\n\n\n\n\nどん
 な会社・申請内容が採択されたの？自社も採択の見込
 みがありそう？そんな疑問にお答えします！！\n本ウ
 ェビナーでは東京都テレワーク助成金の概要及び、弊
 社が申請サポートを務め実際に採択された事例を元に\
 n\nテレワーク環境の実現に必要なGoogle社・Zoho社のアプ
 リケーション\n助成金を活用したテレワーク導入の進
 め方\n助成金申請時のアプリケーションの組み合わせ
 例\n\nをご紹介します。\n\nGoogle社・Zoho社のアプリケー
 ションは弊社が代理店を務めており、これまでの導入
 支援実績からお客様に合わせた最適な組み合わせのご
 提案が可能です。\n申請締切まで残り少ない日数では
 ありますが、弊社サポートの元で今から準備を進めれ
 ば充分間に合う見込みはございます。\nテレワーク環
 境の整備に少しでも助成金の活用を希望されるのであ
 れば、この機会をお見逃し無く！！\n\n※Zohoとは？\n世
 界で5万社に導入されているビジネスアプリケーション
 です。米国のZoho社が開発するツールで、その中心とな
 るのが、Zoho CRMです。Zoho CRMを利用することによって、
 営業支援・顧客管理・商談管理などを営業・販売に関
 する重要な情報を蓄積するだけなく、顧客に対しての
 メールやショートメッセージでのアプローチを自動化
 することができます。\n本ウェビナーで学べる内容\n\n
 東京都テレワーク助成金の概要\nテレワーク環境の導
 入と助成金の活用方法について具体的な事例\n\n開催概
 要\n\n\n\n日時\n2020年7月20日(月)17：00〜18：00\n\n\n参加費\
 n無料\n\n\n配信ツール\n\nZoho ShowTime（PCから視聴の場合
 、アプリインストールは不要です）\n\n\n\n視聴方法\n\n
 お申込み時にご登録いただいたメールアドレスに、開
 催日の前日までに受講用のURLを送信いたします。\n\nPC
 から視聴される場合、視聴用ツールのインストールは
 不要です。\n視聴時にはChrome/Firefox/Operaいずれかのブラ
 ウザーの最新バージョンを使用してください。\n\nスマ
 ートフォンからの視聴を希望される場合、事前に視聴
 用アプリ「ShowtimeViewer」のインストールをお願いいた
 します。\n\niOSの方はこちら／Androidの方はこちら\n\n\n\n
 \n※ 当日予告なく時間配分・内容が変更になる可能性
 がございます。\n登壇者\n\n中野　三四朗\n株式会社ト
 ライエッジ　代表取締役CEO\n＜略歴＞\n人材派遣会社に
 新卒入社後、一貫してマーケティング部門に従事。チ
 ームで営業戦略の立案、\nCRMシステムの運用支援、顧
 客分析などを行う。その後、M&Aコンサルファームやメ
 ーカーでの営業企画などを経て、\nトライエッジを設
 立。大手IT企業、人材ビジネス企業などを100社以上の
 セールス支援・マーケティング支援を行う。\n現在は
 トライエッジにてCRM構築やAIを活用したマーケティン
 グ支援を展開。\n\n大分県中津市出身　広島県福山市育
 ち\n\n青山学院大学大学院卒\n参加対象\n・東京都テレ
 ワーク助成金の申請要件に対象する企業の方\n（常時
 雇用する労働者が2名以上999名以下で、都内に本社また
 は事業所を置く中堅・中小企業等）\n・テレワーク導
 入を検討の経営者/責任者の方\n注意事項\n※一定数以
 上のご応募があった場合、早期に募集を締め切らせて
 いただく場合がございます。※同業のお客様のお申し
 込みはお断りしております。あらかじめご了承くださ
 い。※締切日時を過ぎてからのお申込みは受講できな
 い場合があります。\n会社情報\n株式会社トライエッジ
 \n大手人材派遣会社のマーケティング部門出身者を中
 心に2011年に設立。「マーケティングの力で世界をくす
 ぐる」を掲げ、コンサルティングだけではなく市場調
 査から戦略企画、実務代行、結果分析、標準化までを
 一気通貫で行っています。\nZoho正規代理店（Advanced Part
 ner）\nURL：https://www.crm-agent.biz/index.html\n 
LOCATION:オンライン
URL:https://techplay.jp/event/786669?utm_medium=referral&utm_source=ics&utm
 _campaign=ics
END:VEVENT
END:VCALENDAR
