BEGIN:VCALENDAR
VERSION:2.0
PRODID:-//https://techplay.jp//JP
CALSCALE:GREGORIAN
METHOD:PUBLISH
X-WR-CALDESC:【7/31締切】助成金を活用したテレワーク導入
 ～採択事例から申請サポートをここだけ公開～(7/21開
 催)
X-WR-CALNAME:【7/31締切】助成金を活用したテレワーク導入
 ～採択事例から申請サポートをここだけ公開～(7/21開
 催)
X-WR-TIMEZONE:Asia/Tokyo
BEGIN:VTIMEZONE
TZID:Asia/Tokyo
BEGIN:STANDARD
DTSTART:19700101T000000
TZOFFSETFROM:+0900
TZOFFSETTO:+0900
TZNAME:JST
END:STANDARD
END:VTIMEZONE
BEGIN:VEVENT
UID:786707@techplay.jp
SUMMARY:【7/31締切】助成金を活用したテレワーク導入～採
 択事例から申請サポートをここだけ公開～(7/21開催)
DTSTART;TZID=Asia/Tokyo:20200721T170000
DTEND;TZID=Asia/Tokyo:20200721T180000
DTSTAMP:20260421T050033Z
CREATED:20200716T083123Z
DESCRIPTION:イベント詳細はこちら\nhttps://techplay.jp/event/78670
 7?utm_medium=referral&utm_source=ics&utm_campaign=ics\n\n本ウェビナ
 ーでは2020年7月31日(金)申請締切の東京都テレワーク助
 成金の\n採択事例を元に、申請の進め方・オススメのIT
 ツールをご紹介します。\nこんな方におすすめ\n\n東京
 都テレワーク助成金の採択事例を知りたい方\n今から
 どのように準備を進めれば申請に間に合わせられるの
 か知りたい方\nトライエッジによる申請サポートとし
 て受けられる内容を知りたい方\n都内で事業をしてい
 る中堅・中小企業で助成金を活用してテレワーク環境
 の整備を考えている方\n\n\n\n\n\n東京都テレワーク助成
 金の概要\n\n助成率：10/10（基本的には全額が助成され
 る制度）\n助成金の上限：250万円\n申請要件：常時雇用
 する労働者が2名以上999名以下で、都内に本社または事
 業所を置く中堅・中小企業等\n\n※テレワーク助成金に
 ついての東京都からの告知ページより抜粋\n\n\n\n\nどん
 な会社・申請内容が採択されたの？自社も採択の見込
 みがありそう？そんな疑問にお答えします！！\n本ウ
 ェビナーでは東京都テレワーク助成金の概要及び、弊
 社が申請サポートを務め実際に採択された事例を元に\
 n\nテレワーク環境の実現に必要なGoogle社・Zoho社のアプ
 リケーション\n助成金を活用したテレワーク導入の進
 め方\n助成金申請時のアプリケーションの組み合わせ
 例\n\nをご紹介します。\n\nGoogle社・Zoho社のアプリケー
 ションは弊社が代理店を務めており、これまでの導入
 支援実績からお客様に合わせた最適な組み合わせのご
 提案が可能です。\n申請締切まで残り少ない日数では
 ありますが、弊社サポートの元で今から準備を進めれ
 ば充分間に合う見込みはございます。\nテレワーク環
 境の整備に少しでも助成金の活用を希望されるのであ
 れば、この機会をお見逃し無く！！\n\n※Zohoとは？\n世
 界で5万社に導入されているビジネスアプリケーション
 です。米国のZoho社が開発するツールで、その中心とな
 るのが、Zoho CRMです。Zoho CRMを利用することによって、
 営業支援・顧客管理・商談管理などを営業・販売に関
 する重要な情報を蓄積するだけなく、顧客に対しての
 メールやショートメッセージでのアプローチを自動化
 することができます。\n本ウェビナーで学べる内容\n\n
 東京都テレワーク助成金の概要\nテレワーク環境の導
 入と助成金の活用方法について具体的な事例\n\n開催概
 要\n\n\n\n日時\n\n2020年7月21日(火)17：00〜18：00\n（7月20日
 ㈪開催セミナーと同内容です）\n\n\n\n参加費\n無料\n\n\n
 配信ツール\n\nZoho ShowTime（PCから視聴の場合、アプリイ
 ンストールは不要です）\n\n\n\n視聴方法\n\nお申込み時
 にご登録いただいたメールアドレスに、開催日の前日
 までに受講用のURLを送信いたします。\n\nPCから視聴さ
 れる場合、視聴用ツールのインストールは不要です。\
 n視聴時にはChrome/Firefox/Operaいずれかのブラウザーの最
 新バージョンを使用してください。\n\nスマートフォン
 からの視聴を希望される場合、事前に視聴用アプリ「S
 howtimeViewer」のインストールをお願いいたします。\n\niO
 Sの方はこちら／Androidの方はこちら\n\n\n\n\n※ 当日予告
 なく時間配分・内容が変更になる可能性がございます
 。\n登壇者\n\n中野　三四朗\n株式会社トライエッジ　
 代表取締役CEO\n＜略歴＞\n人材派遣会社に新卒入社後、
 一貫してマーケティング部門に従事。チームで営業戦
 略の立案、\nCRMシステムの運用支援、顧客分析などを
 行う。その後、M&Aコンサルファームやメーカーでの営
 業企画などを経て、\nトライエッジを設立。大手IT企業
 、人材ビジネス企業などを100社以上のセールス支援・
 マーケティング支援を行う。\n現在はトライエッジに
 てCRM構築やAIを活用したマーケティング支援を展開。\n
 \n大分県中津市出身　広島県福山市育ち\n\n青山学院大
 学大学院卒\n参加対象\n・東京都テレワーク助成金の申
 請要件に対象する企業の方\n（常時雇用する労働者が2
 名以上999名以下で、都内に本社または事業所を置く中
 堅・中小企業等）\n・テレワーク導入を検討の経営者/
 責任者の方\n注意事項\n※一定数以上のご応募があった
 場合、早期に募集を締め切らせていただく場合がござ
 います。※同業のお客様のお申し込みはお断りしてお
 ります。あらかじめご了承ください。※締切日時を過
 ぎてからのお申込みは受講できない場合があります。\
 n会社情報\n株式会社トライエッジ\n大手人材派遣会社
 のマーケティング部門出身者を中心に2011年に設立。「
 マーケティングの力で世界をくすぐる」を掲げ、コン
 サルティングだけではなく市場調査から戦略企画、実
 務代行、結果分析、標準化までを一気通貫で行ってい
 ます。\nZoho正規代理店（Advanced Partner）\nURL：https://www.c
 rm-agent.biz/index.html\n 
LOCATION:オンライン
URL:https://techplay.jp/event/786707?utm_medium=referral&utm_source=ics&utm
 _campaign=ics
END:VEVENT
END:VCALENDAR
