BEGIN:VCALENDAR
VERSION:2.0
PRODID:-//https://techplay.jp//JP
CALSCALE:GREGORIAN
METHOD:PUBLISH
X-WR-CALDESC:【少人数制オンライン開催】オウンドメディ
 アのアクセスを10倍にする方法教えます！実例あり！
X-WR-CALNAME:【少人数制オンライン開催】オウンドメディ
 アのアクセスを10倍にする方法教えます！実例あり！
X-WR-TIMEZONE:Asia/Tokyo
BEGIN:VTIMEZONE
TZID:Asia/Tokyo
BEGIN:STANDARD
DTSTART:19700101T000000
TZOFFSETFROM:+0900
TZOFFSETTO:+0900
TZNAME:JST
END:STANDARD
END:VTIMEZONE
BEGIN:VEVENT
UID:786708@techplay.jp
SUMMARY:【少人数制オンライン開催】オウンドメディアの
 アクセスを10倍にする方法教えます！実例あり！
DTSTART;TZID=Asia/Tokyo:20200729T160000
DTEND;TZID=Asia/Tokyo:20200729T170000
DTSTAMP:20260421T045711Z
CREATED:20200716T084457Z
DESCRIPTION:イベント詳細はこちら\nhttps://techplay.jp/event/78670
 8?utm_medium=referral&utm_source=ics&utm_campaign=ics\n\nオウンドメ
 ディアの運用をしているor考えている企業様向けセミ
 ナー\n概要\nオウンドメディアは比較的新しい顧客獲得
 のメソッドとして発展してきました。潜在顧客の購買
 意欲を高めたり、既存顧客にもっと深くサービスを知
 ってもらうための重要なフックとなります。\n今回は
 、オウンドメディアの運用について少人数制のセミナ
 ーをお送りします。オウンドメディアを用いて顧客を
 よりかんたんに、そして効率的にフォローできるよう
 にしていきましょう。\nオウンドメディアを実際に運
 用し、アクセスを10倍に伸ばした経験からお話させて
 頂きます。（自社でもメディアを所有して、運用して
 います。）\n\n※ 参加申込を頂いた方には、当日WEBセ
 ミナーの開始1時間前までにURLをお送りさせていただき
 ます。\n※必ずTechplayにご登録のアドレスが事務局から
 のメールを受け取れることをご確認下さい。こちらか
 らのご連絡がつかない方がいらっしゃいます。\nタイ
 ムスケジュール\n2020/07/29(水)\n16:00 ~ 17:00：WEBセミナー\n
 ※ 当日予告なく時間配分・内容が変更になる可能性が
 ございます。時間帯が変更になる場合は前もってご連
 絡いたします。\n※ Webでの実施です。\n登壇者\n \n岩下
  廉\n株式会社ポムスタディ代表取締役社長\n東京大学 
 農学部 国際開発農学専修 卒業\n◯登壇者略歴◯製薬会
 社、中央省庁、ITベンチャーでの勤務を経て、20年1月
 に株式会社ポムスタディを設立して独立。コロナ禍の
 状況下でも、経営の多角化を行い、増益増収を達成し
 ている。\n参加対象\n・法人のマーケティング／営業／
 顧客管理などの担当者様\n※ リクルーティング、勧誘
 など、採用目的でのイベント参加はお断りしておりま
 す。\n持ち物\nなし\n参加費\n無料（無料公開枠）\n500円
 （有料公開枠）\n注意事項\n※ 参加を辞退する場合は
 、詳細ページより申込のキャンセルをお願い致します
 。※ 無断キャンセル・欠席が続く場合、次回以降の参
 加をお断りさせていただく場合がございますのでご了
 承ください。\n 
LOCATION:オンライン
URL:https://techplay.jp/event/786708?utm_medium=referral&utm_source=ics&utm
 _campaign=ics
END:VEVENT
END:VCALENDAR
