BEGIN:VCALENDAR
VERSION:2.0
PRODID:-//https://techplay.jp//JP
CALSCALE:GREGORIAN
METHOD:PUBLISH
X-WR-CALDESC:[ エイベックスグループ執行役員が語る ] エン
 タメ業界のデジタルトランスフォーメーションとは
X-WR-CALNAME:[ エイベックスグループ執行役員が語る ] エン
 タメ業界のデジタルトランスフォーメーションとは
X-WR-TIMEZONE:Asia/Tokyo
BEGIN:VTIMEZONE
TZID:Asia/Tokyo
BEGIN:STANDARD
DTSTART:19700101T000000
TZOFFSETFROM:+0900
TZOFFSETTO:+0900
TZNAME:JST
END:STANDARD
END:VTIMEZONE
BEGIN:VEVENT
UID:786821@techplay.jp
SUMMARY:[ エイベックスグループ執行役員が語る ] エンタ
 メ業界のデジタルトランスフォーメーションとは
DTSTART;TZID=Asia/Tokyo:20200730T180000
DTEND;TZID=Asia/Tokyo:20200730T190000
DTSTAMP:20260419T224830Z
CREATED:20200717T072853Z
DESCRIPTION:イベント詳細はこちら\nhttps://techplay.jp/event/78682
 1?utm_medium=referral&utm_source=ics&utm_campaign=ics\n\n[エイベック
 スグループ執行役員が語る ]\nエンタメ業界のデジタル
 トランスフォーメーションとは\n概要\n【詳細】\n！！
 ！！！！！満員のため枠数増加！！！！！！！\nコロ
 ナウィルスの影響によりエンタメ業界やイベント業界
 にも変革をもたらす必要がでてきました。「エンタメ
 業界の動向」・「エンタメ×テクノロジー」について\n
 エイベックス株式会社グループ執行役員を含めた下記
 豪華登壇者が語ります。\n今回のウェビナーはエンタ
 メ・イベント事業に携わられている方・実際にアーテ
 ィストやパフォーマーとして活動されている方それぞ
 れにとって今後の活動のヒントになること間違いあり
 ません。\n\n【エイベックス株式会社 グループ執行役
 員\nエイベックス・ビジネス・ディベロップメント株
 式会社 代表取締役社長　　加藤 信介】\n\n・テクノロ
 ジーがエンターテイメントにもたらした変化・\nそれ
 に伴うユーザーの価値観の変化に対する挑戦について
 解説\n\n【フォッグ株式会社　代表取締役 CEO　　関根 
 佑介】\n・withコロナ、afterコロナでのプラットフォー
 マーから見たエンタメ業界の課題や成功例。そしてプ
 ラットフォーマーとしてやるべきことを事例を用いて
 解説\n\n【このような方に】\n・エンタメ系・イベント
 系の会社を経営されている方\n・エンタメ・イベント
 企画マーケティング担当者の方\n・デジタルトランス
 フォーメーションに興味がある方\n・エンタメ×テクノ
 ロジーに興味のある方\n・アーティスト・パフォーマ
 ーとして活動されている方\n【プログラム】\n第1部＜
 登壇者講演＞各15分×2\n第2部＜登壇者3名によるパネル
 ディスカッション＞30分\n【開催概要】\n開催日：2020年
 7月30日18:00-19:00\n参加費：無料\n視聴方法：Zoom\n動画視
 聴方法につきましては、お申し込みいただいた方への
 みご案内させていただきます。\n\n\n\n登壇者\n\n【エイ
 ベックス株式会社 グループ執行役員】　エイベックス
 ・ビジネス・ディベロップメント株式会社 代表取締役
 社長　　加藤 信介】\n2004 年エイベックス株式会社入
 社入社後は営業・販売促進・アーティストマネジメン
 トと音楽事業に長く携わり、2016 年に社長室へ異動。
 社長室部長として、構造改革や新規プロジェクトに参
 画。2017 年よりグループ執行役員として戦略人事・グ
 ループ広報・マーケティングアナリティクス・デジタ
 ル R&D を担当。2018 年に新事業開発・戦略投資機能を立
 ち上げ、2020 年同領域を子会社化（エイベックス・ビ
 ジネス・ディベロップメント株式会社）\n\n\n【フォッ
 グ株式会社　代表取締役 CEO　　関根 佑介】\n複数のWEB
 やアプリケーションサービスの企画・立案を担当し、
 携わったアプリの累計ダウンロード数は6\,000万以上。
 国内初のプラットフォームを立ち上げるためにフォッ
 グを設立し、代表取締役に就任。ユナイテッド独自の
 新規事業プログラム「U-PRODUCE」の起案者であり、制度
 全体のプロデューサーも兼任している。\n\n【モデレー
 ター】\n\n【ユナイテッド株式会社　執行役員　米田吉
 宏】慶應義塾大学経済学部卒業後、 電通にて国内外で
 の広告プランニング、ビッグデータを用いたマーケテ
 ィングROI向上支援等に従事。2013年ボストン コンサル
 ティング グループ入社後、主に通信・メディア・テク
 ノロジー領域の経営戦略策定、新規事業開発、営業戦
 略、組織戦略等を担当。プロジェクトリーダーとして
 従事した後、2019年3月ユナイテッド株式会社執行役員
 に就任（現任）。DXソリューションの立案/推進と、全
 社戦略/組織強化を担当。\n参加費\n無料\n\n注意事項\n
 ※ 参加を辞退する場合は、詳細ページより申込のキャ
 ンセルをお願い致します。※ 無断キャンセル・欠席が
 続く場合、次回以降の参加をお断りさせていただく場
 合がございますのでご了承ください。\n 
LOCATION:オンライン
URL:https://techplay.jp/event/786821?utm_medium=referral&utm_source=ics&utm
 _campaign=ics
END:VEVENT
END:VCALENDAR
