BEGIN:VCALENDAR
VERSION:2.0
PRODID:-//https://techplay.jp//JP
CALSCALE:GREGORIAN
METHOD:PUBLISH
X-WR-CALDESC:大学生向けプログラミング教室「GeekSalon」リ
 リース発表会
X-WR-CALNAME:大学生向けプログラミング教室「GeekSalon」リ
 リース発表会
X-WR-TIMEZONE:Asia/Tokyo
BEGIN:VTIMEZONE
TZID:Asia/Tokyo
BEGIN:STANDARD
DTSTART:19700101T000000
TZOFFSETFROM:+0900
TZOFFSETTO:+0900
TZNAME:JST
END:STANDARD
END:VTIMEZONE
BEGIN:VEVENT
UID:786839@techplay.jp
SUMMARY:大学生向けプログラミング教室「GeekSalon」リリー
 ス発表会
DTSTART;TZID=Asia/Tokyo:20200914T170000
DTEND;TZID=Asia/Tokyo:20200915T210000
DTSTAMP:20260423T043010Z
CREATED:20200717T101151Z
DESCRIPTION:イベント詳細はこちら\nhttps://techplay.jp/event/78683
 9?utm_medium=referral&utm_source=ics&utm_campaign=ics\n\n\nGeekSalonと
 は？\n東京・京都・福岡の3拠点に展開する大学生限定
 のプログラミングコミュニティ。3ヶ月のコースを通し
 て、同期と切磋琢磨しながら自作サービスの完成を目
 指します。専属のメンターと二人三脚で開発したサー
 ビスは、3ヶ月の締めくくりである発表会にて披露しま
 す。大学の勉強と並行しつつ、多くが未経験の中たっ
 た3か月で作り上げたユニークなサービスに注目です！
 \n※全日程17:00~21:00での開催となります。\n▼日程一覧\
 n①9/14 17:00-21:00　@弊社イベントスペース\n②9/15 17:00-21:
 00　@弊社イベントスペース\nチケットの選択時に①・
 ②をお選びください。\n▼参考GeekSalon公式サイト\n▼Gee
 kSalonに興味をお持ちの企業様へ\nGeekSalonでは、毎月東
 京・京都・福岡にて発表会を実施しています。\n✔️
 エンジニア/ PM（総合職）の新卒採用✔️長期インター
 ンとして低学年の採用✔️自社の内定者研修としての
 活用\n✔️学生接点との機会創出\nなどに興味をお持ち
 の企業様/社会人様は、お気軽にお申し込みください。
 \n※基本的にオフラインでの開催を予定しております
 がコロナウィルスの影響によりオンライン、または中
 止になる場合がございます。\n※開催に関する変更は
 お申し込みのメールアドレスまたは電話番号へ開催1週
 間前までご連絡させていただきます。\n見学をご希望
 の企業様/社会人様は下記URLよりお申し込みをお願い致
 します。 \nhttps://bit.ly/2CcsmEq \n \n 
LOCATION:GeekSalon 東京教室　セミナールーム 〒150-0022 東京
 都渋谷区恵比寿南3丁目3−8 烏山恵比寿ビル2階
URL:https://techplay.jp/event/786839?utm_medium=referral&utm_source=ics&utm
 _campaign=ics
END:VEVENT
END:VCALENDAR
