BEGIN:VCALENDAR
VERSION:2.0
PRODID:-//https://techplay.jp//JP
CALSCALE:GREGORIAN
METHOD:PUBLISH
X-WR-CALDESC:つくばチャレンジ2020説明会
X-WR-CALNAME:つくばチャレンジ2020説明会
X-WR-TIMEZONE:Asia/Tokyo
BEGIN:VTIMEZONE
TZID:Asia/Tokyo
BEGIN:STANDARD
DTSTART:19700101T000000
TZOFFSETFROM:+0900
TZOFFSETTO:+0900
TZNAME:JST
END:STANDARD
END:VTIMEZONE
BEGIN:VEVENT
UID:786994@techplay.jp
SUMMARY:つくばチャレンジ2020説明会
DTSTART;TZID=Asia/Tokyo:20200801T101500
DTEND;TZID=Asia/Tokyo:20200801T122500
DTSTAMP:20260425T212952Z
CREATED:20200719T141705Z
DESCRIPTION:イベント詳細はこちら\nhttps://techplay.jp/event/78699
 4?utm_medium=referral&utm_source=ics&utm_campaign=ics\n\n概要\n\n日時
 ：2020/08/01(土) 10:00開場、10:15開始\n場所：Zoom & Slido\n\n
 つくばチャレンジ2020の参加者／参加希望者向けの説明
 会を開催します。\nつくばチャレンジ2020にすでに参加
 登録された方も、まだ参加登録を検討中の方も、ぜひ
 説明会を聴講して頂ければと思います。今年度の活動
 内容について説明させて頂きます。\nconnpass での参加
 募集〆切は、上記の「募集期間」を参照してください
 。\nZoom & Slido の URL は、参加予定のユーザーに connpass 
 からのメールで前日までにご連絡します。また、参加
 予定のユーザーのみに表示される、本ページ上部の「
 参加者への情報」に記載します。\nつくばチャレンジ20
 20参加チーム募集中！（8/7(金)〆切）\nつくばチャレン
 ジ2020スポンサー募集中！（8/31(月)〆切）\nプログラム\
 n\n\n\n時間\n内容\n発表者\n\n\n\n\n10:15～10:20（5分）\nOpenin
 g Remarks\n原 祥尭（千葉工大 fuRo）\n\n\n10:20～10:25（5分）
 \n実行委員長挨拶\n坪内 孝司（筑波大）\n\n\n10:25～10:50
 （発表20分、質疑5分）\nつくばチャレンジ2020活動内容-
  各チーム拠点での実機実験- データセットの提供や利
 用- シミュレータの利用\n原 祥尭（千葉工大 fuRo）\n\n\n
 10:50～11:00（発表5分、質疑5分）\nつくばチャレンジ2019
 技術調査報告（復習）\n原 祥尭（千葉工大 fuRo）\n\n\n11
 :00～11:15（発表10分、質疑5分）\nVirtual Tsukuba Challenge シ
 ミュレータ\n吉田 智章（千葉工大 fuRo）\n\n\n11:15～11:30
 （発表10分、質疑5分）\nVirtual Tsukuba Challenge on Unity シミ
 ュレータ\n田中 良道（筑波大／産総研）\n\n\n11:30～11:45
 （発表10分、質疑5分）\nGNSS 測位手段の概要\n岡本 修（
 茨城高専）\n\n\n11:45～12:00（発表10分、質疑5分）\nソフ
 トバンク高精度測位サービス「ichimill」の無償貸与\n大
 西 健広（ソフトバンク）\n\n\n12:00～12:10（発表5分、質
 疑5分）\n北陽電機 LIDAR URG シリーズの無償貸与\n嶋地 
 直広（北陽電機）\n\n\n12:10～12:20（10分）\n全体の質疑\n
 \n\n\n12:20～12:25（5分）\nClosing Remarks\n坪内 孝司（筑波大
 ）\n\n\n\nZoom の設定\n\n自分の名前を、「氏名（所属）
 」のように変更をお願いします。ニックネームでも構
 いません。\n人数が多いため、発表者以外はミュート
 にして発言するときのみ解除をお願いします。\n顔出
 しできる方はカメラON、できない方はカメラOFFでお願
 いします。また、質疑応答などで発言される際は、カ
 メラONにして頂ければと思います。\n\nSlido での質疑応
 答\n\n発表時間中に随時、質問内容を書き込んでくださ
 い。\n自分が口頭で質問したい場合は、名前（ニック
 ネームでも構いません）を入力してください。\n司会
 による代読の質問で良い場合は、名前を入力せず匿名
 にしてください。\nどの発表に対する質問か分かるよ
 うに、「<発表者>への質問です」や「<内容>に関する質
 問です」のように最初に書き、その後に質問内容を書
 いてください。\n\n\n自分も聞きたいと思う質問があれ
 ば、Like ボタンを押してください。\n発表終了後、司会
 が Like 数を参考にして質問を選択します。\n名前の入
 力がある場合は、司会が質問者の名前（およびどの質
 問か）をお呼びしますので、ミュートを解除して質問
 してください。\n匿名の場合は、司会が質問内容を代
 読する形で質問します。\n\n\nSlido に回答内容となる返
 信の書き込みは行わない予定です。\n\n連絡事項\n\nZoom 
 には、参加人数（接続数）の制限があります。最大300
 人のアカウントを使用していますが、事務局などで使
 用する10人分を確保しているため、connpass での参加募
 集人数は290人とさせて頂いています。\nconnpass の参加
 申し込みは、チーム単位ではなく、一人ずつ行ってく
 ださい。ひとつの参加申し込みで Zoom に複数接続しな
 いようにお願い致します。\nZoom & Slido の URL は、SNS な
 どで外部に公開しないよう、ご注意をお願い致します
 。\n当日 Zoom を録画して、後日 YouTube に期間限定（数
 週間）で公開させて頂きます。各自、プライバシーや
 ハラスメントなどへの配慮をお願い致します。なお、Y
 ouTube Live などでのライブ配信は行いません。\n発表資
 料については、終了後に以下の資料ページで公開され
 る予定です。\nつくばチャレンジのハッシュタグは、#
 つくチャレです。Twitter などへの積極的な投稿をお願
 いできればと思います。\n\nつくばチャレンジ Web サイ
 ト\n\nホームページ\nGitHub\nSpectrum.chat\n
LOCATION:Zoom & Slido オンライン
URL:https://techplay.jp/event/786994?utm_medium=referral&utm_source=ics&utm
 _campaign=ics
END:VEVENT
END:VCALENDAR
