BEGIN:VCALENDAR
VERSION:2.0
PRODID:-//https://techplay.jp//JP
CALSCALE:GREGORIAN
METHOD:PUBLISH
X-WR-CALDESC:mercari.go #14 オンライン開催
X-WR-CALNAME:mercari.go #14 オンライン開催
X-WR-TIMEZONE:Asia/Tokyo
BEGIN:VTIMEZONE
TZID:Asia/Tokyo
BEGIN:STANDARD
DTSTART:19700101T000000
TZOFFSETFROM:+0900
TZOFFSETTO:+0900
TZNAME:JST
END:STANDARD
END:VTIMEZONE
BEGIN:VEVENT
UID:787378@techplay.jp
SUMMARY:mercari.go #14 オンライン開催
DTSTART;TZID=Asia/Tokyo:20200806T163000
DTEND;TZID=Asia/Tokyo:20200806T180000
DTSTAMP:20260425T161318Z
CREATED:20200722T141846Z
DESCRIPTION:イベント詳細はこちら\nhttps://techplay.jp/event/78737
 8?utm_medium=referral&utm_source=ics&utm_campaign=ics\n\n概要 / Overvie
 w\n配信URL: https://youtu.be/BpKBUAqkxsw\nmercari.goは株式会社メ
 ルカリが主催するGoの勉強会です。\nメルカリグループ
 所属のGoエンジニアが、社内でのGoの採用事例や、個人
 開発で得た知見、最近のトレンドなど、Goに関するい
 ろいろな事をお話しします！\n※当イベントは、Youtube 
 Liveで生配信します。URLはイベント開催日にお知らせ予
 定です。\n※開催時間を夕方としております。真剣に
 聞いていただくも良し、別の作業をしながら聞いてい
 ただくのも良しです。\nmercari.go is a study session about Go th
 at is organized by Mercari\, inc.\nGo engineers in Mercari group will hav
 e a presentation about in-house use case of Go\, knowledge from personal 
 project\, or recent trends!\n\nThe event will be streamed live on Youtube
  Live\, with the URL to be announced on the day of the event.\nThe event 
 will be held in the evening. Feel free to listen to it while you work on 
 something else.\n\nこんな人にオススメ\n今日のイベントテ
 ーマに興味がある\n仕事や趣味で Go を使っている\n仕
 事で使える Go の知見が欲しい\nメルカリ・メルペイの 
 Go エンジニアの話が聞きたい\n発表一覧 / Topics\n@goccy\n
 最速のJSONライブラリを求めて\n@rossy\nリトライでtime.Sle
 ep()使ったら積んだ話\n@zoncoen\nExtend the Kubernetes API with Ku
 bebuilder\n行動規範 / Code of Conduct\n主催者を含む全ての参
 加者は次のページに記載される行動規範に従う必要が
 あります。\nhttps://about.mercari.com/event-code-of-conduct/\nAll pa
 rticipants\, including organizers\, are required to follow the Code of Co
 nduct described in the following page.\nhttps://about.mercari.com/en/even
 t-code-of-conduct/\nその他 / Others\nオリジナルのGopherはRenée
  Frenchによってデザインされ、CC BY 3.0ライセンスが適用
 されています。\nヘッダに使用したGopherはTakuya Ueda (http
 s://twitter.com/tenntenn) によってデザインされ、CC BY 3.0ラ
 イセンスが適用されています。 (https://github.com/golang-sam
 ples/gopher-vector)\nThe original Gopher was designed by Renée French\, 
 and CC BT 3.0 License is applied.\nThe Gopher on the event header was des
 igned by Takuya Ueda (https://twitter.com/tenntenn)\, and CC BT 3.0 Licen
 se is applied. (https://github.com/golang-samples/gopher-vector)
LOCATION:YouTube Live オンライン
URL:https://techplay.jp/event/787378?utm_medium=referral&utm_source=ics&utm
 _campaign=ics
END:VEVENT
END:VCALENDAR
