BEGIN:VCALENDAR
VERSION:2.0
PRODID:-//https://techplay.jp//JP
CALSCALE:GREGORIAN
METHOD:PUBLISH
X-WR-CALDESC:OpenID TechNight vol.17 ~ with コロナ編
X-WR-CALNAME:OpenID TechNight vol.17 ~ with コロナ編
X-WR-TIMEZONE:Asia/Tokyo
BEGIN:VTIMEZONE
TZID:Asia/Tokyo
BEGIN:STANDARD
DTSTART:19700101T000000
TZOFFSETFROM:+0900
TZOFFSETTO:+0900
TZNAME:JST
END:STANDARD
END:VTIMEZONE
BEGIN:VEVENT
UID:787410@techplay.jp
SUMMARY:OpenID TechNight vol.17 ~ with コロナ編
DTSTART;TZID=Asia/Tokyo:20200820T170000
DTEND;TZID=Asia/Tokyo:20200820T190000
DTSTAMP:20260425T010016Z
CREATED:20200723T061933Z
DESCRIPTION:イベント詳細はこちら\nhttps://techplay.jp/event/78741
 0?utm_medium=referral&utm_source=ics&utm_campaign=ics\n\nTechNight 初の
 リモート開催\nwith コロナ時代なので、2020年の OpenID Fou
 ndation Japan のイベントは基本リモート開催を予定して
 おり、その最初のリモート開催イベントとして、1年半
 ぶりに TechNight を開催します。\n今回は、最近ブラウザ
 の変化を追いかけながら、いま起きている変化・少し
 未来に起きるであろう変化・それらが OpenID Connect やユ
 ーザー認証に及ぼす影響を見ていきたいと思います。\
 nリモート開催のため特に定員は設けませんが、おおよ
 その参加者数や録画公開時の事務連絡等のため、視聴
 希望の方はみなさんこの Connpass に申し込んでいただけ
 ると幸いです。\n講演内容\nSafari (ITP) & Chrome (SameSite=Lax 
 as default) が Federation に与える影響\n講演者 : 真武信和 (
 @nov)\, OpenID Foundation Japan 事務局長\nSafari の Intelligent Trac
 king Prevention (ITP) や Chrome の SameSite=Lax をデフォルトに
 する動きの中で、3rd-party Cookie に依存した Federation の
 仕組みにも影響が出てきています。\nこのセッション
 では OpenID Connect や SAML で 3rd-party Cookie へのアクセスが
 制限された状況で、どのような機能が影響を受けるの
 かをまとめようとおもいます。\nBounce Tracking Protectionに
 おけるFederationへの課題と最新動向\n講演者 : 都筑一希 
 (@kazuki229_dev)\, ヤフー株式会社\nITPに加え、最近ではBoun
 ce Tracking Protectionという新たなトラッキング対策がSafari
 に実装され始め、各ブラウザベンダなどがこの機能に
 ついて議論をすすめています。\nBounce Tracking Protectionに
 よる対策手法では、防ぎたいトラッキングとFederationの
 挙動の区別が付きづらいという課題があります。\nこ
 のセッションでは、Bounce Tracking Protectionの概要と、上
 記の課題、その解決策として議論されている内容を紹
 介します。\nWWDC 2020 参加報告 ~ Sign in with Apple & WebAuthn 
 まわりを中心に\n 講演者 : 名古屋謙彦 (@ayokura)\, 株式
 会社レピダム\nCOVID-19の影響で、Google I/OやWWDCといった
 開発者カンファレンスにも影響がありました。\nこの
 セッションでは、6/22~6/26に完全オンラインで開催され
 た、今年のWWDCでの、ID関係のトピックをご紹介します
 。\nトピックとしては、  \n\n（ユーザー視点で）Sign in 
 with Appleが簡単に使えるように！？\niPhoneやiPadもWebAuthn
 のplatform authenticatorになります！  \n\nなどを予定してお
 ります。\n中継および質疑について\n講演は以下の URL 
 からご覧ください。\nOpenID Foundation 公式 YouTube チャネ
 ル\n講演は3つで各30分程度、全公演終了後に視聴者か
 らの質問にお答えする時間をご用意します。\n質問の
 ある方は、随時以下の URL から質問の投稿をお願いし
 ます。\nhttps://app.sli.do/event/lm2wj02m
LOCATION:OIDF-J 公式 YouTube チャネル オンライン
URL:https://techplay.jp/event/787410?utm_medium=referral&utm_source=ics&utm
 _campaign=ics
END:VEVENT
END:VCALENDAR
