BEGIN:VCALENDAR
VERSION:2.0
PRODID:-//https://techplay.jp//JP
CALSCALE:GREGORIAN
METHOD:PUBLISH
X-WR-CALDESC:C/C++ 言語向けアプリケーションの最適化入門 -
  インテル® Parallel Studio XE Professional Edition によるパフ
 ォーマンス・チューニングへの入り口 -
X-WR-CALNAME:C/C++ 言語向けアプリケーションの最適化入門 -
  インテル® Parallel Studio XE Professional Edition によるパフ
 ォーマンス・チューニングへの入り口 -
X-WR-TIMEZONE:Asia/Tokyo
BEGIN:VTIMEZONE
TZID:Asia/Tokyo
BEGIN:STANDARD
DTSTART:19700101T000000
TZOFFSETFROM:+0900
TZOFFSETTO:+0900
TZNAME:JST
END:STANDARD
END:VTIMEZONE
BEGIN:VEVENT
UID:787918@techplay.jp
SUMMARY:C/C++ 言語向けアプリケーションの最適化入門 - イ
 ンテル® Parallel Studio XE Professional Edition によるパフォー
 マンス・チューニングへの入り口 -
DTSTART;TZID=Asia/Tokyo:20200911T133000
DTEND;TZID=Asia/Tokyo:20200911T153000
DTSTAMP:20260425T132707Z
CREATED:20200728T222557Z
DESCRIPTION:イベント詳細はこちら\nhttps://techplay.jp/event/78791
 8?utm_medium=referral&utm_source=ics&utm_campaign=ics\n\nC/C++ 言語向
 けアプリケーションの最適化入門\n～ インテル® Paralle
 l Studio XE Professional Edition によるパフォーマンス・チュ
 ーニングへの入り口 ～\n概要\n本セミナーでは、イン
 テル® Parallel Studio XE を使用した C/C++ 言語で記述され
 たアプリケーションのパフォーマンス・チューニング
 の入門コースとして、基本的な手法をご紹介します。\
 nアプリケーションの高速化が課題になったとき、どの
 ようにアプローチすれば良いのか、どのようにすれば
 効果的に高速化できるのか、そのような疑問に対して
 、パフォーマンス解析ツールやコンパイラー・オプシ
 ョンを使用した最適化方法を説明いたします。\n開催
 概要\n\n  \n    日付  \n    2020年 9月 11日 (金)  \n  \n  \n    
 時間 13:30 ～ 15:30 \n  \n  \n    タイトル C/C++ 言語向けア
 プリケーションの最適化入門- インテル® Parallel Studio X
 E Professional Edition によるパフォーマンス・チューニン
 グへの入り口 -  \n  \n  \n    参加費 無料 \n  \n    \n    対
 象 \n    C または C++ 言語を使用してソフトウェアを開
 発されている方コードの高速化に興味のある方インテ
 ル® ソフトウェア開発製品、インテル® Parallel Studio XE 
 のご利用を始められたばかりの方、ご検討中の方、ご
 興味のある方\n     \n  \n  \n    会場 GoToWebinar (オンライ
 ン) \n  \n\n※ 当日予告なく時間配分・内容が変更にな
 る可能性がございます。\n登壇者\n\n竹田 賢人\nエクセ
 ルソフト株式会社\nセールスエンジニア\n参加対象\nC 
 または C++ 言語を使用してソフトウェアを開発されて
 いる方コードの高速化に興味のある方インテル® ソフ
 トウェア開発製品、インテル® Parallel Studio XE のご利用
 を始められたばかりの方、ご検討中の方、ご興味のあ
 る方\n持ち物\n本コースは、座学のみのコースです。ま
 たスライド資料は、セミナー開催後に電子データのダ
 ウンロード URL のみをご案内する予定です。\n参加費\n
 無料\n注意事項\n\nリクルーティング、勧誘など、採用
 目的でのイベント参加はお断りしております。\n飲食
 のみを目的としたご応募・ご来場はご遠慮ください。\
 nキャンセル待ち、補欠者の方は、ご来場いただいても
 ご入場いただくことが出来ませんのでご了承ください
 。\n欠席される場合は、お手数ですが速やかにキャン
 セル処理をお願い致します。\n無断キャンセルや欠席
 が続く場合、次回以降の参加をお断りさせていただく
 場合がございます。\n\n
LOCATION:オンライン
URL:https://techplay.jp/event/787918?utm_medium=referral&utm_source=ics&utm
 _campaign=ics
END:VEVENT
END:VCALENDAR
