BEGIN:VCALENDAR
VERSION:2.0
PRODID:-//https://techplay.jp//JP
CALSCALE:GREGORIAN
METHOD:PUBLISH
X-WR-CALDESC:【オンライン配信あり】札幌にて、「POWERS セ
 キュリティサミット2020 」開催決定！
X-WR-CALNAME:【オンライン配信あり】札幌にて、「POWERS セ
 キュリティサミット2020 」開催決定！
X-WR-TIMEZONE:Asia/Tokyo
BEGIN:VTIMEZONE
TZID:Asia/Tokyo
BEGIN:STANDARD
DTSTART:19700101T000000
TZOFFSETFROM:+0900
TZOFFSETTO:+0900
TZNAME:JST
END:STANDARD
END:VTIMEZONE
BEGIN:VEVENT
UID:788730@techplay.jp
SUMMARY:【オンライン配信あり】札幌にて、「POWERS セキュ
 リティサミット2020 」開催決定！
DTSTART;TZID=Asia/Tokyo:20200821T150000
DTEND;TZID=Asia/Tokyo:20200821T164000
DTSTAMP:20260420T173147Z
CREATED:20200805T051155Z
DESCRIPTION:イベント詳細はこちら\nhttps://techplay.jp/event/78873
 0?utm_medium=referral&utm_source=ics&utm_campaign=ics\n\n【オンライ
 ン配信あり】POWERSセキュリティサミット2020札幌\n概要\
 nテレワークが増える中で仕事のパフォーマンスを高め
 、個人や会社の成長に繋げることにフォーカスするビ
 ジネスの在り方が増えています。\n\nテレワークに伴い
 、セキュリティの担保が必要な現状において、UTM(統合
 脅威管理アプライアンス)を導入する事で、サイバー攻
 撃や情報漏えいの対策が可能です。しかしながら、UTM
 の導入はまだまだ価格が高く、そのための予算を大き
 く取れない企業が大半です。\n\nそのような課題を解決
 するためにも、手段を見直しませんか？\n\n最大300万円
 の国の補助金を活用することで、POWERSが補助金申請の
 手続き～導入までを支援いたします。セキュリティを
 見直し、サイバー攻撃の脅威から会社の大切な情報を
 守るために、本セミナーで情報収集しましょう。\n開
 催場所\n・オンライン\n・オフライン(札幌会場)\n　札
 幌会場「ACU-Y 小研修室Y0306」\n  〒060-0004 札幌市中央区
 北4条西4丁目読売北海道ビル3F\n\n　「JR札幌駅・地下鉄
 さっぽろ駅」 西コンコース南口から徒歩3分\n\n※どち
 らかをご選択ください。\n当日のスケジュール\n14:30~15:
 00\n◆受付\n\n15:00～15:05\n◆開会のご挨拶\n\n\n15:05～15:35
 　\n◆「現状におけるサイバー攻撃の脅威を理解し、
 対策を考える」\n(ウォッチガード・テクノロジー・ジ
 ャパン株式会社)\n\n新型コロナウイルス（COVID-19）の感
 染が世界的に拡大する中で、感染拡大のスピードを遅
 らせるために、多くの従業員がテレワークを余儀なく
 されています。\n\n感染予防対策を講じなければ瞬く間
 にウイルスの感染が拡がっていくように、デバイスも
 適切に保護しなければ、コンピュータウイルスが瞬く
 間に拡散していきます。\n\nウォッチガードでは、企業
 内だけでなく、テレワーク環境を安全に保護するため
 、VPNの標準装備に加え、Emotetなどのマルウェア対策や
 、フィッシング対策を実現いたします。\n \n\n15:35～16:0
 5\n◆「Microsoft 365でできるセキュリティ対策」\n(株式会
 社アイエスエフネット)\n\nすでに多くの企業が導入し
 ているMicrosoft 365(2020年4月以降、「Office 365」より名称
 変更)。基幹システムと連携させて利用するケースも多
 くあるはずです。では、そのセキュリティ面の対策は
 どうでしょうか？「Microsoft 365 を導入したはいいが、
 どのようなセキュリティ対策があるのか？必要なのか
 ？」など、頭を抱えるご担当者も多くいらっしゃいま
 す。\n\n今回のセミナーではMicrosoft 365 の導入を検討さ
 れている、または、導入後のセキュリティについてお
 悩みを抱えているご担当者さまを対象に、Microsoft 365 
 の機能や検討すべきセキュリティプラクティスについ
 てご説明します。\n\n\n16:05～16:35\n◆「テレワーク＆セ
 キュリティのお悩みを一発解決！今すぐできる補助金
 の有効活用」\n(日永インターナショナル株式会社)\n\n
 新型コロナウィルス感染防止対策で、多くの企業が急
 遽在宅勤務・テレワークを強いられることになったの
 ではないでしょうか？\n\nこの騒動で、むしろ会社のセ
 キュリティの問題点が浮き彫りになった企業が多かっ
 たようです。豊富な資金を投入して対策が難しい中小
 企業でも、今すぐ十分な対策を取ることができる必勝
 法があります。このセッションでは、テレワーク関連
 補助金の活用に知見を多く持つ講演者が、テレワーク
 環境や社内セキュリティの充実のために必要な「キモ
 」を示し、どのように補助金を活用して社内環境をレ
 ベルアップさせるか、具体的な方法をお教えいたしま
 す。\n\n \n16:35～16:40\n◆閉会のご挨拶\n\n ※セッション
 内容は状況により変更となる可能性がございます。\n\n
 参加対象\n情報システムに興味・関心をお持ちの、経
 営者、または企業のIT担当者\n\n※ リクルーティング、
 勧誘など、採用目的でのイベント参加はお断りしてお
 ります。  ※ 補欠者の方は、ご来場いただいてもご入
 場いただくことが出来ませんのでご了承ください。\n
 定員\n30名(先着順)\n\n・先着30名にて参加を打ち切りと
 させていただきます。\n・参加決定については、メー
 ルにて別途お知らせいたします。\n・参加が間に合わ
 なかったお客様には、第2回の開催予定について優先的
 にお知らせをいたします。\n\n※他媒体にて掲載してい
 るため、参加人数がすでに超えている場合、日程をご
 相談することがございます。\n持ち物\n名刺をご持参下
 さい。\n参加費\n無料\n\n「在宅勤務.jp」とは\n専門家企
 業集団・団体「POWERS」が、在宅勤務の導入企業を応援
 するためのWEBサイト「在宅勤務.jp」を立ち上げました
 。企業集団という特性を生かし、ITでお困りの企業の
 方へ、幅広い課題に対しての最適解をご準備しており
 ます。\n\n主催者情報：ICTインフラ・エンジニアリング
 パートナーズ POWERS（パワーズ）\n\n「POWERS」は、それ
 ぞれが様々な特徴を持つ専門家企業集団・団体として
 、2010年に発足。\n\n課題ごとに「POWERS」内でチームを
 作り、解決に向けた提案が可能。ネットワーク機器関
 連の設計・構築はもとより、日本全国・全世界を網羅
 する保守サポートやソフトウェアの開発、セキュリテ
 ィの専門家集団、さらには日本最大級の障害者雇用企
 業まで。案件毎のチームな為、身軽でコンパクト・プ
 ロの集団として、管理コストを大幅に抑えて課題解決
 を目指す。\n\n株式会社アイエスエフネット概要\n代表
 ：渡邉 幸義住所：東京都港区赤坂7-1-16オーク赤坂ビル
  3階設立：2000年1月12日アイエスエフネットは、約2\,000
 名のクラウド、サーバー、ネットワークセキュリティ
 などのITインフラエンジニアが在籍し、お客さまの導
 入する情報通信システムに対するニーズに合わせ、幅
 広いソリューションを展開するITインフラ企業です。
 日本全国19カ所の拠点に加え、中国、韓国、インドに
 も拠点を展開（2020年1月1日時点)。「人財育成会社」を
 企業ブランドとし、ITインフラエンジニアの育成に力
 を入れています。\n\n注意事項\nこのセミナーは、Zoomに
 よるリアルタイムWeb配信にてご提供します。 視聴URLは
 、開催前日にご登録のアドレス宛にメールでお知らせ
 します。\n\n※お申し込み後のキャンセルは、snd-sales@is
 fnet.comまでご連絡をお願いいたします。 \n※このセミ
 ナーの運営事務局を担当する、株式会社アイエスエフ
 ネットよりご連絡をいたしますので、ドメイン名（@isf
 net.com）からのメールを受信できるようにしてください
 。 お申し込み時にご記入いただいた電話番号に、セミ
 ナー当日、株式会社アイエスエフネットより、接続不
 良の方にご連絡させていただく場合があります。\n※
 講演者の企業と競合すると考えられる製品やサービス
 などをご提供される会社の方は、主催者の判断に基づ
 きご参加をお断りさせていただく場合がございますの
 で、あらかじめご了承ください。 \n※講演者の急病、
 天災その他の不可抗力、またはその他やむを得ない理
 由により、セミナーを中止する場合があります。この
 場合は、別途、主催者からご連絡させていただきます
 。 
LOCATION:オンライン
URL:https://techplay.jp/event/788730?utm_medium=referral&utm_source=ics&utm
 _campaign=ics
END:VEVENT
END:VCALENDAR
