BEGIN:VCALENDAR
VERSION:2.0
PRODID:-//https://techplay.jp//JP
CALSCALE:GREGORIAN
METHOD:PUBLISH
X-WR-CALDESC:【オンライン】〜え？！そんなものまでもら
 えるの？〜 フリーランスのための「ふるさと納税」を
 知ろう会
X-WR-CALNAME:【オンライン】〜え？！そんなものまでもら
 えるの？〜 フリーランスのための「ふるさと納税」を
 知ろう会
X-WR-TIMEZONE:Asia/Tokyo
BEGIN:VTIMEZONE
TZID:Asia/Tokyo
BEGIN:STANDARD
DTSTART:19700101T000000
TZOFFSETFROM:+0900
TZOFFSETTO:+0900
TZNAME:JST
END:STANDARD
END:VTIMEZONE
BEGIN:VEVENT
UID:788824@techplay.jp
SUMMARY:【オンライン】〜え？！そんなものまでもらえる
 の？〜 フリーランスのための「ふるさと納税」を知ろ
 う会
DTSTART;TZID=Asia/Tokyo:20200822T150000
DTEND;TZID=Asia/Tokyo:20200822T163000
DTSTAMP:20260420T183310Z
CREATED:20200805T142413Z
DESCRIPTION:イベント詳細はこちら\nhttps://techplay.jp/event/78882
 4?utm_medium=referral&utm_source=ics&utm_campaign=ics\n\nイベント概
 要\n「ふるさと納税」って聞いたことあるけど、よく
 分からない。\n本当にそのままで良いですか？\nもした
 った2\,000円で美味しいお肉やお魚、お酒や特産品、可
 愛いお皿やインテリア、旅行券がもらえたら、、、\n
 それが「ふるさと納税」なんです。\n「ふるさと納税
 」についてしっかり学んでいただき、その後は実際に
 「ふるさと納税」サイトで商品を見ながらワイワイ楽
 しみましょう！\nこんな方におすすめ\n・フリーランス
 として活動されている方\n・これからフリーランスに
 なる予定の方\n【会場】\nZOOM\n※ZOOMのURLは開催時間ま
 でにメッセージでお知らせいたします。\n参加費\n1000
 円\n目次\n・フリーランスの税金とは？\n・フリーラン
 スとサラリーマンの違いは？\n・「ふるさと納税」の
 しくみについて\n・どんな返礼品があるの？\n・「ふる
 さと納税」を始めよう\n受講する際は以下をお読み下
 さい\nこちらの講座はZOOMで行います。電波の良いとこ
 ろでお願いいたします。\nZOOMのURLは開催時間までにメ
 ッセージでお知らせいたします。\n講師\n合同会社ミラ
 イ・イノベーション\nhttps://mirai-innovation.co.jp/\n代表 小
 川拓真\nパートナー 大津元\n主催者\n一般社団法人ドッ
 トテック\n代表理事 坂井 秀教（さかい ひでのり）\nIT
 企業でのシステムエンジニア、パソコンスクールでの
 プログラム講師を経て、フリーランスとして独立。\n
 フリーランスでは、業務システム開発、Webサービス開
 発、スマホアプリ開発プロジェクトにおいてエンジニ
 ア業務、ディレクター業務を経験。\nその後、アクセ
 ンチュアに入社し、サーバエンジニアとして開発プロ
 ジェクトに参画。\n2017年12月にアクセンチュアを退職
 し、フリーランスを活用した仕組み作りの本格化に向
 け、一般社団法人ドットテックを2018年2月に設立。\n現
 在はフリーランスビレッジというサービスを展開し、
 フリーランス・パラレルワーカー・経営者などが所属
 するコミュニティ型プラットフォームを運営中。\n主
 催団体\n一般社団法人ドットテック\nhttps://www.freelance-vi
 llage.com/\n一般社団法人ドットテックでは、フリーラン
 スエンジニア・デザイナー、パラレルワーカー、経営
 者などが所属するコミュニティ型プラットフォーム「
 フリーランスビレッジ(略：フリビレ)」を運営してい
 ます。\nフリビレにはITを主軸にした様々な人材が、オ
 ンライン、オフラインの垣根を超えて交流し、相互扶
 助の精神のもと、必要に応じてお互いに助けあうこと
 が出来る環境を用意しております。\n案件の獲得、案
 件の発注、知識の共有などフリーランスが結束し団体
 になることで、大企業とほぼ対等な社会的信用を保持
 し、個人で受けることの難しい案件が受注できるため
 の仕組み作りを行っています。\nまた、個々に得意分
 野の仕事を続けながらも、お互いに知識を共有するこ
 とでスキルアップやスキルシェアを行うことが出来ま
 す。\n団体名：\n一般社団法人ドットテック\n団体のミ
 ッション：\nドットテックでは、個人が最も輝く働き
 方を選ぶことの出来る社会の実現を目指していきます
 。\n
LOCATION:ZOOM
URL:https://techplay.jp/event/788824?utm_medium=referral&utm_source=ics&utm
 _campaign=ics
END:VEVENT
END:VCALENDAR
