BEGIN:VCALENDAR
VERSION:2.0
PRODID:-//https://techplay.jp//JP
CALSCALE:GREGORIAN
METHOD:PUBLISH
X-WR-CALDESC:Tama.rb #22 coffee lounge
X-WR-CALNAME:Tama.rb #22 coffee lounge
X-WR-TIMEZONE:Asia/Tokyo
BEGIN:VTIMEZONE
TZID:Asia/Tokyo
BEGIN:STANDARD
DTSTART:19700101T000000
TZOFFSETFROM:+0900
TZOFFSETTO:+0900
TZNAME:JST
END:STANDARD
END:VTIMEZONE
BEGIN:VEVENT
UID:789248@techplay.jp
SUMMARY:Tama.rb #22 coffee lounge
DTSTART;TZID=Asia/Tokyo:20200823T140000
DTEND;TZID=Asia/Tokyo:20200823T160000
DTSTAMP:20260424T222822Z
CREATED:20200810T141038Z
DESCRIPTION:イベント詳細はこちら\nhttps://techplay.jp/event/78924
 8?utm_medium=referral&utm_source=ics&utm_campaign=ics\n\n2020/08/20 追
 記:\nSpatialChat有料化に伴い、使用ツールをSpatialChat→Dis
 cordへ変更しました\n概要\nTama.rb #22です。\n前回に引き
 続き、自宅でのんびりコーヒーでも飲みながら皆で集
 まって雑談するだけの回です。\nRubyの話や近況報告、
 相談などなど…  \n途中参加・途中退席も可です。  \n
 どなたでもお気軽にご参加ください。\nREADME\nオンライ
 ンビデオチャットサービス SpatialChatDiscordを利用します
 ので、各自PCをご用意ください。  \nSpatialChatの利用に
 あたっては、特にアカウント登録などは不要です。\nDi
 scord の利用にあたっては、事前にアカウントを作成し
 て頂く必要があります。\nアカウントをお待ちでない
 方は こちらにアクセス頂き、右上の「ログイン」ボタ
 ンから新規アカウント登録を行ってください。\n当日Ta
 ma.rb Slackにて案内するURLから入室下さい。  \n当日の連
 絡\n当日のコミュニケーションを円滑に行うことがで
 きるよう、参加者の方には事前にTama.rb Slackへの参加を
 お願いします。\nまた、Discordの招待URL自体も当日、Slac
 kの#generalチャンネルで共有しますのでご了承ください
 。\nまだ参加されてない方は こちらからどうぞ！\nそ
 の他お困りごとはSlackか、Twitterにて @fuqda までご連絡
 下さい\nアンチハラスメントポリシー\nTama.rbではアン
 チハラスメントポリシーを策定しています。\nイベン
 ト参加の前にご一読ください。\nTama.rb アンチハラスメ
 ントポリシー
LOCATION:オンライン オンライン
URL:https://techplay.jp/event/789248?utm_medium=referral&utm_source=ics&utm
 _campaign=ics
END:VEVENT
END:VCALENDAR
