BEGIN:VCALENDAR
VERSION:2.0
PRODID:-//https://techplay.jp//JP
CALSCALE:GREGORIAN
METHOD:PUBLISH
X-WR-CALDESC:【無料Webセミナー】Qlik Senseを使いこなす－ 202
 0年度リリースの新機能を総ざらい
X-WR-CALNAME:【無料Webセミナー】Qlik Senseを使いこなす－ 202
 0年度リリースの新機能を総ざらい
X-WR-TIMEZONE:Asia/Tokyo
BEGIN:VTIMEZONE
TZID:Asia/Tokyo
BEGIN:STANDARD
DTSTART:19700101T000000
TZOFFSETFROM:+0900
TZOFFSETTO:+0900
TZNAME:JST
END:STANDARD
END:VTIMEZONE
BEGIN:VEVENT
UID:789838@techplay.jp
SUMMARY:【無料Webセミナー】Qlik Senseを使いこなす－ 2020年
 度リリースの新機能を総ざらい
DTSTART;TZID=Asia/Tokyo:20201006T140000
DTEND;TZID=Asia/Tokyo:20201006T150000
DTSTAMP:20260421T201259Z
CREATED:20200817T040814Z
DESCRIPTION:イベント詳細はこちら\nhttps://techplay.jp/event/78983
 8?utm_medium=referral&utm_source=ics&utm_campaign=ics\n\n【無料Webセ
 ミナー】Qlik Senseを使いこなす－ 2020年度リリースの新
 機能を総ざらい\n概要\nQlik Senseは10週間に1度、1年に5回
 バージョンアップしています。2020年度も、February、Apri
 l、Juneとバージョンアップを重ね、さらにSeptemberとNovem
 berのリリースが予定されています。ユーザーの要望を
 反映した改善を行い、使いやすさも増しています。進
 化を続けるQlik Senseの強力な新機能を是非ご活用くださ
 い。\n本セミナーでは2020年度の新機能から主なものを
 ピックアップし、デモを交えてご説明します。\n\n新し
 く追加、強化されたビジュアライゼーション\n拡張知
 能の進化\nコラボレーション機能\n高度な編集機能\n地
 図機能　その他\n\n\n当日はチャットによるご質問もお
 付けします。\n参加対象\nQlik Sense、QlikViewを既にお使い
 のお客様、また利用をご検討頂いているユーザー様、
 データ分析にご興味がある方、Qlik製品をお取り扱い頂
 いているパートナー様など、どなたでもご参加いただ
 けます。お気軽にご参加ください。\nこれまでQlik Sense
 をご利用されたことのない方は、事前に下記よりQlik Se
 nse 入門ハンズオンWebセミナーをご利用いただいてご体
 験頂くと、さらに当セミナーの内容をご活用いただけ
 ます。Qlik Sense Business 入門 ハンズオン Web セミナー\n\n
 事前準備\nZoom（Web会議ツール）を使用します。あらか
 じめご利用のPCやタブレット、スマートフォンにイン
 ストールをお願いします。当セミナーのURLはお申込み
 いただいた方に、セミナー開催日前日までにお知らせ
 いたします。\n
LOCATION:オンライン
URL:https://techplay.jp/event/789838?utm_medium=referral&utm_source=ics&utm
 _campaign=ics
END:VEVENT
END:VCALENDAR
