BEGIN:VCALENDAR
VERSION:2.0
PRODID:-//https://techplay.jp//JP
CALSCALE:GREGORIAN
METHOD:PUBLISH
X-WR-CALDESC:【オンライン】成約率76.2%を実現する「即決ア
 ポイント術」
X-WR-CALNAME:【オンライン】成約率76.2%を実現する「即決ア
 ポイント術」
X-WR-TIMEZONE:Asia/Tokyo
BEGIN:VTIMEZONE
TZID:Asia/Tokyo
BEGIN:STANDARD
DTSTART:19700101T000000
TZOFFSETFROM:+0900
TZOFFSETTO:+0900
TZNAME:JST
END:STANDARD
END:VTIMEZONE
BEGIN:VEVENT
UID:790029@techplay.jp
SUMMARY:【オンライン】成約率76.2%を実現する「即決アポ
 イント術」
DTSTART;TZID=Asia/Tokyo:20200826T110000
DTEND;TZID=Asia/Tokyo:20200826T114500
DTSTAMP:20260420T053834Z
CREATED:20200818T063040Z
DESCRIPTION:イベント詳細はこちら\nhttps://techplay.jp/event/79002
 9?utm_medium=referral&utm_source=ics&utm_campaign=ics\n\n成約率76.2%
 を実現する「即決アポイント術」\n～断られても会い
 ましょうを3回言うべき理由～\n概要\n成約に繋がる商
 談アポイントを、多く獲得できる営業手法が「テレア
 ポ」です。\nそれは、コロナの影響により、オンライ
 ン商談が、主流になりつつある今でも、変わりありま
 せん。\nそこで、商談アポイントを獲得する具体的ノ
 ウハウについて、「営業即アポ」をはじめ、新規営業
 に関する著書を多数出版されている堀口 龍介氏（株式
 会社即決営業 代表取締役）を講師にお招きし、お伝え
 いたします。\n１つノウハウをご紹介すると、断られ
 ても、「会いましょう」を3回言うことです。\n何故、3
 回言うべきなのか、その理由や根拠は勿論のこと、そ
 れ以外のテレアポノウハウやアポ率を高める架電リス
 トについても、45分の無料オンラインセミナーでお伝
 えいたします。\n新規営業に悩まれている、力を入れ
 たいと考えている方、是非この機会にご高覧賜りたく
 お願い申し上げます。\n視聴方法\n開催日の前日を目安
 に登録アドレスにセミナー視聴用のURLをご案内します
 。\n当日はそちらのURLをクリックいただくことで視聴
 可能です。\n※本セミナーはzoomを用います。\nコンテ
 ンツ\n\n\n6万5026時間の会話分析でわかったこと\n\n\n3回
 の訴求で獲得率8.2倍になる\n\n\n科学的に正しい即アポ
 メソッド\n\n\nオンライン商談に繋げるために\n\n\nター
 ゲットで変わる営業効率\n\n\n100万社の企業サイトから
 のみ探す検索エンジン\n\n\n質疑応答\n\n\n講師\n堀口　
 龍介 氏\n株式会社即決営業　\n代表取締役\n\n【紹介文
 】\n22歳で営業を始めて20年間、即決にこだわる独自の
 メソッドで、81％以上の商談成約率をキープする。29歳
 で訪問販売の会社を設立。さらに2015年には株式会社即
 決営業を起こし、「営業を通じて、世界中の人々を笑
 顔に」という理念のもと、プルデンシャル生命をはじ
 め、有名企業や各商工会議所にて、年100回以上の研修
 やセミナーを行っている。著書に「【契約率76.2%】営
 業即アポ」「面白いほど、売れる魔法のセールストー
 ク」「1分で売る 最小の労力で成果を最大化させるAI時
 代の即決営業」「即決営業」等。\n完山　祐司\nエコノ
 ス株式会社　\n販売促進部　チーフマネージャー\n\n【
 紹介文】\n入社後、新規開拓を担当し、年間300社以上
 にリストの提案を行う。現在は販促部門の責任者とし
 て、セミナー企画や自社リード発掘を担当。また培っ
 た知識や経験をもとに、全国各地で年間50件以上のセ
 ミナーを行う。\n参加費\n無料\n
LOCATION:オンラインセミナー（ご自宅や職場のPC環境で視
 聴可能）
URL:https://techplay.jp/event/790029?utm_medium=referral&utm_source=ics&utm
 _campaign=ics
END:VEVENT
END:VCALENDAR
