BEGIN:VCALENDAR
VERSION:2.0
PRODID:-//https://techplay.jp//JP
CALSCALE:GREGORIAN
METHOD:PUBLISH
X-WR-CALDESC:【合格率94%】 日本ディープラーニング協会認
 定 E資格コース 無料オンライン説明会（動画）
X-WR-CALNAME:【合格率94%】 日本ディープラーニング協会認
 定 E資格コース 無料オンライン説明会（動画）
X-WR-TIMEZONE:Asia/Tokyo
BEGIN:VTIMEZONE
TZID:Asia/Tokyo
BEGIN:STANDARD
DTSTART:19700101T000000
TZOFFSETFROM:+0900
TZOFFSETTO:+0900
TZNAME:JST
END:STANDARD
END:VTIMEZONE
BEGIN:VEVENT
UID:790336@techplay.jp
SUMMARY:【合格率94%】 日本ディープラーニング協会認定 E
 資格コース 無料オンライン説明会（動画）
DTSTART;TZID=Asia/Tokyo:20200902T180000
DTEND;TZID=Asia/Tokyo:20200902T190000
DTSTAMP:20260423T153427Z
CREATED:20200821T025741Z
DESCRIPTION:イベント詳細はこちら\nhttps://techplay.jp/event/79033
 6?utm_medium=referral&utm_source=ics&utm_campaign=ics\n\n概要\n本イ
 ベントは、日本ディープラーニング協会認定プログラ
 ムの 「全人類がわかるE資格コース」 の説明会です。\
 n※現在ライブ配信はございません。リンク先の動画閲
 覧のみとなっております。\nE資格とは、日本ディープ
 ラーニング協会が認定する AIエンジニアの実力を証明
 する資格 です。\n資格取得には協会が認定したプログ
 ラムのいずれかを受ける必要があり、最新の試験にお
 いてAVILENは認定プログラムの中でも突出した 合格率94.
 4% を達成しました！\n\nなぜ高い合格率を達成すること
 ができたのか？\nE資格を取得することでどのようなメ
 リットがあるのか？\n本プログラムを受講するにあた
 って必要な前提知識は何か？\n実際のプログラムの流
 れはどのようなものなのか？\n\n本説明会ではそのよう
 な疑問にお答えしていきます。\nE資格試験の受験を考
 えている方やAIに携わる業務を行っている、もしくは
 行う予定のある方は、是非ご参加ください！\n\n下記URL
 より説明会動画をご視聴いただけます。\nhttps://youtu.be/
 FrFcs70VF88\n直接E資格対応の講座へのお申し込みをご希
 望の方は下記URLからよろしくお願いいたします。\nhttps
 ://avilen.co.jp/ai-engineer-course/\n説明会の流れ\n\nはじめに\n
 AVILENの紹介\n日本ディープラーニング協会(JDLA)認定プ
 ログラムの紹介\n講座概要\n講座の目的\nE資格取得まで
 の流れ\n基礎力確認テストについて\n講座カリキュラム
 \n卒業課題について\n修了テストについて\n合格に向け
 たサポート\n基礎復習講座について\n教材や講師紹介\n
 受講期間の学習サポート\nオンラインの受講サポート\n
 修了テストの再受験\n申し込み手順\n個別の質問対応\n\
 nこんな人にオススメ\n\n日本ディープラーニング協会(J
 DLA)のE資格試験の受験を検討している方\n深いレベルで
 ディープラーニングを理解したいと考えている方\nAIに
 携わる業務を行っている、もしくは行う予定のある方\
 n\nお問い合わせ\n\n本ページ右上の「イベントへのお問
 い合わせ」よりお問い合わせください。\nこちらで⇨LI
 NE＠からもお問い合わせいただけます。（推奨）\n\n注
 意事項\n\nリクルーティング、勧誘、採用活動など、目
 的に沿わない行為につきまして、主催者が相応しくな
 いと判断した場合は即刻退出処分とします。全員が気
 持ちよく過ごすことが出来るよう、ご協力をお願い致
 します。\n講座内で扱うコンテンツは全て「AVILEN」に
 帰属しています。複製はご遠慮ください。\n個人ブロ
 グへの講義コンテンツの掲載はご遠慮ください。\n\n株
 式会社AVILENとは\n株式会社AVILENは「テクノロジーをよ
 り多くの人に」というミッションを掲げAI領域に特化
 したビシネスを展開しています。社員のほとんどがデ
 ータサイエンティストで組織され、ディープラーニン
 グを用いた、アルゴリズムの開発や、データ活用コン
 サルティングを行っています。また、AI活用の現場で
 得た知見を、AI人材育成事業やAIメディア事業（AVILEN AI
  Trend）で世の中に広げる活動をしています。
LOCATION:オンライン
URL:https://techplay.jp/event/790336?utm_medium=referral&utm_source=ics&utm
 _campaign=ics
END:VEVENT
END:VCALENDAR
