BEGIN:VCALENDAR
VERSION:2.0
PRODID:-//https://techplay.jp//JP
CALSCALE:GREGORIAN
METHOD:PUBLISH
X-WR-CALDESC:※オンラインにて開催！【広告宣伝費を大き
 く掛けずに効果的に運用する】 9/23（水） 無料コンテ
 ンツマーケティング セミナー
X-WR-CALNAME:※オンラインにて開催！【広告宣伝費を大き
 く掛けずに効果的に運用する】 9/23（水） 無料コンテ
 ンツマーケティング セミナー
X-WR-TIMEZONE:Asia/Tokyo
BEGIN:VTIMEZONE
TZID:Asia/Tokyo
BEGIN:STANDARD
DTSTART:19700101T000000
TZOFFSETFROM:+0900
TZOFFSETTO:+0900
TZNAME:JST
END:STANDARD
END:VTIMEZONE
BEGIN:VEVENT
UID:790344@techplay.jp
SUMMARY:※オンラインにて開催！【広告宣伝費を大きく掛
 けずに効果的に運用する】 9/23（水） 無料コンテンツ
 マーケティング セミナー
DTSTART;TZID=Asia/Tokyo:20200923T150000
DTEND;TZID=Asia/Tokyo:20200923T170000
DTSTAMP:20260423T055349Z
CREATED:20200821T040259Z
DESCRIPTION:イベント詳細はこちら\nhttps://techplay.jp/event/79034
 4?utm_medium=referral&utm_source=ics&utm_campaign=ics\n\n※9月度につ
 きましては、13時開始ではなく15時開始になります。\n
 コンテンツマーケティングを基礎から分かりやすく学
 べるセミナー！\n概要\n※オンラインセミナーに変更に
 なりました！※\n\n御社の商品やサービスをバズらせた
 い・・・！こんなことにお困りではないですか？・自
 社製品を売りだして知名度を上げたいけど、どんな施
 策を打てばいいか分からない。・広告宣伝費をかけて
 広告を出しているけど、効果がいまひとつ...・低コス
 トで自社商品について多くの人に知ってもらいたい！
 ・コンテンツマーケティングを狙ったサイトは一度作
 ってみたけど、ほぼ全く効果がなかった。・コンテン
 ツマーケティングを実施した後、何をすればより良い
 コンテンツにしていけるか分からない。・コンテンツ
 マーケティングの効果が本当に出ているのか実感でき
 ていない。コンテンツマーケティングとは、ユーザー
 の求めている情報とマッチしたコンテンツを制作し、
 そのコンテンツを必要としているユーザーを呼び込み
 、記事の内容から御社のサービスや商品を認知してい
 ただくための施策です。\n■コンテンツマーケティン
 グセミナーの流れ■\n・コンテンツマーケティングは
 ブランディング化への第1歩・コンテンツマーケティン
 グを始める前に・・・・ゴールはどこに定める？流入
 数？それともコンバージョン？・ペルソナ・KPIの具体
 的な設定はとても大事・ユーザーの欲求は「○○が欲
 しい」＜＜＜「○○を知りたい」という瞬時のものが
 大半である・コンテンツマーケティングは量＜質が求
 められています。・SEO対策（検索エンジンの上位化）
 も重要です。最新の情報をチェック！・流入数UPだけ
 で満足していませんか？　等...\n\nタイムスケジュール
 \n\n\n\n時間\n内容\n\n\n15:00〜\n※オンラインにて開催！
 【広告宣伝費を大きく掛けずに効果的に運用する】 無
 料コンテンツマーケティング セミナー\n\n\n16:45〜17:00\n
 アンケート記述\n\n\n\n※ 当日予告なく時間配分・内容
 が変更になる可能性がございます。\n登壇者\n\n名取 雄
 介\n株式会社ディテイルクラウドクリエイティブ営業
 部　執行役員 \n\n\n山崎 純一　\n株式会社ディテイルク
 ラウドクリエイティブ営業部　チーフマネージャー\n \
 n参加対象\n・コンテンツマーケティングについて興味
 がある、または今後お取組みを検討されている方\n・
 既に実施をしているが、実施しているなかで何かしら
 のお悩みをお持ちの方\n持ち物\nなし\n参加費\n無料\n無
 料注意事項\n※ 参加を辞退する場合は、詳細ページよ
 り申込のキャンセルをお願い致します。※ 無断キャン
 セル・欠席が続く場合、次回以降の参加をお断りさせ
 ていただく場合がございますのでご了承ください。\n 
LOCATION:オンライン
URL:https://techplay.jp/event/790344?utm_medium=referral&utm_source=ics&utm
 _campaign=ics
END:VEVENT
END:VCALENDAR
