BEGIN:VCALENDAR
VERSION:2.0
PRODID:-//https://techplay.jp//JP
CALSCALE:GREGORIAN
METHOD:PUBLISH
X-WR-CALDESC:【オンライン開催！】Go初心者向けハンズオン
 ：DAY２ - Goで家計簿アプリを作ろう！-
X-WR-CALNAME:【オンライン開催！】Go初心者向けハンズオン
 ：DAY２ - Goで家計簿アプリを作ろう！-
X-WR-TIMEZONE:Asia/Tokyo
BEGIN:VTIMEZONE
TZID:Asia/Tokyo
BEGIN:STANDARD
DTSTART:19700101T000000
TZOFFSETFROM:+0900
TZOFFSETTO:+0900
TZNAME:JST
END:STANDARD
END:VTIMEZONE
BEGIN:VEVENT
UID:790958@techplay.jp
SUMMARY:【オンライン開催！】Go初心者向けハンズオン：DA
 Y２ - Goで家計簿アプリを作ろう！-
DTSTART;TZID=Asia/Tokyo:20201031T100000
DTEND;TZID=Asia/Tokyo:20201031T170000
DTSTAMP:20260421T015832Z
CREATED:20200826T082842Z
DESCRIPTION:イベント詳細はこちら\nhttps://techplay.jp/event/79095
 8?utm_medium=referral&utm_source=ics&utm_campaign=ics\n\n\n【DAY２】Go
 初心者向けハンズオン！〜Goで家計簿アプリを作ろう
 ！〜SENDAI X-TECH Innovation Project 2020-2021\n\n概要\nこのハン
 ズオンでは、Goの基本的な文法からGoを使ったWebアプリ
 の作り方まで学ぶことができます。 1つずつ丁寧に解
 説していきますので、Goを今までやったことが無い方
 でも参加いただけます。\n主に以下のような内容を扱
 います。\n\nGoの基本（文法、変数、関数、ユーザ定義
 型）\nコマンドラインツール（データの入出力）\nデー
 タベース（簡易的なもの）\nWebアプリケーション\n\n時
 間の関係上、以下の内容は扱いませんので予めご了承
 ください。\n\n各種エディタやIDEの設定\n並行処理（ゴ
 ールーチンとチャネル）\n抽象化とインタフェース\n\n
 〜家計簿アプリを作ろう〜\nDAY1【2020年9月26日（土）】
  コマンドラインツール編\n※DAY1へは別途、こちらから
 お申し込みが必要になります。\n\n\n\n時間\n内容\n\n\n\n\
 n10:00-10:05\nオープニング\n\n\n10:05-10:35\nハンズオンの説
 明\n\n\n10:35-11:05\nSTEP01: Goに触れる\n\n\n11:05-12:05\nSTEP02: 
 データの入力\n\n\n12:05-13:05\nお昼休憩\n\n\n13:05-14:05\nSTEP0
 3: データの記録\n\n\n14:05-15:05\nSTEP04: 複数データの記録\
 n\n\n15:05-16:05\nSTEP05: ファイルへの保存\n\n\n16:05-17:05\nSTEP
 06: ブラッシュアップ\n\n\n17:05-17:10\nエンディング\n\n\n17
 :10-17:40\n交流会\n\n\n\nDAY2 【2020年10月31日（土）】 Webア
 プリ編\n\n\n\n時間\n内容\n\n\n\n\n10:00-10:05\nオープニング\
 n\n\n10:05-11:05\nSTEP07: データベースへの記録\n\n\n11:05-12:05
 \nSTEP08: 品目ごとの集計\n\n\n12:05-13:05\nお昼休憩\n\n\n13:05
 -14:05\nSTEP09: 一覧ページの作成\n\n\n14:05-15:05\nSTEP10: 入力
 ページの作成\n\n\n15:05-16:05\nSTEP11: 集計ページの作成\n\n
 \n16:05-17:05\n改造タイム\n\n\n17:05-17:10\nエンディング\n\n\n
 17:10-17:40\n交流会（予定）\n\n\n\n※ 当日予告なく時間配
 分、内容が変更になる可能性がございます。\n参加対
 象\n\nGoに興味をお持ちの方\n他のプログラミング言語
 の学習経験がある方\nDAY1とDAY2、二日間ともご参加いた
 だくことをおすすめいたします。※DAY1への参加は、別
 途こちらからお申し込みが必要です。\n\n事前に準備い
 ただくもの・環境\n以下の環境がインストールされたPC
 をご用意ください。 環境設定でお困りの場合は、当日
 お尋ねください。\n■対象OS Goの開発環境がインストー
 ル済みであれば、どのOS（Windows\, Linux\, MacOS）でも構い
 ません。 講師はMacOSを使用して説明を行います。\n■Go
 の開発環境 Goの開発環境を公式ドキュメントを参考に
 インストールしてください。 公式ドキュメント：https:
 //golang.org/doc/install\nなお、MacOSの場合は、brewコマンド
 からもインストール可能（brew install go）です。 最新の
 Goのバージョンは1.15です。\n■IDEやエディタ GoLand、VSCo
 de、Vim、Emacs、Sublime Text、IntelliJ IDEA、Atomなどのエディ
 タやIDEがお使いいただけます。 とくにこだわりが無い
 方はVSCodeをお使いください。 当日は各種エディタの設
 定は行いませんので、予めエディタの設定等は済ませ
 ておいてください。\n参加費\n\n無料\n\n参加方法\n\nZoom
 での配信を予定しています\n当選者の方へは、前日ま
 でに参加方法のご案内をお送りいたします。※TECH PLAY
 登録のメールアドレスへお送りします。\n\n講師紹介\n\
 n\n\n\n上田 拓也  Twitter \n株式会社メルペイ エキスパー
 トチーム\nメルカリ／メルペイ所属。バックエンドエ
 ンジニアとして日々Goを書いている。 Go Conference主催者
 。golang.tokyo、Goビギナーズ、GCPUG Tokyo運営。 大学時代
 にGoに出会い、それ以来のめり込む。 社内外で自ら勉
 強会を開催し、Goの普及に取り組んでいる。 マスコッ
 トのGopherの絵を描くのも好き。人類をGopherにしたいと
 考えている。\n\n\n\n主催\n仙台市「SENDAI X-TECH Innovation Pr
 oject」とは\n仙台市をフィールドに、IoTやAI、VR/AR、5Gな
 どの先端技術とさまざまな産業との掛け合わせ（X-TECH
 ）による新事業の創出やそれをリードする先端IT人材
 の育成・交流により、テクノロジーの力でイノベーシ
 ョンを生み出し、都市の体験をアップデートしていく
 ことを目指すプロジェクトです。\n
LOCATION:オンライン
URL:https://techplay.jp/event/790958?utm_medium=referral&utm_source=ics&utm
 _campaign=ics
END:VEVENT
END:VCALENDAR
