BEGIN:VCALENDAR
VERSION:2.0
PRODID:-//https://techplay.jp//JP
CALSCALE:GREGORIAN
METHOD:PUBLISH
X-WR-CALDESC:現場を幸せにするデータ活用術 ～生産系デー
 タ活用の自社実践事例紹介～
X-WR-CALNAME:現場を幸せにするデータ活用術 ～生産系デー
 タ活用の自社実践事例紹介～
X-WR-TIMEZONE:Asia/Tokyo
BEGIN:VTIMEZONE
TZID:Asia/Tokyo
BEGIN:STANDARD
DTSTART:19700101T000000
TZOFFSETFROM:+0900
TZOFFSETTO:+0900
TZNAME:JST
END:STANDARD
END:VTIMEZONE
BEGIN:VEVENT
UID:791444@techplay.jp
SUMMARY:現場を幸せにするデータ活用術 ～生産系データ活
 用の自社実践事例紹介～
DTSTART;TZID=Asia/Tokyo:20200924T180000
DTEND;TZID=Asia/Tokyo:20200924T184000
DTSTAMP:20260421T023721Z
CREATED:20200831T093137Z
DESCRIPTION:イベント詳細はこちら\nhttps://techplay.jp/event/79144
 4?utm_medium=referral&utm_source=ics&utm_campaign=ics\n\nウェビナー
 概要　\n　データ活用はマーケティング、営業、経営
 企画など様々な場面で使われていますが、実はどのよ
 うな場面でも、データ活用における重要なポイントの
 一つは「現場との対話」であると言われています。今
 回はデータ活用の1例として、コニカミノルタが自社実
 践し、成果に繋がった生産データの活用事例について
 ご紹介いたします。\n　モノづくり大国 日本。この言
 葉が表すように、これまでの日本の経済を牽引してき
 たのは製造業といっても過言ではないでしょう。しか
 しながら、日本の製造業の現状は決して明るいもので
 はありません。人手不足、技能伝承問題、進まないIT
 活用・・・どの生産現場も同じような課題を抱えてい
 るのではないでしょうか。\n　コニカミノルタでは、
 自社の生産現場を変えるために、生産現場におけるデ
 ータ活用の取り組みを数多くおこなってまいりました
 。それらの経験の中で、データ活用を確実に進めてい
 くための「秘訣」を掴むことができました。日本の製
 造業を明るいものにするために、本セミナーでは、デ
 ータ活用事例を交えながら、我々の掴んだデータ活用
 の「秘訣」をお伝えさせていただきます。\n参加対象
 （こんな方におすすめです）\n・DXによる経営改革に乗
 り出している経営層の方\n・データ活用/DXをご担当さ
 れている経営企画部・IT企画部の方\n・生産現場の効率
 化や改善を任されている 現場の管理監督者やリーダー
 の方\n  ※同業他社の方のお申込みはお断りしておりま
 す。\n\n講師\n\nコニカミノルタ株式会社IoTサービスPF開
 発統括部データサービス技術部第2グループ\n\n藤原 浩
 一\n社内生産部門のデータ活用のリーダーとして全体
 を統括、マレーシア・中国などの海外拠点を含む弊社
 のほぼすべての生産拠点に対してデータ活用の展開を
 推進している。潜在ニーズを発掘するための行動観察
 やインタビューなど質的調査のスキルを保有。顧客を
 ”笑顔”にすることに拘り続けている。\n\n\n\nコニカ
 ミノルタ株式会社IoTサービスPF開発統括部データサー
 ビス技術部第2グループ\n\n里見 慎哉\n国内外の複数拠
 点において、約30の多様なデータ活用テーマをデータ
 サイエンティストとして推進、現場観察による課題発
 見から分析モデルのシステム運用までの実践経験を持
 つ。またデータサイエンス教育の企画開発、研修講師
 としても活動している。「現場の人を幸せにするデー
 タ分析」がモットー。\n参加費\n無料\n注意事項\n※ 参
 加を辞退する場合は、詳細ページより申込のキャンセ
 ルをお願い致します。※ご入力いただいたメールアド
 レス宛に、各種ご案内のメールをお送りさせていただ
 く場合があります。\n※ 本Webページは18:00-18:40 開催回
 のお申込みページとなります。 　同日開催の12:00-12:40 
 開催回のお申込みは下記よりお願い致します。(内容は
 同一です）\n 　12:00-12:40  https://techplay.jp/event/791439\n 
LOCATION:オンライン
URL:https://techplay.jp/event/791444?utm_medium=referral&utm_source=ics&utm
 _campaign=ics
END:VEVENT
END:VCALENDAR
