BEGIN:VCALENDAR
VERSION:2.0
PRODID:-//https://techplay.jp//JP
CALSCALE:GREGORIAN
METHOD:PUBLISH
X-WR-CALDESC:より良いテストへの一歩　〜 そのテスト設計
 ・計画、最適ですか？  〜
X-WR-CALNAME:より良いテストへの一歩　〜 そのテスト設計
 ・計画、最適ですか？  〜
X-WR-TIMEZONE:Asia/Tokyo
BEGIN:VTIMEZONE
TZID:Asia/Tokyo
BEGIN:STANDARD
DTSTART:19700101T000000
TZOFFSETFROM:+0900
TZOFFSETTO:+0900
TZNAME:JST
END:STANDARD
END:VTIMEZONE
BEGIN:VEVENT
UID:791473@techplay.jp
SUMMARY:より良いテストへの一歩　〜 そのテスト設計・計
 画、最適ですか？  〜
DTSTART;TZID=Asia/Tokyo:20200916T193000
DTEND;TZID=Asia/Tokyo:20200916T203000
DTSTAMP:20260425T132632Z
CREATED:20200831T141958Z
DESCRIPTION:イベント詳細はこちら\nhttps://techplay.jp/event/79147
 3?utm_medium=referral&utm_source=ics&utm_campaign=ics\n\nイベント説
 明\nVisionalにQA基盤推進室が発足して約2年。\nどのよう
 にQA基盤推進室のメンバー（テストエンジニア）が成
 長していったのか、どのようにScrumチームの中にテス
 トエンジニアが入り込んでいったのか、どのようにし
 て短い開発サイクルで開発者とテストエンジニアが協
 働していったのかをお伝えします。\n対象\n\nScrum開発
 の中でどのように品質を作り込んでいくのか興味があ
 る開発者・テストエンジニア\n開発者とテストエンジ
 ニアがどのように協働していくのか興味がある人\nVisio
 nalのQAチームに興味がある人\n\n開催概要\n\n日時:2020/09/
 16（水）19:30〜20:30（19:20開場）\n場所:オンライン開催
 （YouTube Liveでの配信を予定しています）\n参加費:無料\
 n\n発表内容\n発表1：テスト活動の納得感を持ってテス
 トケースを激減させた話\nとあるプロダクトに関わっ
 てから半年、様々な改善をしていきました。\n結果、
 検出する不具合数はほとんど変化がないまま、テスト
 ケース数を激減させることができました。\nどのよう
 な考えから取り組みを行い、このような結果を生み出
 すことができたのか、地道な改善策をいくつかお伝え
 する予定です。\n発表者：ブロッコリー\n株式会社ビズ
 リーチ所属。 2018年10月に転職し、QA基盤推進室に参画
 。\n前職からテストやQAに関わってきた経験を活かし、
 現在は如何に有効なテストを開発者に書いてもらうか
 指導・啓蒙している。\n認定スクラムマスター、認定
 スクラムデベロッパー\n社外活動としては、\n　・ソフ
 トウェアレビューシンポジウム(JaSST Review) 実行委員長\
 n　・WACATE（若手テストエンジニア向けワークショップ
 ）実行委員\nなど。\n発表2：いまさら聞けない、テス
 ト対象機種の選定方法（仮）\nテスト対象端末(スマホ
 ・タブレット・ガラケー・etc)を選定する際に、どのよ
 うに選定していますか？\n選定方法によっては、不具
 合を発見するには、あまり効果的ではない下記のよう
 なアプローチ(アンチパターン)も多々あります。\n今回
 は、自分なりに効果的と考える、プロジェクト・テス
 ト・品質保証のスコープに合わせた、テスト対象機種
 選定方法について、お話いたします。  \n◇アンチパタ
 ーン\n\n何が何でも、全機種（最大800機種！？）\n何と
 いっても、最新機種だけ\n分からないから、特定OSだけ
 \nとりあえず、手元にある機種だけ\netc\n\nくにお\n株式
 会社ビズリーチ所属。 2018年10月に転職し、QA基盤推進
 室に参画。\n前前前前前前前職からテストやQAに関わっ
 てきた経験を活かし、現在は、QA基盤推進室のマネー
 ジャとして、業務品質・生産性向上のために、プロダ
 クトQA＆プロセスQA業務に従事。\n社外活動としては、\
 n　・2008年から2010年まで、WACATE（若手テストエンジニ
 ア向けワークショップ）実行委員として活動\n　・全
 国の JaSST 等において、「キャリア」「ゲームテスト設
 計」「Web QA」をテーマに登壇 \nアジェンダ（仮）\n\n\n\
 n時間\n発表内容\n発表・登壇者\n\n\n\n\n19:20~19:30\n開場\n\
 n\n\n19:30~19:40\nオープニング\nブロッコリー\n\n\n19:40~20:10
 \n発表1:テスト活動の納得感を持ってテストケースを激
 減させた話\nブロッコリー\n\n\n20:10~20:15\n質疑応答\nブ
 ロッコリー\n\n\n20:15~20:30\n発表2:いまさら聞けない、テ
 スト対象機種の選定方法\nくにお\n\n\n20:30\nイベント終
 了\n\n\n\n\n※アジェンダは予告なく変更される場合がご
 ざいます。\n\n注意\n\nイベント発表時のスクリーンシ
 ョットを撮らせて頂く場合がございます。\nイベント
 キャンセルが多い方はこちらで参加をお断りさせてい
 ただく場合がございます。\n参加登録時に入力してい
 ただいた名前・メールアドレスは今後ビズリーチのイ
 ベント開催等おしらせに利用させていただきます。\n
 アンケート内容が適切ではない場合、キャンセルさせ
 て頂く場合がございます。\n\nご理解ご協力のほど、よ
 ろしくお願い致します。
LOCATION:オンライン開催 オンライン
URL:https://techplay.jp/event/791473?utm_medium=referral&utm_source=ics&utm
 _campaign=ics
END:VEVENT
END:VCALENDAR
