BEGIN:VCALENDAR
VERSION:2.0
PRODID:-//https://techplay.jp//JP
CALSCALE:GREGORIAN
METHOD:PUBLISH
X-WR-CALDESC:Tableau Certified Associate （中級）資格概要　勉強
 会 09/13（日）開催
X-WR-CALNAME:Tableau Certified Associate （中級）資格概要　勉強
 会 09/13（日）開催
X-WR-TIMEZONE:Asia/Tokyo
BEGIN:VTIMEZONE
TZID:Asia/Tokyo
BEGIN:STANDARD
DTSTART:19700101T000000
TZOFFSETFROM:+0900
TZOFFSETTO:+0900
TZNAME:JST
END:STANDARD
END:VTIMEZONE
BEGIN:VEVENT
UID:791612@techplay.jp
SUMMARY:Tableau Certified Associate （中級）資格概要　勉強会 09
 /13（日）開催
DTSTART;TZID=Asia/Tokyo:20200913T100000
DTEND;TZID=Asia/Tokyo:20200913T120000
DTSTAMP:20260421T103045Z
CREATED:20200901T115843Z
DESCRIPTION:イベント詳細はこちら\nhttps://techplay.jp/event/79161
 2?utm_medium=referral&utm_source=ics&utm_campaign=ics\n\nお申込み\n
 お申込みはこちらから（Peatixよりチケット申し込み黄
 色ボタンより）お願いいたします\n☞　https://peatix.com/e
 vent/1619470/view\n◆　コース内容・　Tableau Desktop Certified A
 ssociate 資格概要・　申し込みの仕方・　受験の心構え
 ・　練習問題を制限時間内に解く講師：　岩橋　智宏
 　日本IBMでデータベース基盤エンジニアとして活躍後
 、2016年Tableau Japanの参加。テクニカルサポートとして
 日本、アジア地域への技術サポートを行い、合計1500件
 以上のユーザー問題解決を実施。データビジュアライ
 ゼーションとデータサイエンスの融合を目指し、現在
 スプライングローバル社のコンサルタントとして組織
 のデータ活用推進に従事する。 著書：　Tableauで始め
 るデータサイエンス （秀和システム）共著　◆　こん
 な人にオススメTableau 資格を取得して、保持スキルを
 証明したい転職、就職に有利なスキルとしてLinkedIn等
 に資格を登録したいTableau資格試験を受験したいが、ど
 のようにしたらいいかわからない早く解けるコツが知
 りたい◆　参加前提条件Tableau Public またはTableau Desktop
 をインストールしているWindows PC または Macインターネ
 ットに接続できること◆　会場Zoomによるウェブミーテ
 ィングにより実施します。申し込みいただいた方にはZ
 oomのログイン・リンクを別途送付いたします。◆　関
 連講座Tableau 基礎の復習とともに資格試験を目指す全4
 回のコースもございます。Tableau Desktop Certified Associate
 （中級資格）取得・ブートキャンプ全4回少人数のグル
 ープワーク（オンライン）で、Tableauの基礎をおさらい
 しつつ、資格試験を念頭に置いた問題を実際に解いて
 いくため、講義を聞くだけではなく、問題を解くため
 の実践力、応用力が身につきます。参加メンバーで情
 報交換しつつ一緒に資格取得を目指します。・　第1回
  9/10（木）19:00-21:00 可視化の基礎・算式基礎おさらい
 、実践クイズ・　第2回 9/17（木）19:00-21:00 ダッシュボ
 ード・計算式基礎おさらい、実践クイズ・　第3回 9/24
 （木）19:00-21:00 地図・LODおさらい、パフォーマンス問
 題、実践クイズ・　第4回 10/1（木）19:00-21:00 Certified Ass
 ociate 受験の心構え、解き方のコツ、実践問題◆　スプ
 ライングローバル株式会社について2019年11月に創業し
 たデータ分析、AI活用、デジタルトランスフォーメー
 ションを支援するコンサルティング会社です。企業、
 法人向けに、Tableau をはじめ、Pythonを利用したデータ
 サイエンス、データ活用力向上のワークショップを開
 催しています。お気軽にお問合せ下さい。お問い合わ
 せ
LOCATION:Zoomオンライン
URL:https://techplay.jp/event/791612?utm_medium=referral&utm_source=ics&utm
 _campaign=ics
END:VEVENT
END:VCALENDAR
