BEGIN:VCALENDAR
VERSION:2.0
PRODID:-//https://techplay.jp//JP
CALSCALE:GREGORIAN
METHOD:PUBLISH
X-WR-CALDESC:Adobe XD Trail 部屋キャンプ！ Photoshop/Illustratorと
 連携する
X-WR-CALNAME:Adobe XD Trail 部屋キャンプ！ Photoshop/Illustratorと
 連携する
X-WR-TIMEZONE:Asia/Tokyo
BEGIN:VTIMEZONE
TZID:Asia/Tokyo
BEGIN:STANDARD
DTSTART:19700101T000000
TZOFFSETFROM:+0900
TZOFFSETTO:+0900
TZNAME:JST
END:STANDARD
END:VTIMEZONE
BEGIN:VEVENT
UID:791921@techplay.jp
SUMMARY:Adobe XD Trail 部屋キャンプ！ Photoshop/Illustratorと連携
 する
DTSTART;TZID=Asia/Tokyo:20200915T190000
DTEND;TZID=Asia/Tokyo:20200915T210000
DTSTAMP:20260425T205753Z
CREATED:20200903T061050Z
DESCRIPTION:イベント詳細はこちら\nhttps://techplay.jp/event/79192
 1?utm_medium=referral&utm_source=ics&utm_campaign=ics\n\nAdobe XD Trail 
 のオンラインイベント「XD Trail 部屋キャンプ」の第3回
 です。Adobe XD に興味があって、実際に簡単なデザイン
 作業をする機会が欲しい人を対象に、Photoshop & Illustrato
 rとXDの間でデザインを共有しながら作業を進める手順
 を紹介します。\n配信するURL：https://xdtrail.com/live\n【Ado
 be XD Trail 部屋キャンプ】の学び方\n\n\n生徒役がいます\
 n参加者代表として、生徒役がAdobe XDを使って課題を進
 める様子が配信されます。ひとりで課題に取り組むの
 が不安な人は、それを見て使い方を学びましょう。\n\n
 \nサポーターがいます\n見ていて分からないことがあっ
 たら、その場で配信ページのQ&Aパネルに質問しましょ
 う。サポーターが順次回答します。ワークショップの
 途中に何回かQ&Aタイムも設けられます。\n\n\nワークシ
 ョップキットがあります\n学習用の素材と詳細な手順
 書が提供されます。ダウンロードして、自習、復習、
 勉強会などに活用してください。\n\n\nまとめページが
 公開されます\n当日配信した動画、セッション中のQ&A
 などをまとめたページを後日公開します。時間がある
 ときに自分のペースでゆっくりと復習しましょう。\n\n
 \n\n参加するための準備\n以下の環境を用意します。\n\n
 最新版の Adobe XD がインストールされた PC\nインターネ
 ット接続\n（オプション）最新版のAdobe XD (iOS\,  Android) 
 がインストールされたスマートフォンと、PCと接続す
 るUSBケーブル\n\n※ Adobe XD を全く操作したことが無い
 方は、事前に Adobe XD スターターキットをダウンロード
 して完了しておくことをオススメします。XDの基本操
 作を紹介した第1回のワークショップ「基本の操作を学
 ぶ」もご覧ください。\nワークショップの内容\nまずXD
 のアセット管理機能を確認し、次に、PhotoshopやIlllustrat
 orで作成したデザインアセットを共有しながら作業す
 る手順を紹介します。\n全部で4つのトピックから構成
 され、各トピックは「講師からの説明」「課題の制作
 」「Q&Aタイム」から構成されます。各トピックの間に
 は5分程度の休憩があります。\nトピック\n\n\n\n#\nトピ
 ック\n内容\n\n\n\n\n1\nXDが扱えるデータおよびアセット
 管理\nXDが提供するアセット管理機能の基本的な使い方
 を学びます。\n\n\n2\nPSDデータの活用\nPhotoshopドキュメ
 ントやビットマップ画像の活用方法を紹介します。\n\n
 \n3\nベクターデータの活用\nIllustratorとの連携を中心に
 、ベクターデータの扱い方を紹介します。\n\n\n4\nその
 他の連携\nPhotoshop/Illlustratorとの連携方法をさらに詳し
 く紹介します。\n\n\n\n※内容は予告なく変更する場合
 があります\n\n\nスタッフ\n【講師】\n轟 啓介（アドビ
 ）\n【生徒】\n透子\n【テクニカルサポーター】\n湯口 
 りさ（XDUG東京 / Adobe Community Evangelist）
LOCATION:XD Trail オンライン
URL:https://techplay.jp/event/791921?utm_medium=referral&utm_source=ics&utm
 _campaign=ics
END:VEVENT
END:VCALENDAR
